PDS_VERSION_ID = PDS3
/* FILE DATA ELEMENTS */
RECORD_TYPE = STREAM
/* POINTERS TO DATA OBJECTS */
^COMPRESSED_FILE = "HD699_0000_S13.JP2"
/* IDENTIFICATION DATA ELEMENTS */
DATA_SET_ID = "MEX-M-HRSC-5-REFDR-MAPPROJECTED-V3.0"
DATA_SET_NAME = "MARS EXPRESS HRSC MAP PROJECTED REFDR V3.0"
DETECTOR_ID = MEX_HRSC_S1
EVENT_TYPE = "MARS-LOCAL-STEREO-Eb-La-Tc"
INSTRUMENT_HOST_ID = MEX
INSTRUMENT_HOST_NAME = "MARS EXPRESS"
INSTRUMENT_ID = HRSC
INSTRUMENT_NAME = "HIGH RESOLUTION STEREO CAMERA"
MISSION_NAME = "MARS EXPRESS"
MISSION_PHASE_NAME = ME_Phase_31
PROCESSING_LEVEL_ID = 3
PRODUCT_CREATION_TIME = 2016-10-29T11:58:31.000Z
PRODUCT_ID = "HD699_0000_S13.JP2"
RELEASE_ID = 0125
REVISION_ID = 0000
/* QUALITY DATA ELEMENTS */
DATA_QUALITY_ID = 1
DATA_QUALITY_DESC = "Data calculated based on original SPICE kernels"
/* TIME DATA ELEMENTS */
SPACECRAFT_CLOCK_START_COUNT = "1/0361571385.07299"
SPACECRAFT_CLOCK_STOP_COUNT = "1/0361571594.22993"
START_TIME = 2014-10-16T20:29:50.899Z
STOP_TIME = 2014-10-16T20:31:41.498Z
/* ORBITAL DATA ELEMENTS */
ASCENDING_NODE_LONGITUDE = 316.52
MAXIMUM_RESOLUTION = 35
FOOTPRINT_POINT_LATITUDE = (25.5504,25.5477,25.5444,25.5403, 25.5355,25.53,25.4376,25.2328,24.9613, 24.7647,24.6265,24.4904,24.3531,24.1466 ,23.9398,23.8011,23.6618,23.4522, 23.3142,23.1053,22.9655,22.8218,22.6103 ,22.3972,22.2548,22.0443,21.8348, 21.6919,21.4787,21.2627,21.0427,20.8233 ,20.6754,20.5297,20.3841,20.2384, 20.0927,19.8736,19.7277,19.5782,19.4281 ,19.2789,19.1291,18.9801,18.8312,18.604 ,18.4522,18.3451,18.3511,18.3515, 18.3538,18.3533,18.3565,18.3564,18.4316 ,18.6606,18.8129,18.9629,19.1882, 19.4127,19.5622,19.7833,19.9315,20.0802 ,20.2248,20.3626,20.5092,20.656,20.8009 ,20.9504,21.1066,21.2532,21.3952,21.537 ,21.6796,21.8935,22.0364,22.1795, 22.3233,22.5372,22.6766,22.8126,22.9507 ,23.0903,23.3017,23.443,23.582,23.7225, 23.862,24.0031,24.139,24.276,24.4113, 24.6174,24.7555,24.8922,25.0291,25.1634 ,25.2992,25.5504)
FOOTPRINT_POINT_LONGITUDE = (75.7261,75.481,75.2353,74.9888,74.742, 74.4943,74.1867,74.186,74.1857,74.1883, 74.1869,74.1863,74.1852,74.1832,74.1818 ,74.1814,74.1807,74.1792,74.1789, 74.1776,74.1764,74.1734,74.1707,74.1687 ,74.1676,74.1672,74.167,74.1655,74.1636 ,74.1603,74.1567,74.1539,74.1513, 74.1496,74.1479,74.146,74.1441,74.1415, 74.1408,74.1385,74.1359,74.1336,74.131, 74.1286,74.1263,74.1225,74.1201,74.2527 ,74.5218,74.722,74.889,75.0723,75.3722, 75.5882,75.843,75.8417,75.8406,75.8396, 75.8379,75.8365,75.8355,75.8347,75.8341 ,75.8327,75.8321,75.8329,75.8318, 75.8307,75.83,75.8284,75.8252,75.8239, 75.8231,75.8223,75.8214,75.82,75.819, 75.8179,75.8167,75.8152,75.8144,75.8141 ,75.8134,75.8123,75.8103,75.8088, 75.8078,75.8065,75.8055,75.8041,75.8032 ,75.8019,75.801,75.7989,75.7974,75.7961 ,75.7948,75.794,75.793,75.7261)
ORBIT_NUMBER = 13699
ORBITAL_ECCENTRICITY = 0.574
ORBITAL_INCLINATION = 86.92
ORBITAL_SEMIMAJOR_AXIS = 8815.39
PERIAPSIS_ALTITUDE = 369.96
PERIAPSIS_ARGUMENT_ANGLE = 136.94
PERIAPSIS_TIME = 2014-10-16T20:25:55.000Z
SPACECRAFT_ORIENTATION = (0.0,-1.0,0.0)
^MEX_ORIENTATION_DESC = "MEX_ORIENTATION_DESC.TXT"
SPACECRAFT_POINTING_MODE = ACROSSTRACK
^MEX_POINTING_DESC = "MEX_POINTING_DESC.TXT"
RIGHT_ASCENSION = -1e+32
DECLINATION = -1e+32
OFFSET_ANGLE = -0.25
SPACECRAFT_SOLAR_DISTANCE = 2.09963e+08
TARGET_NAME = MARS
/* CAMERA DATA ELEMENTS */
DETECTOR_TEMPERATURE = 18.5744
FOCAL_PLANE_TEMPERATURE = 9.195
INST_CMPRS_NAME = "DISCRETE COSINE TRANSFORMATION (DCT)"
INST_CMPRS_RATIO = 9.85501
INST_CMPRS_QUALITY = 0
INST_CMPRS_QUANTZ_TBL_ID = 0
INSTRUMENT_TEMPERATURE = 12.0496
LENS_TEMPERATURE = 9.6028
MACROPIXEL_SIZE = 2
MISSING_FRAMES = 0
PIXEL_SUBSAMPLING_FLAG = N
SIGNAL_CHAIN_ID = 1
/* RADIOMETRIC DATA ELEMENTS */
BANDWIDTH = 180.0
CENTER_FILTER_WAVELENGTH = 677.0
RADIANCE_OFFSET = 3.83907
RADIANCE_SCALING_FACTOR = 0.0134564
REFLECTANCE_SCALING_FACTOR = 0.000309495
MEX:REFLECTANCE_OFFSET = 0.088298
/* IMAGE OBJECT DEFINITIONS */
OBJECT = IMAGE
  INTERCHANGE_FORMAT = BINARY
  LINES = 17027
  LINE_SAMPLES = 4261
  SAMPLE_TYPE = UNSIGNED_INTEGER
  SAMPLE_BITS = 8
  BANDS = 1
  BAND_STORAGE_TYPE = BAND_SEQUENTIAL
  MAXIMUM = 255
  MEAN = 80.7794
  MINIMUM = 1
  STANDARD_DEVIATION = 34.9242
END_OBJECT = IMAGE
/* MAP OBJECT DEFINITIONS */
OBJECT = IMAGE_MAP_PROJECTION
  ^DATA_SET_MAP_PROJECTION_CATALOG= "DSMAP.CAT"
  A_AXIS_RADIUS = 3396.0
  B_AXIS_RADIUS = 3396.0
  C_AXIS_RADIUS = 3396.0
  CENTER_LATITUDE = 0.0
  CENTER_LONGITUDE = 75.0
  COORDINATE_SYSTEM_NAME = PLANETOGRAPHIC
  COORDINATE_SYSTEM_TYPE = "BODY-FIXED ROTATING"
  EASTERNMOST_LONGITUDE = 75.843
  FIRST_STANDARD_PARALLEL = "N/A"
  LINE_FIRST_PIXEL = 1
  LINE_LAST_PIXEL = 17027
  LINE_PROJECTION_OFFSET = 60515.75
  MAP_PROJECTION_ROTATION = 0.0
  MAP_PROJECTION_TYPE = SINUSOIDAL
  MAP_RESOLUTION = 2370.85521546667
  MAP_SCALE = 0.025
  MAXIMUM_LATITUDE = 25.5504
  MINIMUM_LATITUDE = 18.3451
  POSITIVE_LONGITUDE_DIRECTION = EAST
  REFERENCE_LATITUDE = "N/A"
  REFERENCE_LONGITUDE = "N/A"
  SAMPLE_FIRST_PIXEL = 1
  SAMPLE_LAST_PIXEL = 4261
  SAMPLE_PROJECTION_OFFSET = 2205.25
  SECOND_STANDARD_PARALLEL = "N/A"
  WESTERNMOST_LONGITUDE = 74.12009999999999
END_OBJECT = IMAGE_MAP_PROJECTION
/* The JPEG2000 image data file associated with this label. */
OBJECT = COMPRESSED_FILE
  FILE_NAME = "HD699_0000_S13.JP2"
  RECORD_TYPE = UNDEFINED
  FILE_RECORDS = UNK
  ENCODING_TYPE = "JP2"
  INTERCHANGE_FORMAT = BINARY
  UNCOMPRESSED_FILE_NAME = "HD699_0000_S13.IMG"
  REQUIRED_STORAGE_BYTES = "72577613"
  ^DESCRIPTION = "JP2INFO.TXT"
END_OBJECT = COMPRESSED_FILE
END
