PDS_VERSION_ID = PDS3
/* FILE DATA ELEMENTS */
RECORD_TYPE = STREAM
/* POINTERS TO DATA OBJECTS */
^COMPRESSED_FILE = "HD699_0000_S23.JP2"
/* IDENTIFICATION DATA ELEMENTS */
DATA_SET_ID = "MEX-M-HRSC-5-REFDR-MAPPROJECTED-V3.0"
DATA_SET_NAME = "MARS EXPRESS HRSC MAP PROJECTED REFDR V3.0"
DETECTOR_ID = MEX_HRSC_S2
EVENT_TYPE = "MARS-LOCAL-STEREO-Eb-La-Tc"
INSTRUMENT_HOST_ID = MEX
INSTRUMENT_HOST_NAME = "MARS EXPRESS"
INSTRUMENT_ID = HRSC
INSTRUMENT_NAME = "HIGH RESOLUTION STEREO CAMERA"
MISSION_NAME = "MARS EXPRESS"
MISSION_PHASE_NAME = ME_Phase_31
PROCESSING_LEVEL_ID = 3
PRODUCT_CREATION_TIME = 2016-10-29T11:58:31.000Z
PRODUCT_ID = "HD699_0000_S23.JP2"
RELEASE_ID = 0125
REVISION_ID = 0000
/* QUALITY DATA ELEMENTS */
DATA_QUALITY_ID = 1
DATA_QUALITY_DESC = "Data calculated based on original SPICE kernels"
/* TIME DATA ELEMENTS */
SPACECRAFT_CLOCK_START_COUNT = "1/0361571385.07299"
SPACECRAFT_CLOCK_STOP_COUNT = "1/0361571594.22993"
START_TIME = 2014-10-16T20:31:12.011Z
STOP_TIME = 2014-10-16T20:33:18.101Z
/* ORBITAL DATA ELEMENTS */
ASCENDING_NODE_LONGITUDE = 316.52
MAXIMUM_RESOLUTION = 38.4
FOOTPRINT_POINT_LATITUDE = (25.4825,25.4859,25.4893,25.4926,25.496 ,25.4992,25.3859,25.1829,25.0477, 24.8379,24.6984,24.4274,24.1579,23.9489 ,23.8098,23.6714,23.5339,23.3984, 23.2581,23.0507,22.9091,22.7016,22.563, 22.4239,22.284,22.1412,21.9933,21.777, 21.6393,21.4949,21.3501,21.206,21.0652, 20.9186,20.7736,20.5609,20.3424,20.1954 ,20.0489,19.9022,19.7559,19.6059, 19.3815,19.1579,19.0123,18.7876,18.6372 ,18.3732,18.3667,18.3608,18.3581, 18.3537,18.3517,18.3399,18.3421,18.4141 ,18.566,18.7161,18.8671,19.0152,19.162, 19.385,19.5338,19.7574,19.909,20.0555, 20.1994,20.3545,20.5023,20.6464,20.8613 ,20.9992,21.144,21.2828,21.4264,21.6419 ,21.7851,21.9997,22.1426,22.2839, 22.4239,22.5641,22.7753,22.9184,23.0641 ,23.2049,23.3427,23.4794,23.6177,23.756 ,23.8947,24.0335,24.1728,24.4424, 24.7142,24.9189,25.0556,25.194,25.4591, 25.4825)
FOOTPRINT_POINT_LONGITUDE = (75.6277,75.3583,75.0882,74.8176, 74.5462,74.2737,74.105,74.104,74.1023, 74.1028,74.103,74.0999,74.0961,74.0943, 74.0931,74.0915,74.0896,74.0868,74.0861 ,74.0825,74.081,74.0768,74.0741,74.0716 ,74.0695,74.0677,74.0676,74.0653,74.061 ,74.0595,74.0583,74.0555,74.0513, 74.0495,74.0471,74.0416,74.037,74.0343, 74.0313,74.0285,74.0255,74.0232,74.0189 ,74.0143,74.01,74.0049,74.0012,74.0516, 74.2634,74.5123,74.7217,74.9311,75.1212 ,75.5007,75.805,75.9621,75.9604,75.9582 ,75.9562,75.9541,75.9518,75.9488, 75.9468,75.9443,75.9436,75.9416,75.9389 ,75.9389,75.9372,75.9353,75.9319, 75.9284,75.9264,75.923,75.9212,75.9188, 75.9171,75.9143,75.9123,75.9104,75.9084 ,75.9065,75.9037,75.9023,75.9015, 75.8997,75.8978,75.8955,75.8936,75.8916 ,75.8897,75.8877,75.886,75.8816,75.8776 ,75.8747,75.8727,75.8711,75.8665, 75.6277)
ORBIT_NUMBER = 13699
ORBITAL_ECCENTRICITY = 0.574
ORBITAL_INCLINATION = 86.92
ORBITAL_SEMIMAJOR_AXIS = 8815.39
PERIAPSIS_ALTITUDE = 369.96
PERIAPSIS_ARGUMENT_ANGLE = 136.94
PERIAPSIS_TIME = 2014-10-16T20:25:55.000Z
SPACECRAFT_ORIENTATION = (0.0,-1.0,0.0)
^MEX_ORIENTATION_DESC = "MEX_ORIENTATION_DESC.TXT"
SPACECRAFT_POINTING_MODE = ACROSSTRACK
^MEX_POINTING_DESC = "MEX_POINTING_DESC.TXT"
RIGHT_ASCENSION = -1e+32
DECLINATION = -1e+32
OFFSET_ANGLE = -0.25
SPACECRAFT_SOLAR_DISTANCE = 2.09963e+08
TARGET_NAME = MARS
/* CAMERA DATA ELEMENTS */
DETECTOR_TEMPERATURE = 19.1861
FOCAL_PLANE_TEMPERATURE = 9.195
INST_CMPRS_NAME = "DISCRETE COSINE TRANSFORMATION (DCT)"
INST_CMPRS_RATIO = 11.5979
INST_CMPRS_QUALITY = 0
INST_CMPRS_QUANTZ_TBL_ID = 0
INSTRUMENT_TEMPERATURE = 12.0496
LENS_TEMPERATURE = 9.6028
MACROPIXEL_SIZE = 2
MISSING_FRAMES = 0
PIXEL_SUBSAMPLING_FLAG = N
SIGNAL_CHAIN_ID = 1
/* RADIOMETRIC DATA ELEMENTS */
BANDWIDTH = 178.0
CENTER_FILTER_WAVELENGTH = 679.0
RADIANCE_OFFSET = 3.57914
RADIANCE_SCALING_FACTOR = 0.0124617
REFLECTANCE_SCALING_FACTOR = 0.000290931
MEX:REFLECTANCE_OFFSET = 0.0835584
/* IMAGE OBJECT DEFINITIONS */
OBJECT = IMAGE
  INTERCHANGE_FORMAT = BINARY
  LINES = 17027
  LINE_SAMPLES = 4261
  SAMPLE_TYPE = UNSIGNED_INTEGER
  SAMPLE_BITS = 8
  BANDS = 1
  BAND_STORAGE_TYPE = BAND_SEQUENTIAL
  MAXIMUM = 255
  MEAN = 80.3913
  MINIMUM = 1
  STANDARD_DEVIATION = 36.3794
END_OBJECT = IMAGE
/* MAP OBJECT DEFINITIONS */
OBJECT = IMAGE_MAP_PROJECTION
  ^DATA_SET_MAP_PROJECTION_CATALOG= "DSMAP.CAT"
  A_AXIS_RADIUS = 3396.0
  B_AXIS_RADIUS = 3396.0
  C_AXIS_RADIUS = 3396.0
  CENTER_LATITUDE = 0.0
  CENTER_LONGITUDE = 75.0
  COORDINATE_SYSTEM_NAME = PLANETOGRAPHIC
  COORDINATE_SYSTEM_TYPE = "BODY-FIXED ROTATING"
  EASTERNMOST_LONGITUDE = 75.96210000000001
  FIRST_STANDARD_PARALLEL = "N/A"
  LINE_FIRST_PIXEL = 1
  LINE_LAST_PIXEL = 17027
  LINE_PROJECTION_OFFSET = 60515.75
  MAP_PROJECTION_ROTATION = 0.0
  MAP_PROJECTION_TYPE = SINUSOIDAL
  MAP_RESOLUTION = 2370.85521546667
  MAP_SCALE = 0.025
  MAXIMUM_LATITUDE = 25.4992
  MINIMUM_LATITUDE = 18.3399
  POSITIVE_LONGITUDE_DIRECTION = EAST
  REFERENCE_LATITUDE = "N/A"
  REFERENCE_LONGITUDE = "N/A"
  SAMPLE_FIRST_PIXEL = 1
  SAMPLE_LAST_PIXEL = 4261
  SAMPLE_PROJECTION_OFFSET = 2205.25
  SECOND_STANDARD_PARALLEL = "N/A"
  WESTERNMOST_LONGITUDE = 74.0012
END_OBJECT = IMAGE_MAP_PROJECTION
/* The JPEG2000 image data file associated with this label. */
OBJECT = COMPRESSED_FILE
  FILE_NAME = "HD699_0000_S23.JP2"
  RECORD_TYPE = UNDEFINED
  FILE_RECORDS = UNK
  ENCODING_TYPE = "JP2"
  INTERCHANGE_FORMAT = BINARY
  UNCOMPRESSED_FILE_NAME = "HD699_0000_S23.IMG"
  REQUIRED_STORAGE_BYTES = "72577613"
  ^DESCRIPTION = "JP2INFO.TXT"
END_OBJECT = COMPRESSED_FILE
END
