PDS_VERSION_ID = PDS3
/* FILE DATA ELEMENTS */
RECORD_TYPE = STREAM
/* POINTERS TO DATA OBJECTS */
^COMPRESSED_FILE = "HD701_0009_P23.JP2"
/* IDENTIFICATION DATA ELEMENTS */
DATA_SET_ID = "MEX-M-HRSC-5-REFDR-MAPPROJECTED-V3.0"
DATA_SET_NAME = "MARS EXPRESS HRSC MAP PROJECTED REFDR V3.0"
DETECTOR_ID = MEX_HRSC_P2
EVENT_TYPE = "MARS-REGIONAL-STEREO-Te"
INSTRUMENT_HOST_ID = MEX
INSTRUMENT_HOST_NAME = "MARS EXPRESS"
INSTRUMENT_ID = HRSC
INSTRUMENT_NAME = "HIGH RESOLUTION STEREO CAMERA"
MISSION_NAME = "MARS EXPRESS"
MISSION_PHASE_NAME = ME_Phase_31
PROCESSING_LEVEL_ID = 3
PRODUCT_CREATION_TIME = 2016-10-29T17:34:02.000Z
PRODUCT_ID = "HD701_0009_P23.JP2"
RELEASE_ID = 0126
REVISION_ID = 0000
/* QUALITY DATA ELEMENTS */
DATA_QUALITY_ID = 1
DATA_QUALITY_DESC = "Data calculated based on original SPICE kernels"
/* TIME DATA ELEMENTS */
SPACECRAFT_CLOCK_START_COUNT = "1/0361621486.09068"
SPACECRAFT_CLOCK_STOP_COUNT = "1/0361621687.10766"
START_TIME = 2014-10-17T10:25:48.086Z
STOP_TIME = 2014-10-17T10:27:57.912Z
/* ORBITAL DATA ELEMENTS */
ASCENDING_NODE_LONGITUDE = 316.49
MAXIMUM_RESOLUTION = 30.7
FOOTPRINT_POINT_LATITUDE = (40.9199,40.9199,40.9195,40.9187, 40.9175,40.9158,40.9137,40.6194,40.4543 ,40.2891,40.1241,39.9591,39.7941, 39.6292,39.4644,39.2998,39.135,38.8883, 38.7243,38.4773,38.3121,38.0644,37.7395 ,37.492,37.3261,37.0821,36.9175,36.7553 ,36.5123,36.3451,36.1782,36.0129, 35.8503,35.6098,35.4486,35.2863,35.1243 ,34.9621,34.8001,34.6385,34.477,34.3149 ,34.1534,33.9111,33.5085,33.2673, 33.0262,32.7866,32.7615,32.7598,32.7561 ,32.7548,32.7528,32.7497,32.8281, 33.0699,33.2313,33.4735,33.6352,33.7971 ,33.959,34.1211,34.2834,34.4457,34.6891 ,34.8515,35.0142,35.1769,35.3396, 35.5026,35.6652,35.8287,35.9919,36.1551 ,36.3183,36.4817,36.6456,36.8098, 36.9735,37.2196,37.4658,37.63,37.8765, 38.0409,38.2055,38.3701,38.5346,38.6994 ,38.9464,39.1114,39.2766,39.4418, 39.6071,39.7724,40.0207,40.1863,40.3516 ,40.517,40.6826,40.9199)
FOOTPRINT_POINT_LONGITUDE = (230.436,230.175,229.913,229.648, 229.382,229.113,228.841,228.807,228.816 ,228.825,228.834,228.843,228.851,228.86 ,228.868,228.877,228.885,228.897, 228.904,228.916,228.924,228.937,228.947 ,228.96,228.969,228.977,228.985,228.99, 228.996,229.007,229.017,229.026,229.031 ,229.035,229.038,229.043,229.048, 229.053,229.057,229.062,229.066,229.07, 229.075,229.081,229.09,229.095,229.1, 229.104,229.305,229.537,229.768,229.963 ,230.254,230.447,230.785,230.779, 230.775,230.77,230.766,230.762,230.758, 230.754,230.75,230.745,230.739,230.735, 230.731,230.727,230.722,230.718,230.713 ,230.709,230.705,230.7,230.695,230.691, 230.686,230.682,230.677,230.67,230.662, 230.657,230.65,230.645,230.64,230.635, 230.63,230.624,230.616,230.611,230.606, 230.6,230.595,230.589,230.581,230.575, 230.569,230.563,230.558,230.436)
ORBIT_NUMBER = 13701
ORBITAL_ECCENTRICITY = 0.574
ORBITAL_INCLINATION = 86.91
ORBITAL_SEMIMAJOR_AXIS = 8813.12
PERIAPSIS_ALTITUDE = 370.25
PERIAPSIS_ARGUMENT_ANGLE = 136.57
PERIAPSIS_TIME = 2014-10-17T10:24:48.000Z
SPACECRAFT_ORIENTATION = (0.0,-1.0,0.0)
^MEX_ORIENTATION_DESC = "MEX_ORIENTATION_DESC.TXT"
SPACECRAFT_POINTING_MODE = ACROSSTRACK
^MEX_POINTING_DESC = "MEX_POINTING_DESC.TXT"
RIGHT_ASCENSION = -1e+32
DECLINATION = -1e+32
OFFSET_ANGLE = -0.65
SPACECRAFT_SOLAR_DISTANCE = 2.09897e+08
TARGET_NAME = MARS
/* CAMERA DATA ELEMENTS */
DETECTOR_TEMPERATURE = 19.1861
FOCAL_PLANE_TEMPERATURE = 10.4184
INST_CMPRS_NAME = "DISCRETE COSINE TRANSFORMATION (DCT)"
INST_CMPRS_RATIO = 4.62813
INST_CMPRS_QUALITY = 0
INST_CMPRS_QUANTZ_TBL_ID = 0
INSTRUMENT_TEMPERATURE = 12.0496
LENS_TEMPERATURE = 10.8262
MACROPIXEL_SIZE = 2
MISSING_FRAMES = 0
PIXEL_SUBSAMPLING_FLAG = N
SIGNAL_CHAIN_ID = 3
/* RADIOMETRIC DATA ELEMENTS */
BANDWIDTH = 177.0
CENTER_FILTER_WAVELENGTH = 676.5
RADIANCE_OFFSET = 2.68719
RADIANCE_SCALING_FACTOR = 0.0137733
REFLECTANCE_SCALING_FACTOR = 0.000321741
MEX:REFLECTANCE_OFFSET = 0.0627718
/* IMAGE OBJECT DEFINITIONS */
OBJECT = IMAGE
  INTERCHANGE_FORMAT = BINARY
  LINES = 19512
  LINE_SAMPLES = 3780
  SAMPLE_TYPE = UNSIGNED_INTEGER
  SAMPLE_BITS = 8
  BANDS = 1
  BAND_STORAGE_TYPE = BAND_SEQUENTIAL
  MAXIMUM = 255
  MEAN = 118.794
  MINIMUM = 1
  STANDARD_DEVIATION = 38.3088
END_OBJECT = IMAGE
/* MAP OBJECT DEFINITIONS */
OBJECT = IMAGE_MAP_PROJECTION
  ^DATA_SET_MAP_PROJECTION_CATALOG= "DSMAP.CAT"
  A_AXIS_RADIUS = 3396.0
  B_AXIS_RADIUS = 3396.0
  C_AXIS_RADIUS = 3396.0
  CENTER_LATITUDE = 0.0
  CENTER_LONGITUDE = 230.0
  COORDINATE_SYSTEM_NAME = PLANETOGRAPHIC
  COORDINATE_SYSTEM_TYPE = "BODY-FIXED ROTATING"
  EASTERNMOST_LONGITUDE = 230.785
  FIRST_STANDARD_PARALLEL = "N/A"
  LINE_FIRST_PIXEL = 1
  LINE_LAST_PIXEL = 19512
  LINE_PROJECTION_OFFSET = 97148.75
  MAP_PROJECTION_ROTATION = 0.0
  MAP_PROJECTION_TYPE = SINUSOIDAL
  MAP_RESOLUTION = 2370.85521546667
  MAP_SCALE = 0.025
  MAXIMUM_LATITUDE = 40.9199
  MINIMUM_LATITUDE = 32.7497
  POSITIVE_LONGITUDE_DIRECTION = EAST
  REFERENCE_LATITUDE = "N/A"
  REFERENCE_LONGITUDE = "N/A"
  SAMPLE_FIRST_PIXEL = 1
  SAMPLE_LAST_PIXEL = 3780
  SAMPLE_PROJECTION_OFFSET = 2245.75
  SECOND_STANDARD_PARALLEL = "N/A"
  WESTERNMOST_LONGITUDE = 228.807
END_OBJECT = IMAGE_MAP_PROJECTION
/* The JPEG2000 image data file associated with this label. */
OBJECT = COMPRESSED_FILE
  FILE_NAME = "HD701_0009_P23.JP2"
  RECORD_TYPE = UNDEFINED
  FILE_RECORDS = UNK
  ENCODING_TYPE = "JP2"
  INTERCHANGE_FORMAT = BINARY
  UNCOMPRESSED_FILE_NAME = "HD701_0009_P23.IMG"
  REQUIRED_STORAGE_BYTES = "73778040"
  ^DESCRIPTION = "JP2INFO.TXT"
END_OBJECT = COMPRESSED_FILE
END
