PDS_VERSION_ID = PDS3
/* FILE DATA ELEMENTS */
RECORD_TYPE = STREAM
/* POINTERS TO DATA OBJECTS */
^COMPRESSED_FILE = "HD710_0005_SR3.JP2"
/* IDENTIFICATION DATA ELEMENTS */
DATA_SET_ID = "MEX-M-HRSC-5-REFDR-MAPPROJECTED-V3.0"
DATA_SET_NAME = "MARS EXPRESS HRSC MAP PROJECTED REFDR V3.0"
DETECTOR_ID = MEX_HRSC_SRC
EVENT_TYPE = "MARS-AURORA-SYSTEMTEST-Ot"
INSTRUMENT_HOST_ID = MEX
INSTRUMENT_HOST_NAME = "MARS EXPRESS"
INSTRUMENT_ID = HRSC
INSTRUMENT_NAME = "HIGH RESOLUTION STEREO CAMERA"
MISSION_NAME = "MARS EXPRESS"
MISSION_PHASE_NAME = ME_Phase_31
PROCESSING_LEVEL_ID = 3
PRODUCT_CREATION_TIME = 2016-10-29T17:34:02.000Z
PRODUCT_ID = "HD710_0005_SR3.JP2"
RELEASE_ID = 0126
REVISION_ID = 0000
/* QUALITY DATA ELEMENTS */
DATA_QUALITY_ID = 1
DATA_QUALITY_DESC = "Data calculated based on original SPICE kernels"
/* TIME DATA ELEMENTS */
SPACECRAFT_CLOCK_START_COUNT = "1/0361840257.07318"
SPACECRAFT_CLOCK_STOP_COUNT = "1/0361840386.52887"
IMAGE_TIME = 2014-10-19T23:11:05.667Z
START_TIME = 2014-10-19T23:11:05.409Z
STOP_TIME = 2014-10-19T23:11:05.925Z
/* ORBITAL DATA ELEMENTS */
ASCENDING_NODE_LONGITUDE = 316.31
MAXIMUM_RESOLUTION = 88.986
FOOTPRINT_POINT_LATITUDE = (13.1626,13.0668,13.0053,12.9418, 12.8783,12.815,12.7285,12.6421,12.5792, 12.5165,12.4539,12.3914,12.3149,12.2526 ,12.1905,12.1173,12.0554,11.9627, 11.9011,11.8397,11.7783,11.7171,11.6235 ,11.5626,11.5007,11.4399,11.3794, 11.2961,11.2358,11.1814,11.1491,11.1169 ,11.0777,11.0455,11.0054,10.9734, 10.9415,10.9096,10.8629,10.8312,10.7994 ,10.7678,10.7362,10.7046,10.6586, 10.6271,10.5644,10.5019,10.4487,10.4805 ,10.5404,10.6004,10.6605,10.7341, 10.7882,10.8487,10.9092,10.9699,11.0426 ,11.1035,11.1645,11.2256,11.2869, 11.3482,11.4309,11.4926,11.5543,11.6162 ,11.7174,11.7796,11.8419,11.9043, 11.9669,12.0543,12.1171,12.1801,12.2432 ,12.3064,12.3927,12.4245,12.4785, 12.5105,12.5425,12.5746,12.6067,12.6389 ,12.6859,12.7341,12.7666,12.799,12.8316 ,12.8874,12.9201,12.9529,12.9857,13.035 ,13.0678,13.0991,13.1322,13.1626)
FOOTPRINT_POINT_LONGITUDE = (228.926,228.978,229.011,229.045,229.08 ,229.114,229.161,229.208,229.242, 229.276,229.309,229.343,229.385,229.418 ,229.452,229.491,229.525,229.575, 229.608,229.641,229.674,229.707,229.757 ,229.79,229.823,229.856,229.889,229.934 ,229.966,229.907,229.855,229.802, 229.737,229.685,229.62,229.567,229.515, 229.463,229.384,229.332,229.28,229.228, 229.175,229.123,229.044,228.992,228.887 ,228.783,228.69,228.61,228.577,228.544, 228.511,228.47,228.441,228.407,228.374, 228.34,228.3,228.266,228.233,228.199, 228.165,228.131,228.085,228.051,228.017 ,227.983,227.927,227.892,227.857, 227.823,227.788,227.74,227.705,227.67, 227.634,227.599,227.624,227.677,227.77, 227.823,227.876,227.929,227.982,228.035 ,228.115,228.195,228.248,228.301, 228.353,228.446,228.499,228.552,228.605 ,228.684,228.737,228.79,228.843, 228.926)
ORBIT_NUMBER = 13710
ORBITAL_ECCENTRICITY = 0.573
ORBITAL_INCLINATION = 86.9
ORBITAL_SEMIMAJOR_AXIS = 8809.63
PERIAPSIS_ALTITUDE = 371.96
PERIAPSIS_ARGUMENT_ANGLE = 135.04
PERIAPSIS_TIME = 2014-10-20T01:20:15.000Z
SPACECRAFT_ORIENTATION = (0.0,-1.0,0.0)
^MEX_ORIENTATION_DESC = "MEX_ORIENTATION_DESC.TXT"
SPACECRAFT_POINTING_MODE = INERT
^MEX_POINTING_DESC = "MEX_POINTING_DESC.TXT"
RIGHT_ASCENSION = 49.305
DECLINATION = -60.95
OFFSET_ANGLE = -1e+32
SPACECRAFT_SOLAR_DISTANCE = 2.09607e+08
TARGET_NAME = MARS
/* CAMERA DATA ELEMENTS */
BUFFER_MODE_ID = DIRECT
EXPOSURE_DURATION = 516.096
INST_CMPRS_NAME = NONE
INST_CMPRS_RATIO = 1.0
INST_CMPRS_QUALITY = -2147483648
INST_CMPRS_QUANTZ_TBL_ID = -2147483648
INSTRUMENT_TEMPERATURE = 8.17537
MISSING_FRAMES = 0
START_BIT = 0
/* RADIOMETRIC DATA ELEMENTS */
BANDWIDTH = 250.0
CENTER_FILTER_WAVELENGTH = 600.0
RADIANCE_OFFSET = -9.99e+31
RADIANCE_SCALING_FACTOR = -9.99e+31
REFLECTANCE_SCALING_FACTOR = -9.99e+31
MEX:REFLECTANCE_OFFSET = -9.99e+31
/* IMAGE OBJECT DEFINITIONS */
OBJECT = IMAGE
  INTERCHANGE_FORMAT = BINARY
  LINES = 2090
  LINE_SAMPLES = 1781
  SAMPLE_TYPE = UNSIGNED_INTEGER
  SAMPLE_BITS = 8
  BANDS = 1
  BAND_STORAGE_TYPE = BAND_SEQUENTIAL
  MAXIMUM = 217
  MEAN = 39.9017
  MINIMUM = 1
  STANDARD_DEVIATION = 9.50817
END_OBJECT = IMAGE
/* MAP OBJECT DEFINITIONS */
OBJECT = IMAGE_MAP_PROJECTION
  ^DATA_SET_MAP_PROJECTION_CATALOG= "DSMAP.CAT"
  A_AXIS_RADIUS = 3396.19
  B_AXIS_RADIUS = 3396.19
  C_AXIS_RADIUS = 3396.19
  CENTER_LATITUDE = 0.0
  CENTER_LONGITUDE = 229.0
  COORDINATE_SYSTEM_NAME = PLANETOGRAPHIC
  COORDINATE_SYSTEM_TYPE = "BODY-FIXED ROTATING"
  EASTERNMOST_LONGITUDE = 229.966
  FIRST_STANDARD_PARALLEL = "N/A"
  LINE_FIRST_PIXEL = 1
  LINE_LAST_PIXEL = 2090
  LINE_PROJECTION_OFFSET = 9794.0
  MAP_PROJECTION_ROTATION = 0.0
  MAP_PROJECTION_TYPE = SINUSOIDAL
  MAP_RESOLUTION = 740.9337064023611
  MAP_SCALE = 0.08
  MAXIMUM_LATITUDE = 13.1626
  MINIMUM_LATITUDE = 10.4487
  POSITIVE_LONGITUDE_DIRECTION = EAST
  REFERENCE_LATITUDE = "N/A"
  REFERENCE_LONGITUDE = "N/A"
  SAMPLE_FIRST_PIXEL = 1
  SAMPLE_LAST_PIXEL = 1781
  SAMPLE_PROJECTION_OFFSET = 1057.0
  SECOND_STANDARD_PARALLEL = "N/A"
  WESTERNMOST_LONGITUDE = 227.599
END_OBJECT = IMAGE_MAP_PROJECTION
/* The JPEG2000 image data file associated with this label. */
OBJECT = COMPRESSED_FILE
  FILE_NAME = "HD710_0005_SR3.JP2"
  RECORD_TYPE = UNDEFINED
  FILE_RECORDS = UNK
  ENCODING_TYPE = "JP2"
  INTERCHANGE_FORMAT = BINARY
  UNCOMPRESSED_FILE_NAME = "HD710_0005_SR3.IMG"
  REQUIRED_STORAGE_BYTES = "3743662"
  ^DESCRIPTION = "JP2INFO.TXT"
END_OBJECT = COMPRESSED_FILE
END
