PDS_VERSION_ID = PDS3
/* FILE DATA ELEMENTS */
RECORD_TYPE = STREAM
/* POINTERS TO DATA OBJECTS */
^COMPRESSED_FILE = "HD710_0007_SR3.JP2"
/* IDENTIFICATION DATA ELEMENTS */
DATA_SET_ID = "MEX-M-HRSC-5-REFDR-MAPPROJECTED-V3.0"
DATA_SET_NAME = "MARS EXPRESS HRSC MAP PROJECTED REFDR V3.0"
DETECTOR_ID = MEX_HRSC_SRC
EVENT_TYPE = "MARS-AURORA-SYSTEMTEST-Ot"
INSTRUMENT_HOST_ID = MEX
INSTRUMENT_HOST_NAME = "MARS EXPRESS"
INSTRUMENT_ID = HRSC
INSTRUMENT_NAME = "HIGH RESOLUTION STEREO CAMERA"
MISSION_NAME = "MARS EXPRESS"
MISSION_PHASE_NAME = ME_Phase_31
PROCESSING_LEVEL_ID = 3
PRODUCT_CREATION_TIME = 2016-10-29T17:34:02.000Z
PRODUCT_ID = "HD710_0007_SR3.JP2"
RELEASE_ID = 0126
REVISION_ID = 0000
/* QUALITY DATA ELEMENTS */
DATA_QUALITY_ID = 1
DATA_QUALITY_DESC = "Data calculated based on original SPICE kernels"
/* TIME DATA ELEMENTS */
SPACECRAFT_CLOCK_START_COUNT = "1/0361840257.07318"
SPACECRAFT_CLOCK_STOP_COUNT = "1/0361840386.52887"
IMAGE_TIME = 2014-10-19T23:11:06.757Z
START_TIME = 2014-10-19T23:11:06.499Z
STOP_TIME = 2014-10-19T23:11:07.015Z
/* ORBITAL DATA ELEMENTS */
ASCENDING_NODE_LONGITUDE = 316.31
MAXIMUM_RESOLUTION = 88.987
FOOTPRINT_POINT_LATITUDE = (13.2077,13.1298,13.066,12.9609,12.8974 ,12.8341,12.7298,12.6434,12.5806, 12.5179,12.4553,12.3928,12.3338,12.2716 ,12.2095,12.1169,12.055,11.9623,11.9008 ,11.8393,11.778,11.7169,11.6443,11.5833 ,11.5005,11.4398,11.3792,11.3243,11.264 ,11.2095,11.1772,11.145,11.1058,11.0736 ,11.0415,11.0015,10.9695,10.9376, 10.8909,10.8591,10.8274,10.7957,10.7641 ,10.7325,10.6944,10.6629,10.6315, 10.5688,10.5076,10.4485,10.5083,10.5682 ,10.6283,10.7055,10.8086,10.8691, 10.9297,11.0421,11.103,11.164,11.2251, 11.2863,11.3477,11.4207,11.4823,11.544, 11.6058,11.7167,11.7789,11.8412,11.9035 ,11.9661,12.0535,12.1163,12.1792, 12.2423,12.3054,12.3687,12.4453,12.4772 ,12.5153,12.5473,12.5794,12.6115, 12.6436,12.6759,12.7148,12.7469,12.7793 ,12.8118,12.8443,12.8768,12.9165, 12.9492,12.9819,13.0147,13.0722,13.1283 ,13.1613,13.2077)
FOOTPRINT_POINT_LONGITUDE = (228.912,228.954,228.989,229.046,229.08 ,229.114,229.171,229.218,229.252, 229.285,229.319,229.353,229.385,229.419 ,229.452,229.502,229.535,229.585, 229.619,229.652,229.685,229.718,229.757 ,229.79,229.834,229.867,229.899,229.929 ,229.961,229.902,229.85,229.798,229.732 ,229.68,229.628,229.563,229.511,229.459 ,229.38,229.328,229.275,229.223,229.171 ,229.119,229.053,229.0,228.948,228.843, 228.738,228.639,228.606,228.573,228.539 ,228.497,228.44,228.407,228.373,228.311 ,228.277,228.244,228.21,228.176,228.142 ,228.102,228.068,228.034,227.999, 227.938,227.903,227.869,227.834,227.799 ,227.751,227.716,227.681,227.646, 227.611,227.575,227.658,227.711,227.779 ,227.832,227.885,227.938,227.99,228.043 ,228.11,228.163,228.216,228.269,228.322 ,228.375,228.441,228.494,228.547,228.6, 228.692,228.785,228.838,228.912)
ORBIT_NUMBER = 13710
ORBITAL_ECCENTRICITY = 0.573
ORBITAL_INCLINATION = 86.9
ORBITAL_SEMIMAJOR_AXIS = 8809.63
PERIAPSIS_ALTITUDE = 371.96
PERIAPSIS_ARGUMENT_ANGLE = 135.04
PERIAPSIS_TIME = 2014-10-20T01:20:15.000Z
SPACECRAFT_ORIENTATION = (0.0,-1.0,0.0)
^MEX_ORIENTATION_DESC = "MEX_ORIENTATION_DESC.TXT"
SPACECRAFT_POINTING_MODE = INERT
^MEX_POINTING_DESC = "MEX_POINTING_DESC.TXT"
RIGHT_ASCENSION = 49.305
DECLINATION = -60.95
OFFSET_ANGLE = -1e+32
SPACECRAFT_SOLAR_DISTANCE = 2.09607e+08
TARGET_NAME = MARS
/* CAMERA DATA ELEMENTS */
BUFFER_MODE_ID = DIRECT
EXPOSURE_DURATION = 516.096
INST_CMPRS_NAME = NONE
INST_CMPRS_RATIO = 1.0
INST_CMPRS_QUALITY = -2147483648
INST_CMPRS_QUANTZ_TBL_ID = -2147483648
INSTRUMENT_TEMPERATURE = 8.22698
MISSING_FRAMES = 0
START_BIT = 0
/* RADIOMETRIC DATA ELEMENTS */
BANDWIDTH = 250.0
CENTER_FILTER_WAVELENGTH = 600.0
RADIANCE_OFFSET = -9.99e+31
RADIANCE_SCALING_FACTOR = -9.99e+31
REFLECTANCE_SCALING_FACTOR = -9.99e+31
MEX:REFLECTANCE_OFFSET = -9.99e+31
/* IMAGE OBJECT DEFINITIONS */
OBJECT = IMAGE
  INTERCHANGE_FORMAT = BINARY
  LINES = 2091
  LINE_SAMPLES = 1781
  SAMPLE_TYPE = UNSIGNED_INTEGER
  SAMPLE_BITS = 8
  BANDS = 1
  BAND_STORAGE_TYPE = BAND_SEQUENTIAL
  MAXIMUM = 234
  MEAN = 39.55
  MINIMUM = 2
  STANDARD_DEVIATION = 9.1754
END_OBJECT = IMAGE
/* MAP OBJECT DEFINITIONS */
OBJECT = IMAGE_MAP_PROJECTION
  ^DATA_SET_MAP_PROJECTION_CATALOG= "DSMAP.CAT"
  A_AXIS_RADIUS = 3396.19
  B_AXIS_RADIUS = 3396.19
  C_AXIS_RADIUS = 3396.19
  CENTER_LATITUDE = 0.0
  CENTER_LONGITUDE = 229.0
  COORDINATE_SYSTEM_NAME = PLANETOGRAPHIC
  COORDINATE_SYSTEM_TYPE = "BODY-FIXED ROTATING"
  EASTERNMOST_LONGITUDE = 229.961
  FIRST_STANDARD_PARALLEL = "N/A"
  LINE_FIRST_PIXEL = 1
  LINE_LAST_PIXEL = 2091
  LINE_PROJECTION_OFFSET = 9816.0
  MAP_PROJECTION_ROTATION = 0.0
  MAP_PROJECTION_TYPE = SINUSOIDAL
  MAP_RESOLUTION = 740.9337064023611
  MAP_SCALE = 0.08
  MAXIMUM_LATITUDE = 13.2077
  MINIMUM_LATITUDE = 10.4485
  POSITIVE_LONGITUDE_DIRECTION = EAST
  REFERENCE_LATITUDE = "N/A"
  REFERENCE_LONGITUDE = "N/A"
  SAMPLE_FIRST_PIXEL = 1
  SAMPLE_LAST_PIXEL = 1781
  SAMPLE_PROJECTION_OFFSET = 1060.0
  SECOND_STANDARD_PARALLEL = "N/A"
  WESTERNMOST_LONGITUDE = 227.575
END_OBJECT = IMAGE_MAP_PROJECTION
/* The JPEG2000 image data file associated with this label. */
OBJECT = COMPRESSED_FILE
  FILE_NAME = "HD710_0007_SR3.JP2"
  RECORD_TYPE = UNDEFINED
  FILE_RECORDS = UNK
  ENCODING_TYPE = "JP2"
  INTERCHANGE_FORMAT = BINARY
  UNCOMPRESSED_FILE_NAME = "HD710_0007_SR3.IMG"
  REQUIRED_STORAGE_BYTES = "3745443"
  ^DESCRIPTION = "JP2INFO.TXT"
END_OBJECT = COMPRESSED_FILE
END
