PDS_VERSION_ID = PDS3
/* FILE DATA ELEMENTS */
RECORD_TYPE = STREAM
/* POINTERS TO DATA OBJECTS */
^COMPRESSED_FILE = "HD710_0008_SR3.JP2"
/* IDENTIFICATION DATA ELEMENTS */
DATA_SET_ID = "MEX-M-HRSC-5-REFDR-MAPPROJECTED-V3.0"
DATA_SET_NAME = "MARS EXPRESS HRSC MAP PROJECTED REFDR V3.0"
DETECTOR_ID = MEX_HRSC_SRC
EVENT_TYPE = "MARS-AURORA-SYSTEMTEST-Ot"
INSTRUMENT_HOST_ID = MEX
INSTRUMENT_HOST_NAME = "MARS EXPRESS"
INSTRUMENT_ID = HRSC
INSTRUMENT_NAME = "HIGH RESOLUTION STEREO CAMERA"
MISSION_NAME = "MARS EXPRESS"
MISSION_PHASE_NAME = ME_Phase_31
PROCESSING_LEVEL_ID = 3
PRODUCT_CREATION_TIME = 2016-10-29T17:34:02.000Z
PRODUCT_ID = "HD710_0008_SR3.JP2"
RELEASE_ID = 0126
REVISION_ID = 0000
/* QUALITY DATA ELEMENTS */
DATA_QUALITY_ID = 1
DATA_QUALITY_DESC = "Data calculated based on original SPICE kernels"
/* TIME DATA ELEMENTS */
SPACECRAFT_CLOCK_START_COUNT = "1/0361840257.07318"
SPACECRAFT_CLOCK_STOP_COUNT = "1/0361840386.52887"
IMAGE_TIME = 2014-10-19T23:11:07.302Z
START_TIME = 2014-10-19T23:11:07.044Z
STOP_TIME = 2014-10-19T23:11:07.560Z
/* ORBITAL DATA ELEMENTS */
ASCENDING_NODE_LONGITUDE = 316.31
MAXIMUM_RESOLUTION = 88.988
FOOTPRINT_POINT_LATITUDE = (13.1943,13.1304,13.0666,12.9714,12.908 ,12.8446,12.7285,12.6421,12.5793, 12.5166,12.454,12.3916,12.2821,12.2199, 12.1157,12.0539,11.9631,11.9016,11.8401 ,11.7789,11.7177,11.6546,11.5937, 11.5013,11.4406,11.3801,11.2781,11.2236 ,11.1913,11.159,11.1118,11.0796,11.0476 ,11.0155,10.9835,10.9516,10.9049, 10.8731,10.8414,10.8097,10.7781,10.7465 ,10.7083,10.6768,10.6454,10.5827, 10.5216,10.4624,10.5222,10.5822,10.6422 ,10.7044,10.7647,10.8188,10.8793, 10.9399,11.0429,11.1037,11.1647,11.2258 ,11.287,11.3484,11.4291,11.4907,11.5524 ,11.6142,11.7174,11.7795,11.8418, 11.9041,11.9666,12.0366,12.1483,12.2113 ,12.2743,12.3376,12.412,12.4438,12.4756 ,12.5297,12.5617,12.5938,12.6259, 12.6581,12.6903,12.729,12.7613,12.7938, 12.8262,12.8588,12.8913,12.9391,12.9719 ,13.0046,13.0375,13.0703,13.1032, 13.1428,13.1759,13.1943)
FOOTPRINT_POINT_LONGITUDE = (228.924,228.959,228.994,229.045,229.08 ,229.114,229.177,229.224,229.258, 229.292,229.325,229.359,229.418,229.452 ,229.508,229.541,229.59,229.623,229.657 ,229.69,229.723,229.757,229.789,229.839 ,229.872,229.904,229.959,229.9,229.848, 229.796,229.717,229.665,229.613,229.561 ,229.508,229.456,229.377,229.325, 229.273,229.221,229.169,229.116,229.05, 228.998,228.946,228.841,228.736,228.636 ,228.603,228.57,228.537,228.503,228.47, 228.44,228.406,228.373,228.316,228.282, 228.249,228.215,228.181,228.147,228.103 ,228.068,228.034,228.0,227.943,227.908, 227.874,227.839,227.804,227.766,227.704 ,227.668,227.633,227.598,227.576, 227.629,227.682,227.776,227.829,227.882 ,227.935,227.988,228.041,228.108, 228.161,228.214,228.266,228.319,228.372 ,228.452,228.505,228.558,228.61,228.663 ,228.716,228.783,228.835,228.924)
ORBIT_NUMBER = 13710
ORBITAL_ECCENTRICITY = 0.573
ORBITAL_INCLINATION = 86.9
ORBITAL_SEMIMAJOR_AXIS = 8809.63
PERIAPSIS_ALTITUDE = 371.96
PERIAPSIS_ARGUMENT_ANGLE = 135.04
PERIAPSIS_TIME = 2014-10-20T01:20:15.000Z
SPACECRAFT_ORIENTATION = (0.0,-1.0,0.0)
^MEX_ORIENTATION_DESC = "MEX_ORIENTATION_DESC.TXT"
SPACECRAFT_POINTING_MODE = INERT
^MEX_POINTING_DESC = "MEX_POINTING_DESC.TXT"
RIGHT_ASCENSION = 49.305
DECLINATION = -60.95
OFFSET_ANGLE = -1e+32
SPACECRAFT_SOLAR_DISTANCE = 2.09607e+08
TARGET_NAME = MARS
/* CAMERA DATA ELEMENTS */
BUFFER_MODE_ID = DIRECT
EXPOSURE_DURATION = 516.096
INST_CMPRS_NAME = NONE
INST_CMPRS_RATIO = 1.0
INST_CMPRS_QUALITY = -2147483648
INST_CMPRS_QUANTZ_TBL_ID = -2147483648
INSTRUMENT_TEMPERATURE = 8.25279
MISSING_FRAMES = 0
START_BIT = 0
/* RADIOMETRIC DATA ELEMENTS */
BANDWIDTH = 250.0
CENTER_FILTER_WAVELENGTH = 600.0
RADIANCE_OFFSET = -9.99e+31
RADIANCE_SCALING_FACTOR = -9.99e+31
REFLECTANCE_SCALING_FACTOR = -9.99e+31
MEX:REFLECTANCE_OFFSET = -9.99e+31
/* IMAGE OBJECT DEFINITIONS */
OBJECT = IMAGE
  INTERCHANGE_FORMAT = BINARY
  LINES = 2091
  LINE_SAMPLES = 1781
  SAMPLE_TYPE = UNSIGNED_INTEGER
  SAMPLE_BITS = 8
  BANDS = 1
  BAND_STORAGE_TYPE = BAND_SEQUENTIAL
  MAXIMUM = 235
  MEAN = 38.2343
  MINIMUM = 3
  STANDARD_DEVIATION = 9.23429
END_OBJECT = IMAGE
/* MAP OBJECT DEFINITIONS */
OBJECT = IMAGE_MAP_PROJECTION
  ^DATA_SET_MAP_PROJECTION_CATALOG= "DSMAP.CAT"
  A_AXIS_RADIUS = 3396.19
  B_AXIS_RADIUS = 3396.19
  C_AXIS_RADIUS = 3396.19
  CENTER_LATITUDE = 0.0
  CENTER_LONGITUDE = 229.0
  COORDINATE_SYSTEM_NAME = PLANETOGRAPHIC
  COORDINATE_SYSTEM_TYPE = "BODY-FIXED ROTATING"
  EASTERNMOST_LONGITUDE = 229.959
  FIRST_STANDARD_PARALLEL = "N/A"
  LINE_FIRST_PIXEL = 1
  LINE_LAST_PIXEL = 2091
  LINE_PROJECTION_OFFSET = 9826.0
  MAP_PROJECTION_ROTATION = 0.0
  MAP_PROJECTION_TYPE = SINUSOIDAL
  MAP_RESOLUTION = 740.9337064023611
  MAP_SCALE = 0.08
  MAXIMUM_LATITUDE = 13.1943
  MINIMUM_LATITUDE = 10.4624
  POSITIVE_LONGITUDE_DIRECTION = EAST
  REFERENCE_LATITUDE = "N/A"
  REFERENCE_LONGITUDE = "N/A"
  SAMPLE_FIRST_PIXEL = 1
  SAMPLE_LAST_PIXEL = 1781
  SAMPLE_PROJECTION_OFFSET = 1062.0
  SECOND_STANDARD_PARALLEL = "N/A"
  WESTERNMOST_LONGITUDE = 227.576
END_OBJECT = IMAGE_MAP_PROJECTION
/* The JPEG2000 image data file associated with this label. */
OBJECT = COMPRESSED_FILE
  FILE_NAME = "HD710_0008_SR3.JP2"
  RECORD_TYPE = UNDEFINED
  FILE_RECORDS = UNK
  ENCODING_TYPE = "JP2"
  INTERCHANGE_FORMAT = BINARY
  UNCOMPRESSED_FILE_NAME = "HD710_0008_SR3.IMG"
  REQUIRED_STORAGE_BYTES = "3745443"
  ^DESCRIPTION = "JP2INFO.TXT"
END_OBJECT = COMPRESSED_FILE
END
