PDS_VERSION_ID = PDS3
/* FILE DATA ELEMENTS */
RECORD_TYPE = STREAM
/* POINTERS TO DATA OBJECTS */
^COMPRESSED_FILE = "HD710_0026_SR3.JP2"
/* IDENTIFICATION DATA ELEMENTS */
DATA_SET_ID = "MEX-M-HRSC-5-REFDR-MAPPROJECTED-V3.0"
DATA_SET_NAME = "MARS EXPRESS HRSC MAP PROJECTED REFDR V3.0"
DETECTOR_ID = MEX_HRSC_SRC
EVENT_TYPE = "MARS-AURORA-SYSTEMTEST-Ot"
INSTRUMENT_HOST_ID = MEX
INSTRUMENT_HOST_NAME = "MARS EXPRESS"
INSTRUMENT_ID = HRSC
INSTRUMENT_NAME = "HIGH RESOLUTION STEREO CAMERA"
MISSION_NAME = "MARS EXPRESS"
MISSION_PHASE_NAME = ME_Phase_31
PROCESSING_LEVEL_ID = 3
PRODUCT_CREATION_TIME = 2016-10-29T17:34:02.000Z
PRODUCT_ID = "HD710_0026_SR3.JP2"
RELEASE_ID = 0126
REVISION_ID = 0000
/* QUALITY DATA ELEMENTS */
DATA_QUALITY_ID = 1
DATA_QUALITY_DESC = "Data calculated based on original SPICE kernels"
/* TIME DATA ELEMENTS */
SPACECRAFT_CLOCK_START_COUNT = "1/0361840257.07318"
SPACECRAFT_CLOCK_STOP_COUNT = "1/0361840386.52887"
IMAGE_TIME = 2014-10-19T23:11:17.112Z
START_TIME = 2014-10-19T23:11:16.854Z
STOP_TIME = 2014-10-19T23:11:17.370Z
/* ORBITAL DATA ELEMENTS */
ASCENDING_NODE_LONGITUDE = 316.31
MAXIMUM_RESOLUTION = 88.999
FOOTPRINT_POINT_LATITUDE = (13.3851,13.321,13.257,13.1932,13.1295, 13.066,12.9813,12.918,12.8549,12.7919, 12.729,12.6487,12.5861,12.5236,12.4612, 12.399,12.3017,12.2398,12.1779,12.1162, 12.0546,11.9526,11.8913,11.8301,11.769, 11.6688,11.608,11.5474,11.4694,11.437, 11.3814,11.3248,11.2926,11.2605,11.2284 ,11.1737,11.1418,11.1099,11.078,11.0301 ,10.9837,10.9521,10.9205,10.8889, 10.8575,10.826,10.7727,10.7414,10.7132, 10.7733,10.8335,10.8938,10.9542,11.0431 ,11.1038,11.1646,11.2255,11.2865, 11.3805,11.4418,11.5032,11.6048,11.6665 ,11.7173,11.7792,11.8413,11.9034, 11.9657,12.0535,12.1161,12.2134,12.2763 ,12.3393,12.3929,12.4561,12.5195,12.583 ,12.6466,12.7113,12.7666,12.8133, 12.8455,12.8777,12.91,12.9424,12.9748, 13.0223,13.071,13.1036,13.1363,13.1691, 13.2254,13.2584,13.2914,13.3244,13.3575 ,13.3907,13.4235,13.4568,13.3851)
FOOTPRINT_POINT_LONGITUDE = (228.917,228.952,228.987,229.021, 229.056,229.09,229.136,229.17,229.204, 229.238,229.272,229.316,229.35,229.383, 229.417,229.451,229.503,229.536,229.57, 229.603,229.636,229.691,229.724,229.757 ,229.79,229.844,229.877,229.909,229.845 ,229.793,229.701,229.61,229.558,229.506 ,229.454,229.362,229.31,229.258,229.205 ,229.127,229.048,228.996,228.944, 228.891,228.839,228.787,228.694,228.642 ,228.595,228.562,228.529,228.495, 228.462,228.413,228.38,228.346,228.312, 228.279,228.227,228.193,228.159,228.103 ,228.068,228.04,228.006,227.972,227.937 ,227.903,227.854,227.819,227.765,227.73 ,227.695,227.665,227.63,227.595,227.559 ,227.524,227.596,227.689,227.769, 227.822,227.875,227.928,227.981,228.034 ,228.114,228.193,228.246,228.299, 228.352,228.445,228.498,228.551,228.603 ,228.656,228.709,228.779,228.831, 228.917)
ORBIT_NUMBER = 13710
ORBITAL_ECCENTRICITY = 0.573
ORBITAL_INCLINATION = 86.9
ORBITAL_SEMIMAJOR_AXIS = 8809.63
PERIAPSIS_ALTITUDE = 371.96
PERIAPSIS_ARGUMENT_ANGLE = 135.04
PERIAPSIS_TIME = 2014-10-20T01:20:15.000Z
SPACECRAFT_ORIENTATION = (0.0,-1.0,0.0)
^MEX_ORIENTATION_DESC = "MEX_ORIENTATION_DESC.TXT"
SPACECRAFT_POINTING_MODE = INERT
^MEX_POINTING_DESC = "MEX_POINTING_DESC.TXT"
RIGHT_ASCENSION = 49.305
DECLINATION = -60.95
OFFSET_ANGLE = -1e+32
SPACECRAFT_SOLAR_DISTANCE = 2.09607e+08
TARGET_NAME = MARS
/* CAMERA DATA ELEMENTS */
BUFFER_MODE_ID = DIRECT
EXPOSURE_DURATION = 516.096
INST_CMPRS_NAME = NONE
INST_CMPRS_RATIO = 1.0
INST_CMPRS_QUALITY = -2147483648
INST_CMPRS_QUANTZ_TBL_ID = -2147483648
INSTRUMENT_TEMPERATURE = 8.71729
MISSING_FRAMES = 0
START_BIT = 0
/* RADIOMETRIC DATA ELEMENTS */
BANDWIDTH = 250.0
CENTER_FILTER_WAVELENGTH = 600.0
RADIANCE_OFFSET = -9.99e+31
RADIANCE_SCALING_FACTOR = -9.99e+31
REFLECTANCE_SCALING_FACTOR = -9.99e+31
MEX:REFLECTANCE_OFFSET = -9.99e+31
/* IMAGE OBJECT DEFINITIONS */
OBJECT = IMAGE
  INTERCHANGE_FORMAT = BINARY
  LINES = 2100
  LINE_SAMPLES = 1783
  SAMPLE_TYPE = UNSIGNED_INTEGER
  SAMPLE_BITS = 8
  BANDS = 1
  BAND_STORAGE_TYPE = BAND_SEQUENTIAL
  MAXIMUM = 235
  MEAN = 38.6729
  MINIMUM = 1
  STANDARD_DEVIATION = 9.01104
END_OBJECT = IMAGE
/* MAP OBJECT DEFINITIONS */
OBJECT = IMAGE_MAP_PROJECTION
  ^DATA_SET_MAP_PROJECTION_CATALOG= "DSMAP.CAT"
  A_AXIS_RADIUS = 3396.19
  B_AXIS_RADIUS = 3396.19
  C_AXIS_RADIUS = 3396.19
  CENTER_LATITUDE = 0.0
  CENTER_LONGITUDE = 229.0
  COORDINATE_SYSTEM_NAME = PLANETOGRAPHIC
  COORDINATE_SYSTEM_TYPE = "BODY-FIXED ROTATING"
  EASTERNMOST_LONGITUDE = 229.909
  FIRST_STANDARD_PARALLEL = "N/A"
  LINE_FIRST_PIXEL = 1
  LINE_LAST_PIXEL = 2100
  LINE_PROJECTION_OFFSET = 10022.0
  MAP_PROJECTION_ROTATION = 0.0
  MAP_PROJECTION_TYPE = SINUSOIDAL
  MAP_RESOLUTION = 740.9337064023611
  MAP_SCALE = 0.08
  MAXIMUM_LATITUDE = 13.4568
  MINIMUM_LATITUDE = 10.7132
  POSITIVE_LONGITUDE_DIRECTION = EAST
  REFERENCE_LATITUDE = "N/A"
  REFERENCE_LONGITUDE = "N/A"
  SAMPLE_FIRST_PIXEL = 1
  SAMPLE_LAST_PIXEL = 1783
  SAMPLE_PROJECTION_OFFSET = 1095.0
  SECOND_STANDARD_PARALLEL = "N/A"
  WESTERNMOST_LONGITUDE = 227.524
END_OBJECT = IMAGE_MAP_PROJECTION
/* The JPEG2000 image data file associated with this label. */
OBJECT = COMPRESSED_FILE
  FILE_NAME = "HD710_0026_SR3.JP2"
  RECORD_TYPE = UNDEFINED
  FILE_RECORDS = UNK
  ENCODING_TYPE = "JP2"
  INTERCHANGE_FORMAT = BINARY
  UNCOMPRESSED_FILE_NAME = "HD710_0026_SR3.IMG"
  REQUIRED_STORAGE_BYTES = "3765696"
  ^DESCRIPTION = "JP2INFO.TXT"
END_OBJECT = COMPRESSED_FILE
END
