PDS_VERSION_ID = PDS3
/* FILE DATA ELEMENTS */
RECORD_TYPE = STREAM
/* POINTERS TO DATA OBJECTS */
^COMPRESSED_FILE = "HD710_0027_SR3.JP2"
/* IDENTIFICATION DATA ELEMENTS */
DATA_SET_ID = "MEX-M-HRSC-5-REFDR-MAPPROJECTED-V3.0"
DATA_SET_NAME = "MARS EXPRESS HRSC MAP PROJECTED REFDR V3.0"
DETECTOR_ID = MEX_HRSC_SRC
EVENT_TYPE = "MARS-AURORA-SYSTEMTEST-Ot"
INSTRUMENT_HOST_ID = MEX
INSTRUMENT_HOST_NAME = "MARS EXPRESS"
INSTRUMENT_ID = HRSC
INSTRUMENT_NAME = "HIGH RESOLUTION STEREO CAMERA"
MISSION_NAME = "MARS EXPRESS"
MISSION_PHASE_NAME = ME_Phase_31
PROCESSING_LEVEL_ID = 3
PRODUCT_CREATION_TIME = 2016-10-29T17:34:02.000Z
PRODUCT_ID = "HD710_0027_SR3.JP2"
RELEASE_ID = 0126
REVISION_ID = 0000
/* QUALITY DATA ELEMENTS */
DATA_QUALITY_ID = 1
DATA_QUALITY_DESC = "Data calculated based on original SPICE kernels"
/* TIME DATA ELEMENTS */
SPACECRAFT_CLOCK_START_COUNT = "1/0361840257.07318"
SPACECRAFT_CLOCK_STOP_COUNT = "1/0361840386.52887"
IMAGE_TIME = 2014-10-19T23:11:17.657Z
START_TIME = 2014-10-19T23:11:17.399Z
STOP_TIME = 2014-10-19T23:11:17.915Z
/* ORBITAL DATA ELEMENTS */
ASCENDING_NODE_LONGITUDE = 316.31
MAXIMUM_RESOLUTION = 88.999
FOOTPRINT_POINT_LATITUDE = (13.4348,13.3536,13.2896,13.2257,13.162 ,13.047,12.9819,12.9187,12.8555,12.7925 ,12.7297,12.6553,12.5927,12.5302, 12.4678,12.4056,12.3025,12.2406,12.1787 ,12.117,12.0554,11.963,11.9017,11.8405, 11.7794,11.7172,11.6222,11.5615,11.4835 ,11.4511,11.4117,11.3794,11.347,11.3148 ,11.2826,11.2505,11.2038,11.1718, 11.1399,11.108,11.0761,11.0444,10.9977, 10.9661,10.9345,10.9029,10.84,10.7866, 10.7272,10.7873,10.8475,10.9078,10.9682 ,11.042,11.1026,11.1634,11.2243,11.2853 ,11.3793,11.4406,11.502,11.6151,11.7179 ,11.7799,11.8419,11.904,11.9663,12.0541 ,12.1167,12.2218,12.2847,12.3915, 12.4547,12.518,12.5815,12.6451,12.7097, 12.7651,12.7971,12.8277,12.8599,12.8922 ,12.9245,12.9569,12.9893,13.0368, 13.0692,13.1018,13.1345,13.1673,13.2001 ,13.24,13.273,13.306,13.339,13.3721, 13.4053,13.4465,13.4798,13.4348)
FOOTPRINT_POINT_LONGITUDE = (228.895,228.939,228.974,229.009, 229.043,229.106,229.141,229.175,229.209 ,229.243,229.277,229.318,229.351, 229.385,229.419,229.452,229.508,229.541 ,229.575,229.608,229.641,229.691, 229.724,229.757,229.79,229.823,229.874, 229.907,229.843,229.791,229.725,229.673 ,229.621,229.569,229.517,229.465, 229.386,229.334,229.281,229.229,229.177 ,229.125,229.046,228.994,228.941, 228.889,228.784,228.692,228.593,228.559 ,228.526,228.493,228.46,228.419,228.386 ,228.352,228.318,228.285,228.233, 228.199,228.165,228.102,228.045,228.011 ,227.977,227.942,227.908,227.859, 227.824,227.766,227.731,227.671,227.636 ,227.601,227.566,227.53,227.567,227.66, 227.713,227.767,227.82,227.873,227.926, 227.979,228.031,228.111,228.164,228.217 ,228.27,228.323,228.376,228.442,228.495 ,228.548,228.601,228.654,228.706, 228.789,228.842,228.895)
ORBIT_NUMBER = 13710
ORBITAL_ECCENTRICITY = 0.573
ORBITAL_INCLINATION = 86.9
ORBITAL_SEMIMAJOR_AXIS = 8809.63
PERIAPSIS_ALTITUDE = 371.96
PERIAPSIS_ARGUMENT_ANGLE = 135.04
PERIAPSIS_TIME = 2014-10-20T01:20:15.000Z
SPACECRAFT_ORIENTATION = (0.0,-1.0,0.0)
^MEX_ORIENTATION_DESC = "MEX_ORIENTATION_DESC.TXT"
SPACECRAFT_POINTING_MODE = INERT
^MEX_POINTING_DESC = "MEX_POINTING_DESC.TXT"
RIGHT_ASCENSION = 49.305
DECLINATION = -60.95
OFFSET_ANGLE = -1e+32
SPACECRAFT_SOLAR_DISTANCE = 2.09607e+08
TARGET_NAME = MARS
/* CAMERA DATA ELEMENTS */
BUFFER_MODE_ID = DIRECT
EXPOSURE_DURATION = 516.096
INST_CMPRS_NAME = NONE
INST_CMPRS_RATIO = 1.0
INST_CMPRS_QUALITY = -2147483648
INST_CMPRS_QUANTZ_TBL_ID = -2147483648
INSTRUMENT_TEMPERATURE = 8.7431
MISSING_FRAMES = 0
START_BIT = 0
/* RADIOMETRIC DATA ELEMENTS */
BANDWIDTH = 250.0
CENTER_FILTER_WAVELENGTH = 600.0
RADIANCE_OFFSET = -9.99e+31
RADIANCE_SCALING_FACTOR = -9.99e+31
REFLECTANCE_SCALING_FACTOR = -9.99e+31
MEX:REFLECTANCE_OFFSET = -9.99e+31
/* IMAGE OBJECT DEFINITIONS */
OBJECT = IMAGE
  INTERCHANGE_FORMAT = BINARY
  LINES = 2101
  LINE_SAMPLES = 1783
  SAMPLE_TYPE = UNSIGNED_INTEGER
  SAMPLE_BITS = 8
  BANDS = 1
  BAND_STORAGE_TYPE = BAND_SEQUENTIAL
  MAXIMUM = 220
  MEAN = 38.725
  MINIMUM = 1
  STANDARD_DEVIATION = 9.71029
END_OBJECT = IMAGE
/* MAP OBJECT DEFINITIONS */
OBJECT = IMAGE_MAP_PROJECTION
  ^DATA_SET_MAP_PROJECTION_CATALOG= "DSMAP.CAT"
  A_AXIS_RADIUS = 3396.19
  B_AXIS_RADIUS = 3396.19
  C_AXIS_RADIUS = 3396.19
  CENTER_LATITUDE = 0.0
  CENTER_LONGITUDE = 229.0
  COORDINATE_SYSTEM_NAME = PLANETOGRAPHIC
  COORDINATE_SYSTEM_TYPE = "BODY-FIXED ROTATING"
  EASTERNMOST_LONGITUDE = 229.907
  FIRST_STANDARD_PARALLEL = "N/A"
  LINE_FIRST_PIXEL = 1
  LINE_LAST_PIXEL = 2101
  LINE_PROJECTION_OFFSET = 10033.0
  MAP_PROJECTION_ROTATION = 0.0
  MAP_PROJECTION_TYPE = SINUSOIDAL
  MAP_RESOLUTION = 740.9337064023611
  MAP_SCALE = 0.08
  MAXIMUM_LATITUDE = 13.4798
  MINIMUM_LATITUDE = 10.7272
  POSITIVE_LONGITUDE_DIRECTION = EAST
  REFERENCE_LATITUDE = "N/A"
  REFERENCE_LONGITUDE = "N/A"
  SAMPLE_FIRST_PIXEL = 1
  SAMPLE_LAST_PIXEL = 1783
  SAMPLE_PROJECTION_OFFSET = 1097.0
  SECOND_STANDARD_PARALLEL = "N/A"
  WESTERNMOST_LONGITUDE = 227.53
END_OBJECT = IMAGE_MAP_PROJECTION
/* The JPEG2000 image data file associated with this label. */
OBJECT = COMPRESSED_FILE
  FILE_NAME = "HD710_0027_SR3.JP2"
  RECORD_TYPE = UNDEFINED
  FILE_RECORDS = UNK
  ENCODING_TYPE = "JP2"
  INTERCHANGE_FORMAT = BINARY
  UNCOMPRESSED_FILE_NAME = "HD710_0027_SR3.IMG"
  REQUIRED_STORAGE_BYTES = "3767479"
  ^DESCRIPTION = "JP2INFO.TXT"
END_OBJECT = COMPRESSED_FILE
END
