PDS_VERSION_ID = PDS3
/* FILE DATA ELEMENTS */
RECORD_TYPE = STREAM
/* POINTERS TO DATA OBJECTS */
^COMPRESSED_FILE = "HD710_0038_SR3.JP2"
/* IDENTIFICATION DATA ELEMENTS */
DATA_SET_ID = "MEX-M-HRSC-5-REFDR-MAPPROJECTED-V3.0"
DATA_SET_NAME = "MARS EXPRESS HRSC MAP PROJECTED REFDR V3.0"
DETECTOR_ID = MEX_HRSC_SRC
EVENT_TYPE = "MARS-AURORA-SYSTEMTEST-Ot"
INSTRUMENT_HOST_ID = MEX
INSTRUMENT_HOST_NAME = "MARS EXPRESS"
INSTRUMENT_ID = HRSC
INSTRUMENT_NAME = "HIGH RESOLUTION STEREO CAMERA"
MISSION_NAME = "MARS EXPRESS"
MISSION_PHASE_NAME = ME_Phase_31
PROCESSING_LEVEL_ID = 3
PRODUCT_CREATION_TIME = 2016-10-29T17:34:02.000Z
PRODUCT_ID = "HD710_0038_SR3.JP2"
RELEASE_ID = 0126
REVISION_ID = 0000
/* QUALITY DATA ELEMENTS */
DATA_QUALITY_ID = 1
DATA_QUALITY_DESC = "Data calculated based on original SPICE kernels"
/* TIME DATA ELEMENTS */
SPACECRAFT_CLOCK_START_COUNT = "1/0361840257.07318"
SPACECRAFT_CLOCK_STOP_COUNT = "1/0361840386.52887"
IMAGE_TIME = 2014-10-19T23:11:23.653Z
START_TIME = 2014-10-19T23:11:23.394Z
STOP_TIME = 2014-10-19T23:11:23.911Z
/* ORBITAL DATA ELEMENTS */
ASCENDING_NODE_LONGITUDE = 316.31
MAXIMUM_RESOLUTION = 89.006
FOOTPRINT_POINT_LATITUDE = (13.594,13.5297,13.4655,13.4014,13.3303 ,13.2665,13.2028,13.1393,13.0661, 12.9814,12.9183,12.8553,12.7924,12.7297 ,12.6379,12.5754,12.5131,12.4532, 12.3911,12.3014,12.2396,12.1779,12.1163 ,12.0548,11.9492,11.8881,11.8086, 11.7477,11.688,11.6554,11.6229,11.5834, 11.551,11.5186,11.4862,11.454,11.4218, 11.3832,11.3426,11.3106,11.2786,11.2467 ,11.2148,11.1685,11.105,11.0418,11.0097 ,10.9405,10.8809,10.9411,11.0415, 11.1111,11.1718,11.2326,11.2935,11.3797 ,11.4408,11.5021,11.5635,11.625,11.6866 ,11.7794,11.8413,11.9033,11.9655, 12.0551,12.1175,12.1801,12.2428,12.3304 ,12.3917,12.4548,12.518,12.5814,12.6448 ,12.7296,12.7934,12.8602,12.8922, 12.9244,12.9565,13.0114,13.0655,13.0979 ,13.1304,13.163,13.213,13.2457,13.2785, 13.3113,13.3441,13.3771,13.4101,13.4452 ,13.4783,13.5115,13.5447,13.6161, 13.6495,13.594)
FOOTPRINT_POINT_LONGITUDE = (228.867,228.902,228.937,228.972, 229.011,229.045,229.08,229.114,229.154, 229.2,229.234,229.268,229.302,229.336, 229.386,229.419,229.453,229.485,229.519 ,229.567,229.6,229.634,229.667,229.7, 229.757,229.79,229.832,229.865,229.895, 229.843,229.791,229.726,229.674,229.621 ,229.569,229.517,229.465,229.399, 229.334,229.282,229.23,229.177,229.125, 229.046,228.942,228.837,228.785,228.667 ,228.567,228.534,228.479,228.44,228.407 ,228.373,228.34,228.292,228.258,228.224 ,228.19,228.156,228.122,228.071,228.037 ,228.002,227.968,227.918,227.883, 227.849,227.814,227.765,227.731,227.696 ,227.661,227.626,227.59,227.543,227.507 ,227.525,227.578,227.631,227.684, 227.778,227.872,227.924,227.977,228.03, 228.109,228.162,228.215,228.268,228.321 ,228.373,228.426,228.529,228.582, 228.635,228.687,228.774,228.826, 228.867)
ORBIT_NUMBER = 13710
ORBITAL_ECCENTRICITY = 0.573
ORBITAL_INCLINATION = 86.9
ORBITAL_SEMIMAJOR_AXIS = 8809.63
PERIAPSIS_ALTITUDE = 371.96
PERIAPSIS_ARGUMENT_ANGLE = 135.04
PERIAPSIS_TIME = 2014-10-20T01:20:15.000Z
SPACECRAFT_ORIENTATION = (0.0,-1.0,0.0)
^MEX_ORIENTATION_DESC = "MEX_ORIENTATION_DESC.TXT"
SPACECRAFT_POINTING_MODE = INERT
^MEX_POINTING_DESC = "MEX_POINTING_DESC.TXT"
RIGHT_ASCENSION = 49.305
DECLINATION = -60.95
OFFSET_ANGLE = -1e+32
SPACECRAFT_SOLAR_DISTANCE = 2.09607e+08
TARGET_NAME = MARS
/* CAMERA DATA ELEMENTS */
BUFFER_MODE_ID = DIRECT
EXPOSURE_DURATION = 516.096
INST_CMPRS_NAME = NONE
INST_CMPRS_RATIO = 1.0
INST_CMPRS_QUALITY = -2147483648
INST_CMPRS_QUANTZ_TBL_ID = -2147483648
INSTRUMENT_TEMPERATURE = 9.02696
MISSING_FRAMES = 0
START_BIT = 0
/* RADIOMETRIC DATA ELEMENTS */
BANDWIDTH = 250.0
CENTER_FILTER_WAVELENGTH = 600.0
RADIANCE_OFFSET = -9.99e+31
RADIANCE_SCALING_FACTOR = -9.99e+31
REFLECTANCE_SCALING_FACTOR = -9.99e+31
MEX:REFLECTANCE_OFFSET = -9.99e+31
/* IMAGE OBJECT DEFINITIONS */
OBJECT = IMAGE
  INTERCHANGE_FORMAT = BINARY
  LINES = 2107
  LINE_SAMPLES = 1784
  SAMPLE_TYPE = UNSIGNED_INTEGER
  SAMPLE_BITS = 8
  BANDS = 1
  BAND_STORAGE_TYPE = BAND_SEQUENTIAL
  MAXIMUM = 235
  MEAN = 41.8782
  MINIMUM = 1
  STANDARD_DEVIATION = 9.21521
END_OBJECT = IMAGE
/* MAP OBJECT DEFINITIONS */
OBJECT = IMAGE_MAP_PROJECTION
  ^DATA_SET_MAP_PROJECTION_CATALOG= "DSMAP.CAT"
  A_AXIS_RADIUS = 3396.19
  B_AXIS_RADIUS = 3396.19
  C_AXIS_RADIUS = 3396.19
  CENTER_LATITUDE = 0.0
  CENTER_LONGITUDE = 229.0
  COORDINATE_SYSTEM_NAME = PLANETOGRAPHIC
  COORDINATE_SYSTEM_TYPE = "BODY-FIXED ROTATING"
  EASTERNMOST_LONGITUDE = 229.895
  FIRST_STANDARD_PARALLEL = "N/A"
  LINE_FIRST_PIXEL = 1
  LINE_LAST_PIXEL = 2107
  LINE_PROJECTION_OFFSET = 10153.0
  MAP_PROJECTION_ROTATION = 0.0
  MAP_PROJECTION_TYPE = SINUSOIDAL
  MAP_RESOLUTION = 740.9337064023611
  MAP_SCALE = 0.08
  MAXIMUM_LATITUDE = 13.6495
  MINIMUM_LATITUDE = 10.8809
  POSITIVE_LONGITUDE_DIRECTION = EAST
  REFERENCE_LATITUDE = "N/A"
  REFERENCE_LONGITUDE = "N/A"
  SAMPLE_FIRST_PIXEL = 1
  SAMPLE_LAST_PIXEL = 1784
  SAMPLE_PROJECTION_OFFSET = 1117.0
  SECOND_STANDARD_PARALLEL = "N/A"
  WESTERNMOST_LONGITUDE = 227.507
END_OBJECT = IMAGE_MAP_PROJECTION
/* The JPEG2000 image data file associated with this label. */
OBJECT = COMPRESSED_FILE
  FILE_NAME = "HD710_0038_SR3.JP2"
  RECORD_TYPE = UNDEFINED
  FILE_RECORDS = UNK
  ENCODING_TYPE = "JP2"
  INTERCHANGE_FORMAT = BINARY
  UNCOMPRESSED_FILE_NAME = "HD710_0038_SR3.IMG"
  REQUIRED_STORAGE_BYTES = "3780296"
  ^DESCRIPTION = "JP2INFO.TXT"
END_OBJECT = COMPRESSED_FILE
END
