PDS_VERSION_ID = PDS3
/* FILE DATA ELEMENTS */
RECORD_TYPE = STREAM
/* POINTERS TO DATA OBJECTS */
^COMPRESSED_FILE = "HD710_0042_SR3.JP2"
/* IDENTIFICATION DATA ELEMENTS */
DATA_SET_ID = "MEX-M-HRSC-5-REFDR-MAPPROJECTED-V3.0"
DATA_SET_NAME = "MARS EXPRESS HRSC MAP PROJECTED REFDR V3.0"
DETECTOR_ID = MEX_HRSC_SRC
EVENT_TYPE = "MARS-AURORA-SYSTEMTEST-Ot"
INSTRUMENT_HOST_ID = MEX
INSTRUMENT_HOST_NAME = "MARS EXPRESS"
INSTRUMENT_ID = HRSC
INSTRUMENT_NAME = "HIGH RESOLUTION STEREO CAMERA"
MISSION_NAME = "MARS EXPRESS"
MISSION_PHASE_NAME = ME_Phase_31
PROCESSING_LEVEL_ID = 3
PRODUCT_CREATION_TIME = 2016-10-29T17:34:02.000Z
PRODUCT_ID = "HD710_0042_SR3.JP2"
RELEASE_ID = 0126
REVISION_ID = 0000
/* QUALITY DATA ELEMENTS */
DATA_QUALITY_ID = 1
DATA_QUALITY_DESC = "Data calculated based on original SPICE kernels"
/* TIME DATA ELEMENTS */
SPACECRAFT_CLOCK_START_COUNT = "1/0361840257.07318"
SPACECRAFT_CLOCK_STOP_COUNT = "1/0361840386.52887"
IMAGE_TIME = 2014-10-19T23:11:25.833Z
START_TIME = 2014-10-19T23:11:25.575Z
STOP_TIME = 2014-10-19T23:11:26.091Z
/* ORBITAL DATA ELEMENTS */
ASCENDING_NODE_LONGITUDE = 316.31
MAXIMUM_RESOLUTION = 89.009
FOOTPRINT_POINT_LATITUDE = (13.6568,13.5923,13.528,13.4639,13.3998 ,13.3049,13.2412,13.1776,13.0668, 12.9802,12.9171,12.8542,12.7914,12.7286 ,12.6155,12.5531,12.4543,12.3923, 12.3007,12.239,12.1773,12.1158,12.0543, 11.989,11.9278,11.8197,11.7588,11.6877, 11.64,11.6075,11.5751,11.5428,11.5105, 11.4782,11.4476,11.4155,11.3834,11.3429 ,11.311,11.279,11.2327,11.2009,11.1691, 11.1374,11.1058,11.0742,11.0279,10.9965 ,10.9368,11.0428,11.1503,11.2109, 11.2718,11.3788,11.4399,11.5012,11.5625 ,11.6239,11.6855,11.7609,11.8227, 11.8846,11.9467,12.0537,12.1161,12.1786 ,12.2412,12.304,12.3681,12.4235,12.4867 ,12.5499,12.6133,12.6767,12.7297, 12.7934,12.8573,12.9261,12.9582,12.9904 ,13.0227,13.067,13.0993,13.1318,13.1643 ,13.1968,13.2294,13.2795,13.3123, 13.3451,13.3779,13.4226,13.4624,13.4954 ,13.5286,13.5618,13.595,13.6284,13.6831 ,13.6568)
FOOTPRINT_POINT_LONGITUDE = (228.854,228.889,228.924,228.959, 228.994,229.046,229.081,229.115,229.175 ,229.222,229.256,229.29,229.324,229.358 ,229.419,229.453,229.506,229.539, 229.589,229.622,229.655,229.688,229.721 ,229.757,229.789,229.847,229.88,229.795 ,229.716,229.664,229.612,229.56,229.508 ,229.456,229.403,229.351,229.298, 229.233,229.181,229.129,229.05,228.998, 228.945,228.893,228.841,228.789,228.71, 228.657,228.558,228.499,228.44,228.407, 228.373,228.314,228.28,228.246,228.212, 228.178,228.144,228.103,228.068,228.034 ,228.0,227.94,227.906,227.871,227.836, 227.801,227.766,227.735,227.7,227.665, 227.63,227.594,227.565,227.529,227.493, 227.528,227.581,227.634,227.687,227.768 ,227.821,227.874,227.927,227.98,228.033 ,228.112,228.165,228.218,228.27,228.369 ,228.453,228.505,228.558,228.611, 228.664,228.716,228.776,228.854)
ORBIT_NUMBER = 13710
ORBITAL_ECCENTRICITY = 0.573
ORBITAL_INCLINATION = 86.9
ORBITAL_SEMIMAJOR_AXIS = 8809.63
PERIAPSIS_ALTITUDE = 371.96
PERIAPSIS_ARGUMENT_ANGLE = 135.04
PERIAPSIS_TIME = 2014-10-20T01:20:15.000Z
SPACECRAFT_ORIENTATION = (0.0,-1.0,0.0)
^MEX_ORIENTATION_DESC = "MEX_ORIENTATION_DESC.TXT"
SPACECRAFT_POINTING_MODE = INERT
^MEX_POINTING_DESC = "MEX_POINTING_DESC.TXT"
RIGHT_ASCENSION = 49.305
DECLINATION = -60.95
OFFSET_ANGLE = -1e+32
SPACECRAFT_SOLAR_DISTANCE = 2.09607e+08
TARGET_NAME = MARS
/* CAMERA DATA ELEMENTS */
BUFFER_MODE_ID = DIRECT
EXPOSURE_DURATION = 516.096
INST_CMPRS_NAME = NONE
INST_CMPRS_RATIO = 1.0
INST_CMPRS_QUALITY = -2147483648
INST_CMPRS_QUANTZ_TBL_ID = -2147483648
INSTRUMENT_TEMPERATURE = 9.13018
MISSING_FRAMES = 0
START_BIT = 0
/* RADIOMETRIC DATA ELEMENTS */
BANDWIDTH = 250.0
CENTER_FILTER_WAVELENGTH = 600.0
RADIANCE_OFFSET = -9.99e+31
RADIANCE_SCALING_FACTOR = -9.99e+31
REFLECTANCE_SCALING_FACTOR = -9.99e+31
MEX:REFLECTANCE_OFFSET = -9.99e+31
/* IMAGE OBJECT DEFINITIONS */
OBJECT = IMAGE
  INTERCHANGE_FORMAT = BINARY
  LINES = 2109
  LINE_SAMPLES = 1785
  SAMPLE_TYPE = UNSIGNED_INTEGER
  SAMPLE_BITS = 8
  BANDS = 1
  BAND_STORAGE_TYPE = BAND_SEQUENTIAL
  MAXIMUM = 238
  MEAN = 39.8332
  MINIMUM = 1
  STANDARD_DEVIATION = 9.29347
END_OBJECT = IMAGE
/* MAP OBJECT DEFINITIONS */
OBJECT = IMAGE_MAP_PROJECTION
  ^DATA_SET_MAP_PROJECTION_CATALOG= "DSMAP.CAT"
  A_AXIS_RADIUS = 3396.19
  B_AXIS_RADIUS = 3396.19
  C_AXIS_RADIUS = 3396.19
  CENTER_LATITUDE = 0.0
  CENTER_LONGITUDE = 229.0
  COORDINATE_SYSTEM_NAME = PLANETOGRAPHIC
  COORDINATE_SYSTEM_TYPE = "BODY-FIXED ROTATING"
  EASTERNMOST_LONGITUDE = 229.88
  FIRST_STANDARD_PARALLEL = "N/A"
  LINE_FIRST_PIXEL = 1
  LINE_LAST_PIXEL = 2109
  LINE_PROJECTION_OFFSET = 10197.0
  MAP_PROJECTION_ROTATION = 0.0
  MAP_PROJECTION_TYPE = SINUSOIDAL
  MAP_RESOLUTION = 740.9337064023611
  MAP_SCALE = 0.08
  MAXIMUM_LATITUDE = 13.6831
  MINIMUM_LATITUDE = 10.9368
  POSITIVE_LONGITUDE_DIRECTION = EAST
  REFERENCE_LATITUDE = "N/A"
  REFERENCE_LONGITUDE = "N/A"
  SAMPLE_FIRST_PIXEL = 1
  SAMPLE_LAST_PIXEL = 1785
  SAMPLE_PROJECTION_OFFSET = 1125.0
  SECOND_STANDARD_PARALLEL = "N/A"
  WESTERNMOST_LONGITUDE = 227.493
END_OBJECT = IMAGE_MAP_PROJECTION
/* The JPEG2000 image data file associated with this label. */
OBJECT = COMPRESSED_FILE
  FILE_NAME = "HD710_0042_SR3.JP2"
  RECORD_TYPE = UNDEFINED
  FILE_RECORDS = UNK
  ENCODING_TYPE = "JP2"
  INTERCHANGE_FORMAT = BINARY
  UNCOMPRESSED_FILE_NAME = "HD710_0042_SR3.IMG"
  REQUIRED_STORAGE_BYTES = "3785985"
  ^DESCRIPTION = "JP2INFO.TXT"
END_OBJECT = COMPRESSED_FILE
END
