PDS_VERSION_ID = PDS3
/* FILE DATA ELEMENTS */
RECORD_TYPE = STREAM
/* POINTERS TO DATA OBJECTS */
^COMPRESSED_FILE = "HD710_0057_SR3.JP2"
/* IDENTIFICATION DATA ELEMENTS */
DATA_SET_ID = "MEX-M-HRSC-5-REFDR-MAPPROJECTED-V3.0"
DATA_SET_NAME = "MARS EXPRESS HRSC MAP PROJECTED REFDR V3.0"
DETECTOR_ID = MEX_HRSC_SRC
EVENT_TYPE = "MARS-AURORA-SYSTEMTEST-Ot"
INSTRUMENT_HOST_ID = MEX
INSTRUMENT_HOST_NAME = "MARS EXPRESS"
INSTRUMENT_ID = HRSC
INSTRUMENT_NAME = "HIGH RESOLUTION STEREO CAMERA"
MISSION_NAME = "MARS EXPRESS"
MISSION_PHASE_NAME = ME_Phase_31
PROCESSING_LEVEL_ID = 3
PRODUCT_CREATION_TIME = 2016-10-29T17:34:02.000Z
PRODUCT_ID = "HD710_0057_SR3.JP2"
RELEASE_ID = 0126
REVISION_ID = 0000
/* QUALITY DATA ELEMENTS */
DATA_QUALITY_ID = 1
DATA_QUALITY_DESC = "Data calculated based on original SPICE kernels"
/* TIME DATA ELEMENTS */
SPACECRAFT_CLOCK_START_COUNT = "1/0361840257.07318"
SPACECRAFT_CLOCK_STOP_COUNT = "1/0361840386.52887"
IMAGE_TIME = 2014-10-19T23:11:34.008Z
START_TIME = 2014-10-19T23:11:33.750Z
STOP_TIME = 2014-10-19T23:11:34.266Z
/* ORBITAL DATA ELEMENTS */
ASCENDING_NODE_LONGITUDE = 316.31
MAXIMUM_RESOLUTION = 89.019
FOOTPRINT_POINT_LATITUDE = (13.8059,13.7401,13.6556,13.5913, 13.5272,13.4632,13.3993,13.3266,13.2572 ,13.1938,13.1304,13.0672,12.9809,12.918 ,12.8552,12.7926,12.73,12.6409,12.5786, 12.5165,12.4545,12.3926,12.2898,12.2282 ,12.1667,12.1054,12.0178,11.9578, 11.9251,11.8855,11.8528,11.8202,11.7877 ,11.7552,11.7228,11.6678,11.6355, 11.6033,11.5711,11.539,11.5069,11.4443, 11.4124,11.3805,11.3325,11.3008,11.2389 ,11.2073,11.1474,11.208,11.2967,11.3788 ,11.4397,11.5008,11.562,11.6232,11.7178 ,11.7793,11.841,11.9083,11.9703,12.0537 ,12.1159,12.1783,12.2407,12.3033, 12.3913,12.4542,12.515,12.5781,12.6413, 12.7298,12.7933,12.857,12.9208,12.9847, 13.0744,13.1435,13.1758,13.2081,13.2405 ,13.2729,13.3097,13.3422,13.3748, 13.4075,13.4404,13.5022,13.5351,13.568, 13.601,13.6341,13.6672,13.7071,13.757, 13.7449,13.7782,13.8117,13.8814, 13.8059)
FOOTPRINT_POINT_LONGITUDE = (228.85,228.89,228.935,228.97,229.005, 229.04,229.074,229.114,229.152,229.186, 229.22,229.255,229.301,229.335,229.369, 229.403,229.437,229.485,229.518,229.552 ,229.585,229.619,229.674,229.707,229.74 ,229.773,229.82,229.851,229.799,229.733 ,229.681,229.629,229.577,229.525, 229.473,229.381,229.328,229.276,229.224 ,229.172,229.12,229.015,228.962,228.91, 228.832,228.78,228.674,228.622,228.522, 228.489,228.44,228.395,228.361,228.328, 228.294,228.26,228.208,228.174,228.139, 228.102,228.068,228.022,227.987,227.953 ,227.918,227.883,227.834,227.799, 227.766,227.731,227.695,227.646,227.611 ,227.575,227.54,227.504,227.454,227.506 ,227.559,227.612,227.665,227.718, 227.768,227.821,227.874,227.927,228.014 ,228.105,228.158,228.21,228.263,228.316 ,228.369,228.453,228.532,228.605, 228.658,228.71,228.781,228.85)
ORBIT_NUMBER = 13710
ORBITAL_ECCENTRICITY = 0.573
ORBITAL_INCLINATION = 86.9
ORBITAL_SEMIMAJOR_AXIS = 8809.63
PERIAPSIS_ALTITUDE = 371.96
PERIAPSIS_ARGUMENT_ANGLE = 135.04
PERIAPSIS_TIME = 2014-10-20T01:20:15.000Z
SPACECRAFT_ORIENTATION = (0.0,-1.0,0.0)
^MEX_ORIENTATION_DESC = "MEX_ORIENTATION_DESC.TXT"
SPACECRAFT_POINTING_MODE = INERT
^MEX_POINTING_DESC = "MEX_POINTING_DESC.TXT"
RIGHT_ASCENSION = 49.305
DECLINATION = -60.95
OFFSET_ANGLE = -1e+32
SPACECRAFT_SOLAR_DISTANCE = 2.09607e+08
TARGET_NAME = MARS
/* CAMERA DATA ELEMENTS */
BUFFER_MODE_ID = DIRECT
EXPOSURE_DURATION = 516.096
INST_CMPRS_NAME = NONE
INST_CMPRS_RATIO = 1.0
INST_CMPRS_QUALITY = -2147483648
INST_CMPRS_QUANTZ_TBL_ID = -2147483648
INSTRUMENT_TEMPERATURE = 9.51727
MISSING_FRAMES = 0
START_BIT = 0
/* RADIOMETRIC DATA ELEMENTS */
BANDWIDTH = 250.0
CENTER_FILTER_WAVELENGTH = 600.0
RADIANCE_OFFSET = -9.99e+31
RADIANCE_SCALING_FACTOR = -9.99e+31
REFLECTANCE_SCALING_FACTOR = -9.99e+31
MEX:REFLECTANCE_OFFSET = -9.99e+31
/* IMAGE OBJECT DEFINITIONS */
OBJECT = IMAGE
  INTERCHANGE_FORMAT = BINARY
  LINES = 2117
  LINE_SAMPLES = 1787
  SAMPLE_TYPE = UNSIGNED_INTEGER
  SAMPLE_BITS = 8
  BANDS = 1
  BAND_STORAGE_TYPE = BAND_SEQUENTIAL
  MAXIMUM = 223
  MEAN = 40.6892
  MINIMUM = 1
  STANDARD_DEVIATION = 9.11029
END_OBJECT = IMAGE
/* MAP OBJECT DEFINITIONS */
OBJECT = IMAGE_MAP_PROJECTION
  ^DATA_SET_MAP_PROJECTION_CATALOG= "DSMAP.CAT"
  A_AXIS_RADIUS = 3396.19
  B_AXIS_RADIUS = 3396.19
  C_AXIS_RADIUS = 3396.19
  CENTER_LATITUDE = 0.0
  CENTER_LONGITUDE = 229.0
  COORDINATE_SYSTEM_NAME = PLANETOGRAPHIC
  COORDINATE_SYSTEM_TYPE = "BODY-FIXED ROTATING"
  EASTERNMOST_LONGITUDE = 229.851
  FIRST_STANDARD_PARALLEL = "N/A"
  LINE_FIRST_PIXEL = 1
  LINE_LAST_PIXEL = 2117
  LINE_PROJECTION_OFFSET = 10361.0
  MAP_PROJECTION_ROTATION = 0.0
  MAP_PROJECTION_TYPE = SINUSOIDAL
  MAP_RESOLUTION = 740.9337064023611
  MAP_SCALE = 0.08
  MAXIMUM_LATITUDE = 13.8814
  MINIMUM_LATITUDE = 11.1474
  POSITIVE_LONGITUDE_DIRECTION = EAST
  REFERENCE_LATITUDE = "N/A"
  REFERENCE_LONGITUDE = "N/A"
  SAMPLE_FIRST_PIXEL = 1
  SAMPLE_LAST_PIXEL = 1787
  SAMPLE_PROJECTION_OFFSET = 1153.0
  SECOND_STANDARD_PARALLEL = "N/A"
  WESTERNMOST_LONGITUDE = 227.454
END_OBJECT = IMAGE_MAP_PROJECTION
/* The JPEG2000 image data file associated with this label. */
OBJECT = COMPRESSED_FILE
  FILE_NAME = "HD710_0057_SR3.JP2"
  RECORD_TYPE = UNDEFINED
  FILE_RECORDS = UNK
  ENCODING_TYPE = "JP2"
  INTERCHANGE_FORMAT = BINARY
  UNCOMPRESSED_FILE_NAME = "HD710_0057_SR3.IMG"
  REQUIRED_STORAGE_BYTES = "3804523"
  ^DESCRIPTION = "JP2INFO.TXT"
END_OBJECT = COMPRESSED_FILE
END
