PDS_VERSION_ID = PDS3
/* FILE DATA ELEMENTS */
RECORD_TYPE = STREAM
/* POINTERS TO DATA OBJECTS */
^COMPRESSED_FILE = "HD710_0076_SR3.JP2"
/* IDENTIFICATION DATA ELEMENTS */
DATA_SET_ID = "MEX-M-HRSC-5-REFDR-MAPPROJECTED-V3.0"
DATA_SET_NAME = "MARS EXPRESS HRSC MAP PROJECTED REFDR V3.0"
DETECTOR_ID = MEX_HRSC_SRC
EVENT_TYPE = "MARS-AURORA-SYSTEMTEST-Ot"
INSTRUMENT_HOST_ID = MEX
INSTRUMENT_HOST_NAME = "MARS EXPRESS"
INSTRUMENT_ID = HRSC
INSTRUMENT_NAME = "HIGH RESOLUTION STEREO CAMERA"
MISSION_NAME = "MARS EXPRESS"
MISSION_PHASE_NAME = ME_Phase_31
PROCESSING_LEVEL_ID = 3
PRODUCT_CREATION_TIME = 2016-10-29T17:34:02.000Z
PRODUCT_ID = "HD710_0076_SR3.JP2"
RELEASE_ID = 0126
REVISION_ID = 0000
/* QUALITY DATA ELEMENTS */
DATA_QUALITY_ID = 1
DATA_QUALITY_DESC = "Data calculated based on original SPICE kernels"
/* TIME DATA ELEMENTS */
SPACECRAFT_CLOCK_START_COUNT = "1/0361840257.07318"
SPACECRAFT_CLOCK_STOP_COUNT = "1/0361840386.52887"
IMAGE_TIME = 2014-10-19T23:11:44.363Z
START_TIME = 2014-10-19T23:11:44.105Z
STOP_TIME = 2014-10-19T23:11:44.621Z
/* ORBITAL DATA ELEMENTS */
ASCENDING_NODE_LONGITUDE = 316.31
MAXIMUM_RESOLUTION = 89.032
FOOTPRINT_POINT_LATITUDE = (14.0788,13.9968,13.9322,13.8676, 13.8032,13.7228,13.6434,13.5794,13.5155 ,13.4033,13.3198,13.2565,13.1933, 13.1302,13.0672,12.9518,12.8892,12.7923 ,12.73,12.6385,12.5764,12.5145,12.4527, 12.3911,12.3232,12.2617,12.1891,12.1563 ,12.1235,12.0908,12.0581,12.0089, 11.9696,11.9371,11.9047,11.8723,11.84, 11.8077,11.7528,11.7207,11.6648,11.6328 ,11.6009,11.5387,11.5069,11.4752, 11.4151,11.4831,11.5441,11.6051,11.7165 ,11.7778,11.8393,11.9009,11.9626, 12.0244,12.0938,12.1559,12.2181,12.2804 ,12.3915,12.4541,12.5169,12.5798, 12.6428,12.7287,12.792,12.8555,12.919, 12.9827,13.0901,13.1541,13.2183,13.307, 13.3715,13.4205,13.4549,13.4874,13.5199 ,13.5525,13.5957,13.6285,13.6613, 13.6941,13.727,13.76,13.7246,13.7848, 13.7739,13.807,13.8401,13.8733,13.9066, 13.9577,13.9911,14.0246,14.0581,14.0917 ,14.1158,14.0788)
FOOTPRINT_POINT_LONGITUDE = (228.8,228.848,228.883,228.918,228.953, 228.997,229.044,229.078,229.113,229.174 ,229.219,229.254,229.288,229.322, 229.356,229.418,229.452,229.504,229.538 ,229.587,229.621,229.654,229.687,229.72 ,229.757,229.79,229.74,229.688,229.636, 229.584,229.532,229.454,229.388,229.336 ,229.284,229.231,229.179,229.127, 229.035,228.983,228.891,228.839,228.787 ,228.681,228.629,228.577,228.477,228.44 ,228.406,228.373,228.311,228.277, 228.243,228.209,228.175,228.141,228.102 ,228.068,228.034,227.999,227.937, 227.903,227.868,227.833,227.798,227.75, 227.715,227.68,227.644,227.609,227.548, 227.513,227.477,227.428,227.392,227.455 ,227.558,227.611,227.664,227.717, 227.765,227.818,227.871,227.924,227.977 ,228.03,228.08,228.069,228.16,228.212, 228.265,228.318,228.371,228.449,228.502 ,228.554,228.607,228.66,228.751,228.8)
ORBIT_NUMBER = 13710
ORBITAL_ECCENTRICITY = 0.573
ORBITAL_INCLINATION = 86.9
ORBITAL_SEMIMAJOR_AXIS = 8809.63
PERIAPSIS_ALTITUDE = 371.96
PERIAPSIS_ARGUMENT_ANGLE = 135.04
PERIAPSIS_TIME = 2014-10-20T01:20:15.000Z
SPACECRAFT_ORIENTATION = (0.0,-1.0,0.0)
^MEX_ORIENTATION_DESC = "MEX_ORIENTATION_DESC.TXT"
SPACECRAFT_POINTING_MODE = INERT
^MEX_POINTING_DESC = "MEX_POINTING_DESC.TXT"
RIGHT_ASCENSION = 49.305
DECLINATION = -60.95
OFFSET_ANGLE = -1e+32
SPACECRAFT_SOLAR_DISTANCE = 2.09607e+08
TARGET_NAME = MARS
/* CAMERA DATA ELEMENTS */
BUFFER_MODE_ID = DIRECT
EXPOSURE_DURATION = 516.096
INST_CMPRS_NAME = NONE
INST_CMPRS_RATIO = 1.0
INST_CMPRS_QUALITY = -2147483648
INST_CMPRS_QUANTZ_TBL_ID = -2147483648
INSTRUMENT_TEMPERATURE = 10.0076
MISSING_FRAMES = 0
START_BIT = 0
/* RADIOMETRIC DATA ELEMENTS */
BANDWIDTH = 250.0
CENTER_FILTER_WAVELENGTH = 600.0
RADIANCE_OFFSET = -9.99e+31
RADIANCE_SCALING_FACTOR = -9.99e+31
REFLECTANCE_SCALING_FACTOR = -9.99e+31
MEX:REFLECTANCE_OFFSET = -9.99e+31
/* IMAGE OBJECT DEFINITIONS */
OBJECT = IMAGE
  INTERCHANGE_FORMAT = BINARY
  LINES = 2127
  LINE_SAMPLES = 1788
  SAMPLE_TYPE = UNSIGNED_INTEGER
  SAMPLE_BITS = 8
  BANDS = 1
  BAND_STORAGE_TYPE = BAND_SEQUENTIAL
  MAXIMUM = 210
  MEAN = 40.0206
  MINIMUM = 1
  STANDARD_DEVIATION = 8.79583
END_OBJECT = IMAGE
/* MAP OBJECT DEFINITIONS */
OBJECT = IMAGE_MAP_PROJECTION
  ^DATA_SET_MAP_PROJECTION_CATALOG= "DSMAP.CAT"
  A_AXIS_RADIUS = 3396.19
  B_AXIS_RADIUS = 3396.19
  C_AXIS_RADIUS = 3396.19
  CENTER_LATITUDE = 0.0
  CENTER_LONGITUDE = 229.0
  COORDINATE_SYSTEM_NAME = PLANETOGRAPHIC
  COORDINATE_SYSTEM_TYPE = "BODY-FIXED ROTATING"
  EASTERNMOST_LONGITUDE = 229.79
  FIRST_STANDARD_PARALLEL = "N/A"
  LINE_FIRST_PIXEL = 1
  LINE_LAST_PIXEL = 2127
  LINE_PROJECTION_OFFSET = 10570.0
  MAP_PROJECTION_ROTATION = 0.0
  MAP_PROJECTION_TYPE = SINUSOIDAL
  MAP_RESOLUTION = 740.9337064023611
  MAP_SCALE = 0.08
  MAXIMUM_LATITUDE = 14.1158
  MINIMUM_LATITUDE = 11.4151
  POSITIVE_LONGITUDE_DIRECTION = EAST
  REFERENCE_LATITUDE = "N/A"
  REFERENCE_LONGITUDE = "N/A"
  SAMPLE_FIRST_PIXEL = 1
  SAMPLE_LAST_PIXEL = 1788
  SAMPLE_PROJECTION_OFFSET = 1188.0
  SECOND_STANDARD_PARALLEL = "N/A"
  WESTERNMOST_LONGITUDE = 227.392
END_OBJECT = IMAGE_MAP_PROJECTION
/* The JPEG2000 image data file associated with this label. */
OBJECT = COMPRESSED_FILE
  FILE_NAME = "HD710_0076_SR3.JP2"
  RECORD_TYPE = UNDEFINED
  FILE_RECORDS = UNK
  ENCODING_TYPE = "JP2"
  INTERCHANGE_FORMAT = BINARY
  UNCOMPRESSED_FILE_NAME = "HD710_0076_SR3.IMG"
  REQUIRED_STORAGE_BYTES = "3824532"
  ^DESCRIPTION = "JP2INFO.TXT"
END_OBJECT = COMPRESSED_FILE
END
