PDS_VERSION_ID = PDS3
/* FILE DATA ELEMENTS */
RECORD_TYPE = STREAM
/* POINTERS TO DATA OBJECTS */
^COMPRESSED_FILE = "HD710_0093_SR3.JP2"
/* IDENTIFICATION DATA ELEMENTS */
DATA_SET_ID = "MEX-M-HRSC-5-REFDR-MAPPROJECTED-V3.0"
DATA_SET_NAME = "MARS EXPRESS HRSC MAP PROJECTED REFDR V3.0"
DETECTOR_ID = MEX_HRSC_SRC
EVENT_TYPE = "MARS-AURORA-SYSTEMTEST-Ot"
INSTRUMENT_HOST_ID = MEX
INSTRUMENT_HOST_NAME = "MARS EXPRESS"
INSTRUMENT_ID = HRSC
INSTRUMENT_NAME = "HIGH RESOLUTION STEREO CAMERA"
MISSION_NAME = "MARS EXPRESS"
MISSION_PHASE_NAME = ME_Phase_31
PROCESSING_LEVEL_ID = 3
PRODUCT_CREATION_TIME = 2016-10-29T17:34:02.000Z
PRODUCT_ID = "HD710_0093_SR3.JP2"
RELEASE_ID = 0126
REVISION_ID = 0000
/* QUALITY DATA ELEMENTS */
DATA_QUALITY_ID = 1
DATA_QUALITY_DESC = "Data calculated based on original SPICE kernels"
/* TIME DATA ELEMENTS */
SPACECRAFT_CLOCK_START_COUNT = "1/0361840257.07318"
SPACECRAFT_CLOCK_STOP_COUNT = "1/0361840386.52887"
IMAGE_TIME = 2014-10-19T23:11:53.629Z
START_TIME = 2014-10-19T23:11:53.371Z
STOP_TIME = 2014-10-19T23:11:53.887Z
/* ORBITAL DATA ELEMENTS */
ASCENDING_NODE_LONGITUDE = 316.31
MAXIMUM_RESOLUTION = 89.045
FOOTPRINT_POINT_LATITUDE = (14.3668,14.2771,14.2084,14.1435, 14.0778,13.999,13.9346,13.8702,13.806, 13.7419,13.6827,13.5941,13.5304,13.4668 ,13.4033,13.3182,13.2551,13.192,13.1291 ,13.0664,12.9795,12.917,12.8546,12.7924 ,12.7302,12.6274,12.5656,12.5039, 12.4246,12.3917,12.35,12.3171,12.2843, 12.2205,12.1879,12.1553,12.1228,12.0595 ,12.0265,11.9942,11.962,11.9298,11.8976 ,11.8655,11.8193,11.7873,11.7554, 11.7236,11.6837,11.7163,11.7774,11.8387 ,11.9001,11.9616,12.0544,12.1162, 12.1781,12.259,12.3211,12.391,12.4535, 12.5161,12.5787,12.6415,12.7296,12.7927 ,12.8694,12.9328,12.9963,13.0794, 13.1432,13.2071,13.2712,13.3354,13.4017 ,13.4835,13.5481,13.6137,13.655,13.6876 ,13.7202,13.6957,13.7447,13.8097, 13.8426,13.8755,13.9085,13.9415,13.9746 ,14.0241,14.0574,14.0862,14.1196,14.153 ,14.1991,14.2326,14.2663,14.3,14.3337, 14.3668)
FOOTPRINT_POINT_LONGITUDE = (228.734,228.782,228.821,228.856, 228.895,228.938,228.973,229.008,229.043 ,229.077,229.113,229.162,229.196, 229.231,229.265,229.311,229.345,229.379 ,229.413,229.447,229.494,229.527, 229.561,229.595,229.628,229.683,229.717 ,229.75,229.686,229.634,229.569,229.517 ,229.465,229.36,229.308,229.256,229.204 ,229.098,229.047,228.994,228.942,228.89 ,228.838,228.785,228.706,228.654, 228.602,228.549,228.484,228.403,228.369 ,228.336,228.302,228.268,228.216, 228.182,228.148,228.103,228.069,228.03, 227.995,227.961,227.926,227.891,227.842 ,227.807,227.765,227.729,227.694, 227.647,227.612,227.576,227.54,227.504, 227.467,227.42,227.384,227.384,227.433, 227.486,227.539,227.602,227.682,227.771 ,227.823,227.876,227.929,227.982, 228.035,228.114,228.167,228.272,228.325 ,228.378,228.442,228.494,228.547,228.6, 228.652,228.734)
ORBIT_NUMBER = 13710
ORBITAL_ECCENTRICITY = 0.573
ORBITAL_INCLINATION = 86.9
ORBITAL_SEMIMAJOR_AXIS = 8809.63
PERIAPSIS_ALTITUDE = 371.96
PERIAPSIS_ARGUMENT_ANGLE = 135.04
PERIAPSIS_TIME = 2014-10-20T01:20:15.000Z
SPACECRAFT_ORIENTATION = (0.0,-1.0,0.0)
^MEX_ORIENTATION_DESC = "MEX_ORIENTATION_DESC.TXT"
SPACECRAFT_POINTING_MODE = INERT
^MEX_POINTING_DESC = "MEX_POINTING_DESC.TXT"
RIGHT_ASCENSION = 49.305
DECLINATION = -60.95
OFFSET_ANGLE = -1e+32
SPACECRAFT_SOLAR_DISTANCE = 2.09607e+08
TARGET_NAME = MARS
/* CAMERA DATA ELEMENTS */
BUFFER_MODE_ID = DIRECT
EXPOSURE_DURATION = 516.096
INST_CMPRS_NAME = NONE
INST_CMPRS_RATIO = 1.0
INST_CMPRS_QUALITY = -2147483648
INST_CMPRS_QUANTZ_TBL_ID = -2147483648
INSTRUMENT_TEMPERATURE = 10.4463
MISSING_FRAMES = 0
START_BIT = 0
/* RADIOMETRIC DATA ELEMENTS */
BANDWIDTH = 250.0
CENTER_FILTER_WAVELENGTH = 600.0
RADIANCE_OFFSET = -9.99e+31
RADIANCE_SCALING_FACTOR = -9.99e+31
REFLECTANCE_SCALING_FACTOR = -9.99e+31
MEX:REFLECTANCE_OFFSET = -9.99e+31
/* IMAGE OBJECT DEFINITIONS */
OBJECT = IMAGE
  INTERCHANGE_FORMAT = BINARY
  LINES = 2137
  LINE_SAMPLES = 1791
  SAMPLE_TYPE = UNSIGNED_INTEGER
  SAMPLE_BITS = 8
  BANDS = 1
  BAND_STORAGE_TYPE = BAND_SEQUENTIAL
  MAXIMUM = 241
  MEAN = 36.5368
  MINIMUM = 2
  STANDARD_DEVIATION = 8.84091
END_OBJECT = IMAGE
/* MAP OBJECT DEFINITIONS */
OBJECT = IMAGE_MAP_PROJECTION
  ^DATA_SET_MAP_PROJECTION_CATALOG= "DSMAP.CAT"
  A_AXIS_RADIUS = 3396.19
  B_AXIS_RADIUS = 3396.19
  C_AXIS_RADIUS = 3396.19
  CENTER_LATITUDE = 0.0
  CENTER_LONGITUDE = 229.0
  COORDINATE_SYSTEM_NAME = PLANETOGRAPHIC
  COORDINATE_SYSTEM_TYPE = "BODY-FIXED ROTATING"
  EASTERNMOST_LONGITUDE = 229.75
  FIRST_STANDARD_PARALLEL = "N/A"
  LINE_FIRST_PIXEL = 1
  LINE_LAST_PIXEL = 2137
  LINE_PROJECTION_OFFSET = 10758.0
  MAP_PROJECTION_ROTATION = 0.0
  MAP_PROJECTION_TYPE = SINUSOIDAL
  MAP_RESOLUTION = 740.9337064023611
  MAP_SCALE = 0.08
  MAXIMUM_LATITUDE = 14.3668
  MINIMUM_LATITUDE = 11.6837
  POSITIVE_LONGITUDE_DIRECTION = EAST
  REFERENCE_LATITUDE = "N/A"
  REFERENCE_LONGITUDE = "N/A"
  SAMPLE_FIRST_PIXEL = 1
  SAMPLE_LAST_PIXEL = 1791
  SAMPLE_PROJECTION_OFFSET = 1221.0
  SECOND_STANDARD_PARALLEL = "N/A"
  WESTERNMOST_LONGITUDE = 227.384
END_OBJECT = IMAGE_MAP_PROJECTION
/* The JPEG2000 image data file associated with this label. */
OBJECT = COMPRESSED_FILE
  FILE_NAME = "HD710_0093_SR3.JP2"
  RECORD_TYPE = UNDEFINED
  FILE_RECORDS = UNK
  ENCODING_TYPE = "JP2"
  INTERCHANGE_FORMAT = BINARY
  UNCOMPRESSED_FILE_NAME = "HD710_0093_SR3.IMG"
  REQUIRED_STORAGE_BYTES = "3848859"
  ^DESCRIPTION = "JP2INFO.TXT"
END_OBJECT = COMPRESSED_FILE
END
