PDS_VERSION_ID = PDS3
/* FILE DATA ELEMENTS */
RECORD_TYPE = STREAM
/* POINTERS TO DATA OBJECTS */
^COMPRESSED_FILE = "HD710_0097_SR3.JP2"
/* IDENTIFICATION DATA ELEMENTS */
DATA_SET_ID = "MEX-M-HRSC-5-REFDR-MAPPROJECTED-V3.0"
DATA_SET_NAME = "MARS EXPRESS HRSC MAP PROJECTED REFDR V3.0"
DETECTOR_ID = MEX_HRSC_SRC
EVENT_TYPE = "MARS-AURORA-SYSTEMTEST-Ot"
INSTRUMENT_HOST_ID = MEX
INSTRUMENT_HOST_NAME = "MARS EXPRESS"
INSTRUMENT_ID = HRSC
INSTRUMENT_NAME = "HIGH RESOLUTION STEREO CAMERA"
MISSION_NAME = "MARS EXPRESS"
MISSION_PHASE_NAME = ME_Phase_31
PROCESSING_LEVEL_ID = 3
PRODUCT_CREATION_TIME = 2016-10-29T17:34:02.000Z
PRODUCT_ID = "HD710_0097_SR3.JP2"
RELEASE_ID = 0126
REVISION_ID = 0000
/* QUALITY DATA ELEMENTS */
DATA_QUALITY_ID = 1
DATA_QUALITY_DESC = "Data calculated based on original SPICE kernels"
/* TIME DATA ELEMENTS */
SPACECRAFT_CLOCK_START_COUNT = "1/0361840257.07318"
SPACECRAFT_CLOCK_STOP_COUNT = "1/0361840386.52887"
IMAGE_TIME = 2014-10-19T23:11:55.809Z
START_TIME = 2014-10-19T23:11:55.551Z
STOP_TIME = 2014-10-19T23:11:56.067Z
/* ORBITAL DATA ELEMENTS */
ASCENDING_NODE_LONGITUDE = 316.31
MAXIMUM_RESOLUTION = 89.049
FOOTPRINT_POINT_LATITUDE = (14.3711,14.2737,14.2087,14.1438, 14.0883,13.9975,13.9331,13.8688,13.8046 ,13.7493,13.6586,13.5948,13.5312, 13.4677,13.4043,13.3468,13.2837,13.2207 ,13.1577,13.095,13.0413,12.9787,12.9163 ,12.854,12.7918,12.7297,12.6694,12.6076 ,12.5459,12.4902,12.4572,12.4242, 12.3913,12.3415,12.3022,12.2695,12.2368 ,12.2042,12.1717,12.1392,12.0922, 12.0599,12.0269,11.9947,11.9625,11.9304 ,11.8761,11.8441,11.7802,11.7185,11.771 ,11.8322,11.8936,11.955,12.0554,12.1172 ,12.179,12.241,12.3298,12.3918,12.4542, 12.5168,12.5794,12.6421,12.7302,12.7932 ,12.9074,12.9708,13.0578,13.1215, 13.1853,13.2493,13.3134,13.3996,13.464, 13.5561,13.6208,13.6885,13.7381,13.7217 ,13.7788,13.8116,13.8767,13.9096, 13.9426,13.9756,14.0087,14.0418,14.075, 14.0786,14.1119,14.1453,14.1787,14.2121 ,14.2667,14.3003,14.334,14.3677,14.4083 ,14.3711)
FOOTPRINT_POINT_LONGITUDE = (228.753,228.807,228.842,228.877, 228.911,228.96,228.995,229.03,229.065, 229.099,229.148,229.183,229.217,229.252 ,229.286,229.317,229.351,229.385, 229.419,229.453,229.482,229.515,229.549 ,229.583,229.616,229.65,229.682,229.715 ,229.749,229.689,229.637,229.585, 229.533,229.455,229.389,229.337,229.285 ,229.233,229.181,229.129,229.05,228.997 ,228.946,228.893,228.841,228.789, 228.696,228.644,228.54,228.434,228.395, 228.361,228.327,228.293,228.237,228.203 ,228.169,228.135,228.086,228.051, 228.017,227.982,227.947,227.912,227.864 ,227.829,227.765,227.73,227.681,227.645 ,227.61,227.574,227.539,227.489,227.453 ,227.401,227.365,227.4,227.462,227.539, 227.631,227.684,227.773,227.826,227.879 ,227.931,227.984,228.037,228.09,228.156 ,228.209,228.262,228.314,228.367, 228.444,228.497,228.549,228.602,228.702 ,228.753)
ORBIT_NUMBER = 13710
ORBITAL_ECCENTRICITY = 0.573
ORBITAL_INCLINATION = 86.9
ORBITAL_SEMIMAJOR_AXIS = 8809.63
PERIAPSIS_ALTITUDE = 371.96
PERIAPSIS_ARGUMENT_ANGLE = 135.04
PERIAPSIS_TIME = 2014-10-20T01:20:15.000Z
SPACECRAFT_ORIENTATION = (0.0,-1.0,0.0)
^MEX_ORIENTATION_DESC = "MEX_ORIENTATION_DESC.TXT"
SPACECRAFT_POINTING_MODE = INERT
^MEX_POINTING_DESC = "MEX_POINTING_DESC.TXT"
RIGHT_ASCENSION = 49.305
DECLINATION = -60.95
OFFSET_ANGLE = -1e+32
SPACECRAFT_SOLAR_DISTANCE = 2.09607e+08
TARGET_NAME = MARS
/* CAMERA DATA ELEMENTS */
BUFFER_MODE_ID = DIRECT
EXPOSURE_DURATION = 516.096
INST_CMPRS_NAME = NONE
INST_CMPRS_RATIO = 1.0
INST_CMPRS_QUALITY = -2147483648
INST_CMPRS_QUANTZ_TBL_ID = -2147483648
INSTRUMENT_TEMPERATURE = 10.5495
MISSING_FRAMES = 0
START_BIT = 0
/* RADIOMETRIC DATA ELEMENTS */
BANDWIDTH = 250.0
CENTER_FILTER_WAVELENGTH = 600.0
RADIANCE_OFFSET = -9.99e+31
RADIANCE_SCALING_FACTOR = -9.99e+31
REFLECTANCE_SCALING_FACTOR = -9.99e+31
MEX:REFLECTANCE_OFFSET = -9.99e+31
/* IMAGE OBJECT DEFINITIONS */
OBJECT = IMAGE
  INTERCHANGE_FORMAT = BINARY
  LINES = 2140
  LINE_SAMPLES = 1791
  SAMPLE_TYPE = UNSIGNED_INTEGER
  SAMPLE_BITS = 8
  BANDS = 1
  BAND_STORAGE_TYPE = BAND_SEQUENTIAL
  MAXIMUM = 235
  MEAN = 37.6884
  MINIMUM = 1
  STANDARD_DEVIATION = 9.03511
END_OBJECT = IMAGE
/* MAP OBJECT DEFINITIONS */
OBJECT = IMAGE_MAP_PROJECTION
  ^DATA_SET_MAP_PROJECTION_CATALOG= "DSMAP.CAT"
  A_AXIS_RADIUS = 3396.19
  B_AXIS_RADIUS = 3396.19
  C_AXIS_RADIUS = 3396.19
  CENTER_LATITUDE = 0.0
  CENTER_LONGITUDE = 229.0
  COORDINATE_SYSTEM_NAME = PLANETOGRAPHIC
  COORDINATE_SYSTEM_TYPE = "BODY-FIXED ROTATING"
  EASTERNMOST_LONGITUDE = 229.749
  FIRST_STANDARD_PARALLEL = "N/A"
  LINE_FIRST_PIXEL = 1
  LINE_LAST_PIXEL = 2140
  LINE_PROJECTION_OFFSET = 10804.0
  MAP_PROJECTION_ROTATION = 0.0
  MAP_PROJECTION_TYPE = SINUSOIDAL
  MAP_RESOLUTION = 740.9337064023611
  MAP_SCALE = 0.08
  MAXIMUM_LATITUDE = 14.4083
  MINIMUM_LATITUDE = 11.7185
  POSITIVE_LONGITUDE_DIRECTION = EAST
  REFERENCE_LATITUDE = "N/A"
  REFERENCE_LONGITUDE = "N/A"
  SAMPLE_FIRST_PIXEL = 1
  SAMPLE_LAST_PIXEL = 1791
  SAMPLE_PROJECTION_OFFSET = 1229.0
  SECOND_STANDARD_PARALLEL = "N/A"
  WESTERNMOST_LONGITUDE = 227.365
END_OBJECT = IMAGE_MAP_PROJECTION
/* The JPEG2000 image data file associated with this label. */
OBJECT = COMPRESSED_FILE
  FILE_NAME = "HD710_0097_SR3.JP2"
  RECORD_TYPE = UNDEFINED
  FILE_RECORDS = UNK
  ENCODING_TYPE = "JP2"
  INTERCHANGE_FORMAT = BINARY
  UNCOMPRESSED_FILE_NAME = "HD710_0097_SR3.IMG"
  REQUIRED_STORAGE_BYTES = "3854232"
  ^DESCRIPTION = "JP2INFO.TXT"
END_OBJECT = COMPRESSED_FILE
END
