PDS_VERSION_ID = PDS3
/* FILE DATA ELEMENTS */
RECORD_TYPE = STREAM
/* POINTERS TO DATA OBJECTS */
^COMPRESSED_FILE = "HD710_0100_SR3.JP2"
/* IDENTIFICATION DATA ELEMENTS */
DATA_SET_ID = "MEX-M-HRSC-5-REFDR-MAPPROJECTED-V3.0"
DATA_SET_NAME = "MARS EXPRESS HRSC MAP PROJECTED REFDR V3.0"
DETECTOR_ID = MEX_HRSC_SRC
EVENT_TYPE = "MARS-AURORA-SYSTEMTEST-Ot"
INSTRUMENT_HOST_ID = MEX
INSTRUMENT_HOST_NAME = "MARS EXPRESS"
INSTRUMENT_ID = HRSC
INSTRUMENT_NAME = "HIGH RESOLUTION STEREO CAMERA"
MISSION_NAME = "MARS EXPRESS"
MISSION_PHASE_NAME = ME_Phase_31
PROCESSING_LEVEL_ID = 3
PRODUCT_CREATION_TIME = 2016-10-29T17:34:02.000Z
PRODUCT_ID = "HD710_0100_SR3.JP2"
RELEASE_ID = 0126
REVISION_ID = 0000
/* QUALITY DATA ELEMENTS */
DATA_QUALITY_ID = 1
DATA_QUALITY_DESC = "Data calculated based on original SPICE kernels"
/* TIME DATA ELEMENTS */
SPACECRAFT_CLOCK_START_COUNT = "1/0361840257.07318"
SPACECRAFT_CLOCK_STOP_COUNT = "1/0361840386.52887"
IMAGE_TIME = 2014-10-19T23:11:57.444Z
START_TIME = 2014-10-19T23:11:57.186Z
STOP_TIME = 2014-10-19T23:11:57.702Z
/* ORBITAL DATA ELEMENTS */
ASCENDING_NODE_LONGITUDE = 316.31
MAXIMUM_RESOLUTION = 89.051
FOOTPRINT_POINT_LATITUDE = (14.385,14.2734,14.2084,14.1436,14.076, 13.9974,13.933,13.8687,13.8046,13.7246, 13.6587,13.5949,13.5313,13.4678,13.4045 ,13.3135,13.2505,13.1876,13.1247,13.067 ,12.9792,12.9168,12.8545,12.7923, 12.7303,12.6662,12.6044,12.525,12.492, 12.459,12.4261,12.3932,12.3451,12.3124, 12.2797,12.2471,12.2145,12.182,12.1188, 12.0864,12.0541,12.0051,11.973,11.9106, 11.8786,11.8467,11.8148,11.7562,11.8174 ,11.8786,11.94,12.0538,12.1155,12.1774, 12.2393,12.328,12.392,12.4543,12.5168, 12.5794,12.6421,12.7281,12.7912,12.8543 ,12.9369,13.0004,13.0834,13.1471,13.211 ,13.275,13.3391,13.4012,13.4656,13.5313 ,13.6486,13.7163,13.7488,13.7494,13.782 ,13.8147,13.8475,13.8803,13.9209, 13.9538,13.9868,14.0198,14.0529,14.0944 ,14.098,14.1312,14.1646,14.198,14.2314, 14.2649,14.3195,14.3532,14.3869,14.4207 ,14.4529,14.385)
FOOTPRINT_POINT_LONGITUDE = (228.761,228.823,228.858,228.893, 228.934,228.976,229.011,229.046,229.081 ,229.124,229.164,229.199,229.233, 229.267,229.302,229.351,229.385,229.419 ,229.453,229.484,229.531,229.565, 229.598,229.632,229.665,229.7,229.733, 229.669,229.617,229.565,229.513,229.461 ,229.382,229.33,229.278,229.226,229.174 ,229.121,229.016,228.964,228.912, 228.834,228.782,228.676,228.624,228.572 ,228.519,228.419,228.385,228.351, 228.317,228.255,228.22,228.186,228.152, 228.103,228.067,228.033,227.998,227.964 ,227.929,227.881,227.846,227.811, 227.765,227.73,227.683,227.648,227.612, 227.576,227.541,227.505,227.469,227.431 ,227.366,227.365,227.418,227.504, 227.557,227.61,227.663,227.716,227.765, 227.818,227.87,227.923,227.976,228.042, 228.109,228.161,228.214,228.267,228.319 ,228.372,228.449,228.502,228.554, 228.607,228.694,228.761)
ORBIT_NUMBER = 13710
ORBITAL_ECCENTRICITY = 0.573
ORBITAL_INCLINATION = 86.9
ORBITAL_SEMIMAJOR_AXIS = 8809.63
PERIAPSIS_ALTITUDE = 371.96
PERIAPSIS_ARGUMENT_ANGLE = 135.04
PERIAPSIS_TIME = 2014-10-20T01:20:15.000Z
SPACECRAFT_ORIENTATION = (0.0,-1.0,0.0)
^MEX_ORIENTATION_DESC = "MEX_ORIENTATION_DESC.TXT"
SPACECRAFT_POINTING_MODE = INERT
^MEX_POINTING_DESC = "MEX_POINTING_DESC.TXT"
RIGHT_ASCENSION = 49.305
DECLINATION = -60.95
OFFSET_ANGLE = -1e+32
SPACECRAFT_SOLAR_DISTANCE = 2.09607e+08
TARGET_NAME = MARS
/* CAMERA DATA ELEMENTS */
BUFFER_MODE_ID = DIRECT
EXPOSURE_DURATION = 516.096
INST_CMPRS_NAME = NONE
INST_CMPRS_RATIO = 1.0
INST_CMPRS_QUALITY = -2147483648
INST_CMPRS_QUANTZ_TBL_ID = -2147483648
INSTRUMENT_TEMPERATURE = 10.6269
MISSING_FRAMES = 0
START_BIT = 0
/* RADIOMETRIC DATA ELEMENTS */
BANDWIDTH = 250.0
CENTER_FILTER_WAVELENGTH = 600.0
RADIANCE_OFFSET = -9.99e+31
RADIANCE_SCALING_FACTOR = -9.99e+31
REFLECTANCE_SCALING_FACTOR = -9.99e+31
MEX:REFLECTANCE_OFFSET = -9.99e+31
/* IMAGE OBJECT DEFINITIONS */
OBJECT = IMAGE
  INTERCHANGE_FORMAT = BINARY
  LINES = 2141
  LINE_SAMPLES = 1792
  SAMPLE_TYPE = UNSIGNED_INTEGER
  SAMPLE_BITS = 8
  BANDS = 1
  BAND_STORAGE_TYPE = BAND_SEQUENTIAL
  MAXIMUM = 231
  MEAN = 37.096
  MINIMUM = 1
  STANDARD_DEVIATION = 8.90344
END_OBJECT = IMAGE
/* MAP OBJECT DEFINITIONS */
OBJECT = IMAGE_MAP_PROJECTION
  ^DATA_SET_MAP_PROJECTION_CATALOG= "DSMAP.CAT"
  A_AXIS_RADIUS = 3396.19
  B_AXIS_RADIUS = 3396.19
  C_AXIS_RADIUS = 3396.19
  CENTER_LATITUDE = 0.0
  CENTER_LONGITUDE = 229.0
  COORDINATE_SYSTEM_NAME = PLANETOGRAPHIC
  COORDINATE_SYSTEM_TYPE = "BODY-FIXED ROTATING"
  EASTERNMOST_LONGITUDE = 229.733
  FIRST_STANDARD_PARALLEL = "N/A"
  LINE_FIRST_PIXEL = 1
  LINE_LAST_PIXEL = 2141
  LINE_PROJECTION_OFFSET = 10837.0
  MAP_PROJECTION_ROTATION = 0.0
  MAP_PROJECTION_TYPE = SINUSOIDAL
  MAP_RESOLUTION = 740.9337064023611
  MAP_SCALE = 0.08
  MAXIMUM_LATITUDE = 14.4529
  MINIMUM_LATITUDE = 11.7562
  POSITIVE_LONGITUDE_DIRECTION = EAST
  REFERENCE_LATITUDE = "N/A"
  REFERENCE_LONGITUDE = "N/A"
  SAMPLE_FIRST_PIXEL = 1
  SAMPLE_LAST_PIXEL = 1792
  SAMPLE_PROJECTION_OFFSET = 1235.0
  SECOND_STANDARD_PARALLEL = "N/A"
  WESTERNMOST_LONGITUDE = 227.365
END_OBJECT = IMAGE_MAP_PROJECTION
/* The JPEG2000 image data file associated with this label. */
OBJECT = COMPRESSED_FILE
  FILE_NAME = "HD710_0100_SR3.JP2"
  RECORD_TYPE = UNDEFINED
  FILE_RECORDS = UNK
  ENCODING_TYPE = "JP2"
  INTERCHANGE_FORMAT = BINARY
  UNCOMPRESSED_FILE_NAME = "HD710_0100_SR3.IMG"
  REQUIRED_STORAGE_BYTES = "3858176"
  ^DESCRIPTION = "JP2INFO.TXT"
END_OBJECT = COMPRESSED_FILE
END
