PDS_VERSION_ID = PDS3
/* FILE DATA ELEMENTS */
RECORD_TYPE = STREAM
/* POINTERS TO DATA OBJECTS */
^COMPRESSED_FILE = "HD710_0114_SR3.JP2"
/* IDENTIFICATION DATA ELEMENTS */
DATA_SET_ID = "MEX-M-HRSC-5-REFDR-MAPPROJECTED-V3.0"
DATA_SET_NAME = "MARS EXPRESS HRSC MAP PROJECTED REFDR V3.0"
DETECTOR_ID = MEX_HRSC_SRC
EVENT_TYPE = "MARS-AURORA-SYSTEMTEST-Ot"
INSTRUMENT_HOST_ID = MEX
INSTRUMENT_HOST_NAME = "MARS EXPRESS"
INSTRUMENT_ID = HRSC
INSTRUMENT_NAME = "HIGH RESOLUTION STEREO CAMERA"
MISSION_NAME = "MARS EXPRESS"
MISSION_PHASE_NAME = ME_Phase_31
PROCESSING_LEVEL_ID = 3
PRODUCT_CREATION_TIME = 2016-10-29T17:34:02.000Z
PRODUCT_ID = "HD710_0114_SR3.JP2"
RELEASE_ID = 0126
REVISION_ID = 0000
/* QUALITY DATA ELEMENTS */
DATA_QUALITY_ID = 1
DATA_QUALITY_DESC = "Data calculated based on original SPICE kernels"
/* TIME DATA ELEMENTS */
SPACECRAFT_CLOCK_START_COUNT = "1/0361840257.07318"
SPACECRAFT_CLOCK_STOP_COUNT = "1/0361840386.52887"
IMAGE_TIME = 2014-10-19T23:12:05.074Z
START_TIME = 2014-10-19T23:12:04.816Z
STOP_TIME = 2014-10-19T23:12:05.332Z
/* ORBITAL DATA ELEMENTS */
ASCENDING_NODE_LONGITUDE = 316.31
MAXIMUM_RESOLUTION = 89.062
FOOTPRINT_POINT_LATITUDE = (14.6666,14.601,14.5356,14.4825,14.4024 ,14.3365,14.2716,14.2069,14.1423, 14.0476,13.9362,13.8517,13.7877,13.7339 ,13.6586,13.595,13.5316,13.4683,13.4051 ,13.3262,13.2633,13.1917,13.129,13.0665 ,12.977,12.9147,12.8526,12.7906,12.7179 ,12.6848,12.6517,12.6187,12.5873, 12.5544,12.5215,12.4888,12.456,12.4233, 12.3921,12.3592,12.3267,12.2942,12.2618 ,12.2295,12.1971,12.1504,12.1183, 12.0861,12.0541,12.0056,11.9548,12.0549 ,12.1165,12.1781,12.2399,12.3018, 12.3927,12.466,12.5284,12.5908,12.6534, 12.7294,12.7923,12.8552,12.9183,12.9816 ,13.0718,13.1354,13.199,13.2628,13.3267 ,13.4048,13.501,13.5654,13.6299,13.7222 ,13.8003,13.8721,13.9306,13.9633,13.996 ,14.0289,14.0618,14.1112,14.1408, 14.1739,14.207,14.2403,14.2735,14.33, 14.3634,14.3969,14.4174,14.451,14.4847, 14.5256,14.5594,14.5933,14.6272, 14.6666)
FOOTPRINT_POINT_LONGITUDE = (228.681,228.717,228.753,228.781, 228.826,228.864,228.899,228.934,228.969 ,229.02,229.084,229.133,229.168,229.197 ,229.239,229.274,229.308,229.342, 229.376,229.419,229.453,229.491,229.525 ,229.559,229.607,229.64,229.674,229.707 ,229.622,229.57,229.518,229.466,229.413 ,229.361,229.309,229.257,229.205, 229.152,229.1,229.048,228.995,228.943, 228.891,228.839,228.787,228.707,228.655 ,228.603,228.551,228.472,228.385,228.33 ,228.296,228.262,228.227,228.193, 228.143,228.102,228.068,228.033,227.999 ,227.956,227.922,227.887,227.852, 227.816,227.766,227.73,227.695,227.66, 227.624,227.58,227.525,227.489,227.453, 227.401,227.354,227.351,227.426,227.479 ,227.532,227.585,227.638,227.717, 227.823,227.876,227.928,227.981,228.034 ,228.11,228.163,228.215,228.291,228.344 ,228.396,228.446,228.498,228.551, 228.603,228.681)
ORBIT_NUMBER = 13710
ORBITAL_ECCENTRICITY = 0.573
ORBITAL_INCLINATION = 86.9
ORBITAL_SEMIMAJOR_AXIS = 8809.63
PERIAPSIS_ALTITUDE = 371.96
PERIAPSIS_ARGUMENT_ANGLE = 135.04
PERIAPSIS_TIME = 2014-10-20T01:20:15.000Z
SPACECRAFT_ORIENTATION = (0.0,-1.0,0.0)
^MEX_ORIENTATION_DESC = "MEX_ORIENTATION_DESC.TXT"
SPACECRAFT_POINTING_MODE = INERT
^MEX_POINTING_DESC = "MEX_POINTING_DESC.TXT"
RIGHT_ASCENSION = 49.305
DECLINATION = -60.95
OFFSET_ANGLE = -1e+32
SPACECRAFT_SOLAR_DISTANCE = 2.09607e+08
TARGET_NAME = MARS
/* CAMERA DATA ELEMENTS */
BUFFER_MODE_ID = DIRECT
EXPOSURE_DURATION = 516.096
INST_CMPRS_NAME = NONE
INST_CMPRS_RATIO = 1.0
INST_CMPRS_QUALITY = -2147483648
INST_CMPRS_QUANTZ_TBL_ID = -2147483648
INSTRUMENT_TEMPERATURE = 10.9882
MISSING_FRAMES = 0
START_BIT = 0
/* RADIOMETRIC DATA ELEMENTS */
BANDWIDTH = 250.0
CENTER_FILTER_WAVELENGTH = 600.0
RADIANCE_OFFSET = -9.99e+31
RADIANCE_SCALING_FACTOR = -9.99e+31
REFLECTANCE_SCALING_FACTOR = -9.99e+31
MEX:REFLECTANCE_OFFSET = -9.99e+31
/* IMAGE OBJECT DEFINITIONS */
OBJECT = IMAGE
  INTERCHANGE_FORMAT = BINARY
  LINES = 2149
  LINE_SAMPLES = 1793
  SAMPLE_TYPE = UNSIGNED_INTEGER
  SAMPLE_BITS = 8
  BANDS = 1
  BAND_STORAGE_TYPE = BAND_SEQUENTIAL
  MAXIMUM = 229
  MEAN = 37.8917
  MINIMUM = 2
  STANDARD_DEVIATION = 8.28102
END_OBJECT = IMAGE
/* MAP OBJECT DEFINITIONS */
OBJECT = IMAGE_MAP_PROJECTION
  ^DATA_SET_MAP_PROJECTION_CATALOG= "DSMAP.CAT"
  A_AXIS_RADIUS = 3396.19
  B_AXIS_RADIUS = 3396.19
  C_AXIS_RADIUS = 3396.19
  CENTER_LATITUDE = 0.0
  CENTER_LONGITUDE = 229.0
  COORDINATE_SYSTEM_NAME = PLANETOGRAPHIC
  COORDINATE_SYSTEM_TYPE = "BODY-FIXED ROTATING"
  EASTERNMOST_LONGITUDE = 229.707
  FIRST_STANDARD_PARALLEL = "N/A"
  LINE_FIRST_PIXEL = 1
  LINE_LAST_PIXEL = 2149
  LINE_PROJECTION_OFFSET = 10993.0
  MAP_PROJECTION_ROTATION = 0.0
  MAP_PROJECTION_TYPE = SINUSOIDAL
  MAP_RESOLUTION = 740.9337064023611
  MAP_SCALE = 0.08
  MAXIMUM_LATITUDE = 14.6666
  MINIMUM_LATITUDE = 11.9548
  POSITIVE_LONGITUDE_DIRECTION = EAST
  REFERENCE_LATITUDE = "N/A"
  REFERENCE_LONGITUDE = "N/A"
  SAMPLE_FIRST_PIXEL = 1
  SAMPLE_LAST_PIXEL = 1793
  SAMPLE_PROJECTION_OFFSET = 1261.0
  SECOND_STANDARD_PARALLEL = "N/A"
  WESTERNMOST_LONGITUDE = 227.351
END_OBJECT = IMAGE_MAP_PROJECTION
/* The JPEG2000 image data file associated with this label. */
OBJECT = COMPRESSED_FILE
  FILE_NAME = "HD710_0114_SR3.JP2"
  RECORD_TYPE = UNDEFINED
  FILE_RECORDS = UNK
  ENCODING_TYPE = "JP2"
  INTERCHANGE_FORMAT = BINARY
  UNCOMPRESSED_FILE_NAME = "HD710_0114_SR3.IMG"
  REQUIRED_STORAGE_BYTES = "3874673"
  ^DESCRIPTION = "JP2INFO.TXT"
END_OBJECT = COMPRESSED_FILE
END
