PDS_VERSION_ID = PDS3
/* FILE DATA ELEMENTS */
RECORD_TYPE = STREAM
/* POINTERS TO DATA OBJECTS */
^COMPRESSED_FILE = "HD711_0016_SR3.JP2"
/* IDENTIFICATION DATA ELEMENTS */
DATA_SET_ID = "MEX-M-HRSC-5-REFDR-MAPPROJECTED-V3.0"
DATA_SET_NAME = "MARS EXPRESS HRSC MAP PROJECTED REFDR V3.0"
DETECTOR_ID = MEX_HRSC_SRC
EVENT_TYPE = "MARS-AURORA-SYSTEMTEST-Ot"
INSTRUMENT_HOST_ID = MEX
INSTRUMENT_HOST_NAME = "MARS EXPRESS"
INSTRUMENT_ID = HRSC
INSTRUMENT_NAME = "HIGH RESOLUTION STEREO CAMERA"
MISSION_NAME = "MARS EXPRESS"
MISSION_PHASE_NAME = ME_Phase_31
PROCESSING_LEVEL_ID = 3
PRODUCT_CREATION_TIME = 2016-10-29T17:34:02.000Z
PRODUCT_ID = "HD711_0016_SR3.JP2"
RELEASE_ID = 0126
REVISION_ID = 0000
/* QUALITY DATA ELEMENTS */
DATA_QUALITY_ID = 1
DATA_QUALITY_DESC = "Data calculated based on original SPICE kernels"
/* TIME DATA ELEMENTS */
SPACECRAFT_CLOCK_START_COUNT = "1/0361865561.07330"
SPACECRAFT_CLOCK_STOP_COUNT = "1/0361865664.13636"
IMAGE_TIME = 2014-10-20T06:12:55.662Z
START_TIME = 2014-10-20T06:12:55.403Z
STOP_TIME = 2014-10-20T06:12:55.920Z
/* ORBITAL DATA ELEMENTS */
ASCENDING_NODE_LONGITUDE = 316.29
MAXIMUM_RESOLUTION = 89.273
FOOTPRINT_POINT_LATITUDE = (17.0267,16.9573,16.8475,16.7785, 16.7164,16.6477,16.5792,16.5108,16.4426 ,16.3329,16.2396,16.172,16.1046,16.0337 ,15.9665,15.8996,15.8327,15.7661, 15.7061,15.6277,15.5615,15.4954,15.4295 ,15.3544,15.2887,15.2233,15.1579, 15.0927,15.0163,14.9514,14.8678,14.8238 ,14.7891,14.7544,14.7094,14.6749, 14.6404,14.5887,14.5545,14.5202,14.4861 ,14.452,14.4179,14.3743,14.3404,14.3066 ,14.2728,14.2054,14.1125,14.0476,14.111 ,14.1752,14.2427,14.3071,14.4181, 14.4829,14.5478,14.6129,14.6781,14.7551 ,14.8543,14.9201,14.986,15.0925,15.1588 ,15.2252,15.2917,15.3584,15.4304, 15.4965,15.5637,15.631,15.6985,15.7681, 15.8359,15.9039,15.972,16.0694,16.138, 16.199,16.2335,16.2681,16.3028,16.3375, 16.3906,16.444,16.479,16.514,16.5492, 16.6115,16.6468,16.6822,16.7176,16.781, 16.8437,16.8794,16.9153,16.9512,16.9871 ,17.0267)
FOOTPRINT_POINT_LONGITUDE = (126.161,126.199,126.259,126.296, 126.329,126.367,126.404,126.441,126.478 ,126.537,126.587,126.623,126.66,126.698 ,126.734,126.77,126.806,126.842,126.874 ,126.916,126.952,126.987,127.023, 127.063,127.098,127.133,127.168,127.203 ,127.244,127.279,127.216,127.151, 127.098,127.046,126.982,126.93,126.877, 126.799,126.747,126.695,126.642,126.59, 126.538,126.473,126.421,126.368,126.316 ,126.212,126.068,125.969,125.934, 125.899,125.862,125.826,125.765,125.729 ,125.693,125.657,125.621,125.579, 125.524,125.487,125.451,125.392,125.355 ,125.318,125.281,125.244,125.205, 125.168,125.131,125.093,125.055,125.017 ,124.979,124.941,124.903,124.849, 124.812,124.905,124.958,125.011,125.064 ,125.117,125.196,125.275,125.328, 125.381,125.434,125.527,125.58,125.632, 125.685,125.778,125.87,125.923,125.976, 126.029,126.082,126.161)
ORBIT_NUMBER = 13711
ORBITAL_ECCENTRICITY = 0.573
ORBITAL_INCLINATION = 86.9
ORBITAL_SEMIMAJOR_AXIS = 8808.88
PERIAPSIS_ALTITUDE = 371.83
PERIAPSIS_ARGUMENT_ANGLE = 134.88
PERIAPSIS_TIME = 2014-10-20T08:19:49.000Z
SPACECRAFT_ORIENTATION = (0.0,-1.0,0.0)
^MEX_ORIENTATION_DESC = "MEX_ORIENTATION_DESC.TXT"
SPACECRAFT_POINTING_MODE = INERT
^MEX_POINTING_DESC = "MEX_POINTING_DESC.TXT"
RIGHT_ASCENSION = 49.589
DECLINATION = -61.065
OFFSET_ANGLE = -1e+32
SPACECRAFT_SOLAR_DISTANCE = 2.09576e+08
TARGET_NAME = MARS
/* CAMERA DATA ELEMENTS */
BUFFER_MODE_ID = DIRECT
EXPOSURE_DURATION = 516.096
INST_CMPRS_NAME = NONE
INST_CMPRS_RATIO = 1.0
INST_CMPRS_QUALITY = -2147483648
INST_CMPRS_QUANTZ_TBL_ID = -2147483648
INSTRUMENT_TEMPERATURE = 8.88866
MISSING_FRAMES = 0
START_BIT = 0
/* RADIOMETRIC DATA ELEMENTS */
BANDWIDTH = 250.0
CENTER_FILTER_WAVELENGTH = 600.0
RADIANCE_OFFSET = -9.99e+31
RADIANCE_SCALING_FACTOR = -9.99e+31
REFLECTANCE_SCALING_FACTOR = -9.99e+31
MEX:REFLECTANCE_OFFSET = -9.99e+31
/* IMAGE OBJECT DEFINITIONS */
OBJECT = IMAGE
  INTERCHANGE_FORMAT = BINARY
  LINES = 2255
  LINE_SAMPLES = 1815
  SAMPLE_TYPE = UNSIGNED_INTEGER
  SAMPLE_BITS = 8
  BANDS = 1
  BAND_STORAGE_TYPE = BAND_SEQUENTIAL
  MAXIMUM = 224
  MEAN = 35.635
  MINIMUM = 1
  STANDARD_DEVIATION = 8.34902
END_OBJECT = IMAGE
/* MAP OBJECT DEFINITIONS */
OBJECT = IMAGE_MAP_PROJECTION
  ^DATA_SET_MAP_PROJECTION_CATALOG= "DSMAP.CAT"
  A_AXIS_RADIUS = 3396.19
  B_AXIS_RADIUS = 3396.19
  C_AXIS_RADIUS = 3396.19
  CENTER_LATITUDE = 0.0
  CENTER_LONGITUDE = 126.0
  COORDINATE_SYSTEM_NAME = PLANETOGRAPHIC
  COORDINATE_SYSTEM_TYPE = "BODY-FIXED ROTATING"
  EASTERNMOST_LONGITUDE = 127.279
  FIRST_STANDARD_PARALLEL = "N/A"
  LINE_FIRST_PIXEL = 1
  LINE_LAST_PIXEL = 2255
  LINE_PROJECTION_OFFSET = 12653.0
  MAP_PROJECTION_ROTATION = 0.0
  MAP_PROJECTION_TYPE = SINUSOIDAL
  MAP_RESOLUTION = 740.9337064023611
  MAP_SCALE = 0.08
  MAXIMUM_LATITUDE = 17.0267
  MINIMUM_LATITUDE = 14.0476
  POSITIVE_LONGITUDE_DIRECTION = EAST
  REFERENCE_LATITUDE = "N/A"
  REFERENCE_LONGITUDE = "N/A"
  SAMPLE_FIRST_PIXEL = 1
  SAMPLE_LAST_PIXEL = 1815
  SAMPLE_PROJECTION_OFFSET = 871.0
  SECOND_STANDARD_PARALLEL = "N/A"
  WESTERNMOST_LONGITUDE = 124.812
END_OBJECT = IMAGE_MAP_PROJECTION
/* The JPEG2000 image data file associated with this label. */
OBJECT = COMPRESSED_FILE
  FILE_NAME = "HD711_0016_SR3.JP2"
  RECORD_TYPE = UNDEFINED
  FILE_RECORDS = UNK
  ENCODING_TYPE = "JP2"
  INTERCHANGE_FORMAT = BINARY
  UNCOMPRESSED_FILE_NAME = "HD711_0016_SR3.IMG"
  REQUIRED_STORAGE_BYTES = "4114605"
  ^DESCRIPTION = "JP2INFO.TXT"
END_OBJECT = COMPRESSED_FILE
END
