PDS_VERSION_ID = PDS3
/* FILE DATA ELEMENTS */
RECORD_TYPE = STREAM
/* POINTERS TO DATA OBJECTS */
^COMPRESSED_FILE = "HD711_0018_SR3.JP2"
/* IDENTIFICATION DATA ELEMENTS */
DATA_SET_ID = "MEX-M-HRSC-5-REFDR-MAPPROJECTED-V3.0"
DATA_SET_NAME = "MARS EXPRESS HRSC MAP PROJECTED REFDR V3.0"
DETECTOR_ID = MEX_HRSC_SRC
EVENT_TYPE = "MARS-AURORA-SYSTEMTEST-Ot"
INSTRUMENT_HOST_ID = MEX
INSTRUMENT_HOST_NAME = "MARS EXPRESS"
INSTRUMENT_ID = HRSC
INSTRUMENT_NAME = "HIGH RESOLUTION STEREO CAMERA"
MISSION_NAME = "MARS EXPRESS"
MISSION_PHASE_NAME = ME_Phase_31
PROCESSING_LEVEL_ID = 3
PRODUCT_CREATION_TIME = 2016-10-29T17:34:02.000Z
PRODUCT_ID = "HD711_0018_SR3.JP2"
RELEASE_ID = 0126
REVISION_ID = 0000
/* QUALITY DATA ELEMENTS */
DATA_QUALITY_ID = 1
DATA_QUALITY_DESC = "Data calculated based on original SPICE kernels"
/* TIME DATA ELEMENTS */
SPACECRAFT_CLOCK_START_COUNT = "1/0361865561.07330"
SPACECRAFT_CLOCK_STOP_COUNT = "1/0361865664.13636"
IMAGE_TIME = 2014-10-20T06:12:56.752Z
START_TIME = 2014-10-20T06:12:56.494Z
STOP_TIME = 2014-10-20T06:12:57.010Z
/* ORBITAL DATA ELEMENTS */
ASCENDING_NODE_LONGITUDE = 316.29
MAXIMUM_RESOLUTION = 89.276
FOOTPRINT_POINT_LATITUDE = (16.9777,16.9176,16.8485,16.7795, 16.7153,16.6466,16.5781,16.5097,16.4415 ,16.3871,16.3064,16.2387,16.1711, 16.1037,16.0349,15.9678,15.9008,15.834, 15.7261,15.627,15.5608,15.4948,15.4289, 15.3599,15.2943,15.2289,15.1635,15.0983 ,15.03,14.9651,14.9065,14.8624,14.8276, 14.7929,14.7583,14.7133,14.6788,14.6271 ,14.5928,14.5243,14.4561,14.4216, 14.3701,14.3024,14.2349,14.142,14.0771, 14.1405,14.2047,14.2622,14.3266,14.4174 ,14.4822,14.5471,14.6121,14.6773, 14.7542,14.8197,14.874,14.9398,15.0057, 15.0915,15.1578,15.2242,15.2907,15.3574 ,15.4263,15.4828,15.5499,15.6172, 15.6846,15.7669,15.8346,15.9026,15.9706 ,16.0389,16.1037,16.1774,16.2384,16.273 ,16.3076,16.3423,16.3771,16.4215, 16.4837,16.5187,16.5538,16.5889,16.6514 ,16.6867,16.7221,16.7854,16.821,16.8749 ,16.9106,16.9465,16.9824,17.0184, 17.0545,16.9777)
FOOTPRINT_POINT_LONGITUDE = (126.199,126.232,126.269,126.306, 126.341,126.378,126.415,126.452,126.489 ,126.518,126.562,126.598,126.635, 126.671,126.708,126.744,126.78,126.816, 126.874,126.927,126.963,126.998,127.034 ,127.071,127.106,127.141,127.176, 127.211,127.247,127.282,127.223,127.158 ,127.106,127.054,127.002,126.937, 126.885,126.807,126.755,126.65,126.546, 126.494,126.415,126.311,126.206,126.063 ,125.964,125.929,125.894,125.862, 125.826,125.776,125.741,125.705,125.669 ,125.633,125.59,125.554,125.524,125.488 ,125.451,125.404,125.367,125.33,125.293 ,125.256,125.218,125.187,125.149, 125.112,125.074,125.029,124.991,124.953 ,124.915,124.877,124.841,124.819, 124.912,124.965,125.018,125.071,125.124 ,125.19,125.282,125.335,125.388,125.441 ,125.534,125.587,125.64,125.732,125.785 ,125.864,125.917,125.97,126.023,126.076 ,126.128,126.199)
ORBIT_NUMBER = 13711
ORBITAL_ECCENTRICITY = 0.573
ORBITAL_INCLINATION = 86.9
ORBITAL_SEMIMAJOR_AXIS = 8808.88
PERIAPSIS_ALTITUDE = 371.83
PERIAPSIS_ARGUMENT_ANGLE = 134.88
PERIAPSIS_TIME = 2014-10-20T08:19:49.000Z
SPACECRAFT_ORIENTATION = (0.0,-1.0,0.0)
^MEX_ORIENTATION_DESC = "MEX_ORIENTATION_DESC.TXT"
SPACECRAFT_POINTING_MODE = INERT
^MEX_POINTING_DESC = "MEX_POINTING_DESC.TXT"
RIGHT_ASCENSION = 49.589
DECLINATION = -61.065
OFFSET_ANGLE = -1e+32
SPACECRAFT_SOLAR_DISTANCE = 2.09576e+08
TARGET_NAME = MARS
/* CAMERA DATA ELEMENTS */
BUFFER_MODE_ID = DIRECT
EXPOSURE_DURATION = 516.096
INST_CMPRS_NAME = NONE
INST_CMPRS_RATIO = 1.0
INST_CMPRS_QUALITY = -2147483648
INST_CMPRS_QUANTZ_TBL_ID = -2147483648
INSTRUMENT_TEMPERATURE = 8.91447
MISSING_FRAMES = 0
START_BIT = 0
/* RADIOMETRIC DATA ELEMENTS */
BANDWIDTH = 250.0
CENTER_FILTER_WAVELENGTH = 600.0
RADIANCE_OFFSET = -9.99e+31
RADIANCE_SCALING_FACTOR = -9.99e+31
REFLECTANCE_SCALING_FACTOR = -9.99e+31
MEX:REFLECTANCE_OFFSET = -9.99e+31
/* IMAGE OBJECT DEFINITIONS */
OBJECT = IMAGE
  INTERCHANGE_FORMAT = BINARY
  LINES = 2256
  LINE_SAMPLES = 1816
  SAMPLE_TYPE = UNSIGNED_INTEGER
  SAMPLE_BITS = 8
  BANDS = 1
  BAND_STORAGE_TYPE = BAND_SEQUENTIAL
  MAXIMUM = 213
  MEAN = 36.8699
  MINIMUM = 1
  STANDARD_DEVIATION = 8.56511
END_OBJECT = IMAGE
/* MAP OBJECT DEFINITIONS */
OBJECT = IMAGE_MAP_PROJECTION
  ^DATA_SET_MAP_PROJECTION_CATALOG= "DSMAP.CAT"
  A_AXIS_RADIUS = 3396.19
  B_AXIS_RADIUS = 3396.19
  C_AXIS_RADIUS = 3396.19
  CENTER_LATITUDE = 0.0
  CENTER_LONGITUDE = 126.0
  COORDINATE_SYSTEM_NAME = PLANETOGRAPHIC
  COORDINATE_SYSTEM_TYPE = "BODY-FIXED ROTATING"
  EASTERNMOST_LONGITUDE = 127.282
  FIRST_STANDARD_PARALLEL = "N/A"
  LINE_FIRST_PIXEL = 1
  LINE_LAST_PIXEL = 2256
  LINE_PROJECTION_OFFSET = 12677.0
  MAP_PROJECTION_ROTATION = 0.0
  MAP_PROJECTION_TYPE = SINUSOIDAL
  MAP_RESOLUTION = 740.9337064023611
  MAP_SCALE = 0.08
  MAXIMUM_LATITUDE = 17.0545
  MINIMUM_LATITUDE = 14.0771
  POSITIVE_LONGITUDE_DIRECTION = EAST
  REFERENCE_LATITUDE = "N/A"
  REFERENCE_LONGITUDE = "N/A"
  SAMPLE_FIRST_PIXEL = 1
  SAMPLE_LAST_PIXEL = 1816
  SAMPLE_PROJECTION_OFFSET = 876.0
  SECOND_STANDARD_PARALLEL = "N/A"
  WESTERNMOST_LONGITUDE = 124.819
END_OBJECT = IMAGE_MAP_PROJECTION
/* The JPEG2000 image data file associated with this label. */
OBJECT = COMPRESSED_FILE
  FILE_NAME = "HD711_0018_SR3.JP2"
  RECORD_TYPE = UNDEFINED
  FILE_RECORDS = UNK
  ENCODING_TYPE = "JP2"
  INTERCHANGE_FORMAT = BINARY
  UNCOMPRESSED_FILE_NAME = "HD711_0018_SR3.IMG"
  REQUIRED_STORAGE_BYTES = "4118688"
  ^DESCRIPTION = "JP2INFO.TXT"
END_OBJECT = COMPRESSED_FILE
END
