PDS_VERSION_ID = PDS3
/* FILE DATA ELEMENTS */
RECORD_TYPE = STREAM
/* POINTERS TO DATA OBJECTS */
^COMPRESSED_FILE = "HD711_0020_SR3.JP2"
/* IDENTIFICATION DATA ELEMENTS */
DATA_SET_ID = "MEX-M-HRSC-5-REFDR-MAPPROJECTED-V3.0"
DATA_SET_NAME = "MARS EXPRESS HRSC MAP PROJECTED REFDR V3.0"
DETECTOR_ID = MEX_HRSC_SRC
EVENT_TYPE = "MARS-AURORA-SYSTEMTEST-Ot"
INSTRUMENT_HOST_ID = MEX
INSTRUMENT_HOST_NAME = "MARS EXPRESS"
INSTRUMENT_ID = HRSC
INSTRUMENT_NAME = "HIGH RESOLUTION STEREO CAMERA"
MISSION_NAME = "MARS EXPRESS"
MISSION_PHASE_NAME = ME_Phase_31
PROCESSING_LEVEL_ID = 3
PRODUCT_CREATION_TIME = 2016-10-29T17:34:02.000Z
PRODUCT_ID = "HD711_0020_SR3.JP2"
RELEASE_ID = 0126
REVISION_ID = 0000
/* QUALITY DATA ELEMENTS */
DATA_QUALITY_ID = 1
DATA_QUALITY_DESC = "Data calculated based on original SPICE kernels"
/* TIME DATA ELEMENTS */
SPACECRAFT_CLOCK_START_COUNT = "1/0361865561.07330"
SPACECRAFT_CLOCK_STOP_COUNT = "1/0361865664.13636"
IMAGE_TIME = 2014-10-20T06:12:57.842Z
START_TIME = 2014-10-20T06:12:57.584Z
STOP_TIME = 2014-10-20T06:12:58.100Z
/* ORBITAL DATA ELEMENTS */
ASCENDING_NODE_LONGITUDE = 316.29
MAXIMUM_RESOLUTION = 89.278
FOOTPRINT_POINT_LATITUDE = (16.9981,16.9164,16.8473,16.7783, 16.7163,16.6476,16.5791,16.5108,16.4426 ,16.3733,16.3075,16.2398,16.1723, 16.1049,16.034,15.967,15.9,15.8333, 15.7666,15.6947,15.6284,15.5622,15.4962 ,15.4303,15.3142,15.2488,15.1834, 15.1182,15.06,14.9951,14.9364,14.901, 14.8662,14.8315,14.7968,14.7623,14.7086 ,14.6569,14.6225,14.5883,14.554,14.4858 ,14.4173,14.332,14.2645,14.1715,14.1079 ,14.172,14.2837,14.3482,14.4188,14.4835 ,14.5484,14.6134,14.6786,14.7555,14.821 ,14.8937,14.9595,15.0254,15.0906, 15.1568,15.2232,15.2897,15.3563,15.4252 ,15.5362,15.6034,15.6708,15.7677, 15.8355,15.9034,15.9714,16.0397,16.113, 16.1815,16.2347,16.2692,16.3038,16.3385 ,16.3732,16.408,16.4438,16.4971,16.5321 ,16.5672,16.6024,16.6376,16.6824, 16.7178,16.781,16.8166,16.8522,16.915, 16.9508,16.9867,17.0227,17.0587,17.0948 ,16.9981)
FOOTPRINT_POINT_LONGITUDE = (126.199,126.243,126.281,126.318, 126.351,126.388,126.425,126.462,126.499 ,126.536,126.572,126.609,126.645, 126.681,126.719,126.755,126.791,126.827 ,126.863,126.902,126.937,126.973, 127.008,127.044,127.106,127.141,127.176 ,127.211,127.242,127.277,127.218, 127.166,127.114,127.062,127.009,126.957 ,126.88,126.801,126.749,126.697,126.645 ,126.54,126.436,126.306,126.201,126.057 ,125.958,125.923,125.861,125.825, 125.787,125.751,125.715,125.679,125.643 ,125.601,125.564,125.524,125.488, 125.451,125.415,125.378,125.342,125.305 ,125.268,125.229,125.168,125.131, 125.093,125.039,125.001,124.964,124.926 ,124.888,124.847,124.808,124.853, 124.906,124.959,125.012,125.065,125.118 ,125.171,125.25,125.303,125.356,125.409 ,125.462,125.528,125.581,125.673, 125.726,125.779,125.871,125.924,125.977 ,126.03,126.083,126.136,126.199)
ORBIT_NUMBER = 13711
ORBITAL_ECCENTRICITY = 0.573
ORBITAL_INCLINATION = 86.9
ORBITAL_SEMIMAJOR_AXIS = 8808.88
PERIAPSIS_ALTITUDE = 371.83
PERIAPSIS_ARGUMENT_ANGLE = 134.88
PERIAPSIS_TIME = 2014-10-20T08:19:49.000Z
SPACECRAFT_ORIENTATION = (0.0,-1.0,0.0)
^MEX_ORIENTATION_DESC = "MEX_ORIENTATION_DESC.TXT"
SPACECRAFT_POINTING_MODE = INERT
^MEX_POINTING_DESC = "MEX_POINTING_DESC.TXT"
RIGHT_ASCENSION = 49.589
DECLINATION = -61.065
OFFSET_ANGLE = -1e+32
SPACECRAFT_SOLAR_DISTANCE = 2.09576e+08
TARGET_NAME = MARS
/* CAMERA DATA ELEMENTS */
BUFFER_MODE_ID = DIRECT
EXPOSURE_DURATION = 516.096
INST_CMPRS_NAME = NONE
INST_CMPRS_RATIO = 1.0
INST_CMPRS_QUALITY = -2147483648
INST_CMPRS_QUANTZ_TBL_ID = -2147483648
INSTRUMENT_TEMPERATURE = 8.94027
MISSING_FRAMES = 0
START_BIT = 0
/* RADIOMETRIC DATA ELEMENTS */
BANDWIDTH = 250.0
CENTER_FILTER_WAVELENGTH = 600.0
RADIANCE_OFFSET = -9.99e+31
RADIANCE_SCALING_FACTOR = -9.99e+31
REFLECTANCE_SCALING_FACTOR = -9.99e+31
MEX:REFLECTANCE_OFFSET = -9.99e+31
/* IMAGE OBJECT DEFINITIONS */
OBJECT = IMAGE
  INTERCHANGE_FORMAT = BINARY
  LINES = 2258
  LINE_SAMPLES = 1816
  SAMPLE_TYPE = UNSIGNED_INTEGER
  SAMPLE_BITS = 8
  BANDS = 1
  BAND_STORAGE_TYPE = BAND_SEQUENTIAL
  MAXIMUM = 233
  MEAN = 35.8186
  MINIMUM = 3
  STANDARD_DEVIATION = 8.34686
END_OBJECT = IMAGE
/* MAP OBJECT DEFINITIONS */
OBJECT = IMAGE_MAP_PROJECTION
  ^DATA_SET_MAP_PROJECTION_CATALOG= "DSMAP.CAT"
  A_AXIS_RADIUS = 3396.19
  B_AXIS_RADIUS = 3396.19
  C_AXIS_RADIUS = 3396.19
  CENTER_LATITUDE = 0.0
  CENTER_LONGITUDE = 126.0
  COORDINATE_SYSTEM_NAME = PLANETOGRAPHIC
  COORDINATE_SYSTEM_TYPE = "BODY-FIXED ROTATING"
  EASTERNMOST_LONGITUDE = 127.277
  FIRST_STANDARD_PARALLEL = "N/A"
  LINE_FIRST_PIXEL = 1
  LINE_LAST_PIXEL = 2258
  LINE_PROJECTION_OFFSET = 12701.0
  MAP_PROJECTION_ROTATION = 0.0
  MAP_PROJECTION_TYPE = SINUSOIDAL
  MAP_RESOLUTION = 740.9337064023611
  MAP_SCALE = 0.08
  MAXIMUM_LATITUDE = 17.0948
  MINIMUM_LATITUDE = 14.1079
  POSITIVE_LONGITUDE_DIRECTION = EAST
  REFERENCE_LATITUDE = "N/A"
  REFERENCE_LONGITUDE = "N/A"
  SAMPLE_FIRST_PIXEL = 1
  SAMPLE_LAST_PIXEL = 1816
  SAMPLE_PROJECTION_OFFSET = 880.0
  SECOND_STANDARD_PARALLEL = "N/A"
  WESTERNMOST_LONGITUDE = 124.808
END_OBJECT = IMAGE_MAP_PROJECTION
/* The JPEG2000 image data file associated with this label. */
OBJECT = COMPRESSED_FILE
  FILE_NAME = "HD711_0020_SR3.JP2"
  RECORD_TYPE = UNDEFINED
  FILE_RECORDS = UNK
  ENCODING_TYPE = "JP2"
  INTERCHANGE_FORMAT = BINARY
  UNCOMPRESSED_FILE_NAME = "HD711_0020_SR3.IMG"
  REQUIRED_STORAGE_BYTES = "4122320"
  ^DESCRIPTION = "JP2INFO.TXT"
END_OBJECT = COMPRESSED_FILE
END
