PDS_VERSION_ID = PDS3
/* FILE DATA ELEMENTS */
RECORD_TYPE = STREAM
/* POINTERS TO DATA OBJECTS */
^COMPRESSED_FILE = "HD711_0040_SR3.JP2"
/* IDENTIFICATION DATA ELEMENTS */
DATA_SET_ID = "MEX-M-HRSC-5-REFDR-MAPPROJECTED-V3.0"
DATA_SET_NAME = "MARS EXPRESS HRSC MAP PROJECTED REFDR V3.0"
DETECTOR_ID = MEX_HRSC_SRC
EVENT_TYPE = "MARS-AURORA-SYSTEMTEST-Ot"
INSTRUMENT_HOST_ID = MEX
INSTRUMENT_HOST_NAME = "MARS EXPRESS"
INSTRUMENT_ID = HRSC
INSTRUMENT_NAME = "HIGH RESOLUTION STEREO CAMERA"
MISSION_NAME = "MARS EXPRESS"
MISSION_PHASE_NAME = ME_Phase_31
PROCESSING_LEVEL_ID = 3
PRODUCT_CREATION_TIME = 2016-10-29T17:34:02.000Z
PRODUCT_ID = "HD711_0040_SR3.JP2"
RELEASE_ID = 0126
REVISION_ID = 0000
/* QUALITY DATA ELEMENTS */
DATA_QUALITY_ID = 1
DATA_QUALITY_DESC = "Data calculated based on original SPICE kernels"
/* TIME DATA ELEMENTS */
SPACECRAFT_CLOCK_START_COUNT = "1/0361865561.07330"
SPACECRAFT_CLOCK_STOP_COUNT = "1/0361865664.13636"
IMAGE_TIME = 2014-10-20T06:13:08.742Z
START_TIME = 2014-10-20T06:13:08.484Z
STOP_TIME = 2014-10-20T06:13:09.000Z
/* ORBITAL DATA ELEMENTS */
ASCENDING_NODE_LONGITUDE = 316.29
MAXIMUM_RESOLUTION = 89.301
FOOTPRINT_POINT_LATITUDE = (17.4103,17.3402,17.2703,17.2006, 17.1187,17.0535,16.9843,16.9153,16.8465 ,16.7778,16.7117,16.6433,16.5751, 16.5094,16.4415,16.3744,16.3068,16.2393 ,16.1721,16.1049,16.0155,15.9488, 15.8324,15.7661,15.6922,15.6262,15.5603 ,15.4945,15.4289,15.3194,15.2379, 15.2028,15.1679,15.133,15.0981,15.0441, 14.9571,14.8881,14.8194,14.7592,14.6635 ,14.5955,14.536,14.4685,14.4166,14.4813 ,14.5459,14.6106,14.6755,14.7542, 14.8194,14.8847,14.9502,15.0158,15.0962 ,15.1621,15.2282,15.2945,15.3608, 15.4304,15.4971,15.564,15.631,15.7014, 15.7665,15.8339,15.9016,15.9693,16.0373 ,16.1046,16.1729,16.2413,16.307,16.3757 ,16.4418,16.5096,16.5442,16.5879, 16.6227,16.6576,16.6925,16.7276,16.7626 ,16.8086,16.8439,16.8792,16.9146,16.95, 16.9855,17.0397,17.0754,17.1232,17.159, 17.195,17.2309,17.2664,17.3026,17.3388, 17.375,17.4103)
FOOTPRINT_POINT_LONGITUDE = (126.085,126.123,126.161,126.199, 126.243,126.278,126.316,126.353,126.39, 126.427,126.463,126.5,126.537,126.572, 126.609,126.645,126.681,126.717,126.754 ,126.79,126.838,126.874,126.936,126.972 ,127.011,127.047,127.082,127.117, 127.153,127.211,127.164,127.112,127.06, 127.008,126.955,126.878,126.748,126.643 ,126.539,126.447,126.304,126.2,126.108, 126.003,125.897,125.862,125.826,125.79, 125.755,125.711,125.675,125.639,125.603 ,125.567,125.522,125.486,125.449, 125.412,125.376,125.337,125.3,125.263, 125.226,125.187,125.151,125.113,125.075 ,125.038,125.0,124.962,124.924,124.886, 124.849,124.811,124.774,124.738,124.791 ,124.858,124.911,124.964,125.017,125.07 ,125.123,125.188,125.241,125.294, 125.347,125.4,125.453,125.532,125.585, 125.65,125.703,125.756,125.809,125.862, 125.915,125.968,126.021,126.085)
ORBIT_NUMBER = 13711
ORBITAL_ECCENTRICITY = 0.573
ORBITAL_INCLINATION = 86.9
ORBITAL_SEMIMAJOR_AXIS = 8808.88
PERIAPSIS_ALTITUDE = 371.83
PERIAPSIS_ARGUMENT_ANGLE = 134.88
PERIAPSIS_TIME = 2014-10-20T08:19:49.000Z
SPACECRAFT_ORIENTATION = (0.0,-1.0,0.0)
^MEX_ORIENTATION_DESC = "MEX_ORIENTATION_DESC.TXT"
SPACECRAFT_POINTING_MODE = INERT
^MEX_POINTING_DESC = "MEX_POINTING_DESC.TXT"
RIGHT_ASCENSION = 49.589
DECLINATION = -61.065
OFFSET_ANGLE = -1e+32
SPACECRAFT_SOLAR_DISTANCE = 2.09576e+08
TARGET_NAME = MARS
/* CAMERA DATA ELEMENTS */
BUFFER_MODE_ID = DIRECT
EXPOSURE_DURATION = 516.096
INST_CMPRS_NAME = NONE
INST_CMPRS_RATIO = 1.0
INST_CMPRS_QUALITY = -2147483648
INST_CMPRS_QUANTZ_TBL_ID = -2147483648
INSTRUMENT_TEMPERATURE = 9.19833
MISSING_FRAMES = 0
START_BIT = 0
/* RADIOMETRIC DATA ELEMENTS */
BANDWIDTH = 250.0
CENTER_FILTER_WAVELENGTH = 600.0
RADIANCE_OFFSET = -9.99e+31
RADIANCE_SCALING_FACTOR = -9.99e+31
REFLECTANCE_SCALING_FACTOR = -9.99e+31
MEX:REFLECTANCE_OFFSET = -9.99e+31
/* IMAGE OBJECT DEFINITIONS */
OBJECT = IMAGE
  INTERCHANGE_FORMAT = BINARY
  LINES = 2272
  LINE_SAMPLES = 1819
  SAMPLE_TYPE = UNSIGNED_INTEGER
  SAMPLE_BITS = 8
  BANDS = 1
  BAND_STORAGE_TYPE = BAND_SEQUENTIAL
  MAXIMUM = 229
  MEAN = 37.8983
  MINIMUM = 3
  STANDARD_DEVIATION = 8.44298
END_OBJECT = IMAGE
/* MAP OBJECT DEFINITIONS */
OBJECT = IMAGE_MAP_PROJECTION
  ^DATA_SET_MAP_PROJECTION_CATALOG= "DSMAP.CAT"
  A_AXIS_RADIUS = 3396.19
  B_AXIS_RADIUS = 3396.19
  C_AXIS_RADIUS = 3396.19
  CENTER_LATITUDE = 0.0
  CENTER_LONGITUDE = 126.0
  COORDINATE_SYSTEM_NAME = PLANETOGRAPHIC
  COORDINATE_SYSTEM_TYPE = "BODY-FIXED ROTATING"
  EASTERNMOST_LONGITUDE = 127.211
  FIRST_STANDARD_PARALLEL = "N/A"
  LINE_FIRST_PIXEL = 1
  LINE_LAST_PIXEL = 2272
  LINE_PROJECTION_OFFSET = 12935.0
  MAP_PROJECTION_ROTATION = 0.0
  MAP_PROJECTION_TYPE = SINUSOIDAL
  MAP_RESOLUTION = 740.9337064023611
  MAP_SCALE = 0.08
  MAXIMUM_LATITUDE = 17.4103
  MINIMUM_LATITUDE = 14.4166
  POSITIVE_LONGITUDE_DIRECTION = EAST
  REFERENCE_LATITUDE = "N/A"
  REFERENCE_LONGITUDE = "N/A"
  SAMPLE_FIRST_PIXEL = 1
  SAMPLE_LAST_PIXEL = 1819
  SAMPLE_PROJECTION_OFFSET = 923.0
  SECOND_STANDARD_PARALLEL = "N/A"
  WESTERNMOST_LONGITUDE = 124.738
END_OBJECT = IMAGE_MAP_PROJECTION
/* The JPEG2000 image data file associated with this label. */
OBJECT = COMPRESSED_FILE
  FILE_NAME = "HD711_0040_SR3.JP2"
  RECORD_TYPE = UNDEFINED
  FILE_RECORDS = UNK
  ENCODING_TYPE = "JP2"
  INTERCHANGE_FORMAT = BINARY
  UNCOMPRESSED_FILE_NAME = "HD711_0040_SR3.IMG"
  REQUIRED_STORAGE_BYTES = "4152777"
  ^DESCRIPTION = "JP2INFO.TXT"
END_OBJECT = COMPRESSED_FILE
END
