PDS_VERSION_ID = PDS3
/* FILE DATA ELEMENTS */
RECORD_TYPE = STREAM
/* POINTERS TO DATA OBJECTS */
^COMPRESSED_FILE = "HD711_0055_SR3.JP2"
/* IDENTIFICATION DATA ELEMENTS */
DATA_SET_ID = "MEX-M-HRSC-5-REFDR-MAPPROJECTED-V3.0"
DATA_SET_NAME = "MARS EXPRESS HRSC MAP PROJECTED REFDR V3.0"
DETECTOR_ID = MEX_HRSC_SRC
EVENT_TYPE = "MARS-AURORA-SYSTEMTEST-Ot"
INSTRUMENT_HOST_ID = MEX
INSTRUMENT_HOST_NAME = "MARS EXPRESS"
INSTRUMENT_ID = HRSC
INSTRUMENT_NAME = "HIGH RESOLUTION STEREO CAMERA"
MISSION_NAME = "MARS EXPRESS"
MISSION_PHASE_NAME = ME_Phase_31
PROCESSING_LEVEL_ID = 3
PRODUCT_CREATION_TIME = 2016-10-29T17:34:02.000Z
PRODUCT_ID = "HD711_0055_SR3.JP2"
RELEASE_ID = 0126
REVISION_ID = 0000
/* QUALITY DATA ELEMENTS */
DATA_QUALITY_ID = 1
DATA_QUALITY_DESC = "Data calculated based on original SPICE kernels"
/* TIME DATA ELEMENTS */
SPACECRAFT_CLOCK_START_COUNT = "1/0361865561.07330"
SPACECRAFT_CLOCK_STOP_COUNT = "1/0361865664.13636"
IMAGE_TIME = 2014-10-20T06:13:16.917Z
START_TIME = 2014-10-20T06:13:16.659Z
STOP_TIME = 2014-10-20T06:13:17.175Z
/* ORBITAL DATA ELEMENTS */
ASCENDING_NODE_LONGITUDE = 316.29
MAXIMUM_RESOLUTION = 89.319
FOOTPRINT_POINT_LATITUDE = (17.5949,17.5246,17.4545,17.3512, 17.2583,17.1888,17.1195,17.0545,16.9855 ,16.9167,16.8481,16.7265,16.6457, 16.5777,16.5099,16.4422,16.3689,16.3015 ,16.2343,16.1672,16.1009,16.0322, 15.9656,15.8991,15.8328,15.7666,15.6559 ,15.5901,15.5245,15.4652,15.43,15.3675, 15.3324,15.2975,15.2357,15.201,15.1662, 15.1316,15.0696,15.0263,14.9919,14.9576 ,14.9233,14.8891,14.8549,14.7606, 14.6914,14.6314,14.6961,14.7543,14.8193 ,14.8844,14.9497,15.0152,15.092,15.1577 ,15.2413,15.3074,15.3736,15.4555, 15.5221,15.5888,15.6556,15.7226,15.802, 15.9193,15.9869,16.1048,16.1729,16.2411 ,16.3094,16.378,16.4582,16.5271,16.5961 ,16.6654,16.7421,16.7872,16.8486, 16.8836,16.9187,16.9539,16.9891,17.0244 ,17.0598,17.0958,17.1508,17.1864, 17.2221,17.2579,17.3048,17.3407,17.3767 ,17.4128,17.459,17.4953,17.5395,17.5759 ,17.6124,17.5949)
FOOTPRINT_POINT_LONGITUDE = (126.067,126.105,126.143,126.199,126.25 ,126.287,126.325,126.36,126.397,126.434 ,126.471,126.537,126.58,126.617,126.653 ,126.69,126.729,126.765,126.802,126.838 ,126.873,126.91,126.946,126.982,127.017 ,127.053,127.112,127.147,127.182, 127.123,127.071,126.98,126.928,126.876, 126.785,126.733,126.68,126.628,126.537, 126.472,126.42,126.367,126.315,126.263, 126.211,126.067,125.963,125.861,125.826 ,125.794,125.758,125.722,125.686,125.65 ,125.607,125.571,125.524,125.488, 125.451,125.406,125.369,125.332,125.295 ,125.258,125.214,125.149,125.111, 125.046,125.008,124.97,124.931,124.893, 124.849,124.81,124.771,124.733,124.692, 124.757,124.85,124.903,124.956,125.009, 125.062,125.115,125.168,125.221,125.3, 125.353,125.406,125.459,125.524,125.577 ,125.63,125.683,125.749,125.802,125.868 ,125.921,125.974,126.067)
ORBIT_NUMBER = 13711
ORBITAL_ECCENTRICITY = 0.573
ORBITAL_INCLINATION = 86.9
ORBITAL_SEMIMAJOR_AXIS = 8808.88
PERIAPSIS_ALTITUDE = 371.83
PERIAPSIS_ARGUMENT_ANGLE = 134.88
PERIAPSIS_TIME = 2014-10-20T08:19:49.000Z
SPACECRAFT_ORIENTATION = (0.0,-1.0,0.0)
^MEX_ORIENTATION_DESC = "MEX_ORIENTATION_DESC.TXT"
SPACECRAFT_POINTING_MODE = INERT
^MEX_POINTING_DESC = "MEX_POINTING_DESC.TXT"
RIGHT_ASCENSION = 49.589
DECLINATION = -61.065
OFFSET_ANGLE = -1e+32
SPACECRAFT_SOLAR_DISTANCE = 2.09576e+08
TARGET_NAME = MARS
/* CAMERA DATA ELEMENTS */
BUFFER_MODE_ID = DIRECT
EXPOSURE_DURATION = 516.096
INST_CMPRS_NAME = NONE
INST_CMPRS_RATIO = 1.0
INST_CMPRS_QUALITY = -2147483648
INST_CMPRS_QUANTZ_TBL_ID = -2147483648
INSTRUMENT_TEMPERATURE = 9.39188
MISSING_FRAMES = 0
START_BIT = 0
/* RADIOMETRIC DATA ELEMENTS */
BANDWIDTH = 250.0
CENTER_FILTER_WAVELENGTH = 600.0
RADIANCE_OFFSET = -9.99e+31
RADIANCE_SCALING_FACTOR = -9.99e+31
REFLECTANCE_SCALING_FACTOR = -9.99e+31
MEX:REFLECTANCE_OFFSET = -9.99e+31
/* IMAGE OBJECT DEFINITIONS */
OBJECT = IMAGE
  INTERCHANGE_FORMAT = BINARY
  LINES = 2283
  LINE_SAMPLES = 1821
  SAMPLE_TYPE = UNSIGNED_INTEGER
  SAMPLE_BITS = 8
  BANDS = 1
  BAND_STORAGE_TYPE = BAND_SEQUENTIAL
  MAXIMUM = 219
  MEAN = 38.3562
  MINIMUM = 1
  STANDARD_DEVIATION = 8.22292
END_OBJECT = IMAGE
/* MAP OBJECT DEFINITIONS */
OBJECT = IMAGE_MAP_PROJECTION
  ^DATA_SET_MAP_PROJECTION_CATALOG= "DSMAP.CAT"
  A_AXIS_RADIUS = 3396.19
  B_AXIS_RADIUS = 3396.19
  C_AXIS_RADIUS = 3396.19
  CENTER_LATITUDE = 0.0
  CENTER_LONGITUDE = 126.0
  COORDINATE_SYSTEM_NAME = PLANETOGRAPHIC
  COORDINATE_SYSTEM_TYPE = "BODY-FIXED ROTATING"
  EASTERNMOST_LONGITUDE = 127.182
  FIRST_STANDARD_PARALLEL = "N/A"
  LINE_FIRST_PIXEL = 1
  LINE_LAST_PIXEL = 2283
  LINE_PROJECTION_OFFSET = 13112.0
  MAP_PROJECTION_ROTATION = 0.0
  MAP_PROJECTION_TYPE = SINUSOIDAL
  MAP_RESOLUTION = 740.9337064023611
  MAP_SCALE = 0.08
  MAXIMUM_LATITUDE = 17.6124
  MINIMUM_LATITUDE = 14.6314
  POSITIVE_LONGITUDE_DIRECTION = EAST
  REFERENCE_LATITUDE = "N/A"
  REFERENCE_LONGITUDE = "N/A"
  SAMPLE_FIRST_PIXEL = 1
  SAMPLE_LAST_PIXEL = 1821
  SAMPLE_PROJECTION_OFFSET = 955.0
  SECOND_STANDARD_PARALLEL = "N/A"
  WESTERNMOST_LONGITUDE = 124.692
END_OBJECT = IMAGE_MAP_PROJECTION
/* The JPEG2000 image data file associated with this label. */
OBJECT = COMPRESSED_FILE
  FILE_NAME = "HD711_0055_SR3.JP2"
  RECORD_TYPE = UNDEFINED
  FILE_RECORDS = UNK
  ENCODING_TYPE = "JP2"
  INTERCHANGE_FORMAT = BINARY
  UNCOMPRESSED_FILE_NAME = "HD711_0055_SR3.IMG"
  REQUIRED_STORAGE_BYTES = "4177374"
  ^DESCRIPTION = "JP2INFO.TXT"
END_OBJECT = COMPRESSED_FILE
END
