PDS_VERSION_ID = PDS3
/* FILE DATA ELEMENTS */
RECORD_TYPE = STREAM
/* POINTERS TO DATA OBJECTS */
^COMPRESSED_FILE = "HD711_0058_SR3.JP2"
/* IDENTIFICATION DATA ELEMENTS */
DATA_SET_ID = "MEX-M-HRSC-5-REFDR-MAPPROJECTED-V3.0"
DATA_SET_NAME = "MARS EXPRESS HRSC MAP PROJECTED REFDR V3.0"
DETECTOR_ID = MEX_HRSC_SRC
EVENT_TYPE = "MARS-AURORA-SYSTEMTEST-Ot"
INSTRUMENT_HOST_ID = MEX
INSTRUMENT_HOST_NAME = "MARS EXPRESS"
INSTRUMENT_ID = HRSC
INSTRUMENT_NAME = "HIGH RESOLUTION STEREO CAMERA"
MISSION_NAME = "MARS EXPRESS"
MISSION_PHASE_NAME = ME_Phase_31
PROCESSING_LEVEL_ID = 3
PRODUCT_CREATION_TIME = 2016-10-29T17:34:02.000Z
PRODUCT_ID = "HD711_0058_SR3.JP2"
RELEASE_ID = 0126
REVISION_ID = 0000
/* QUALITY DATA ELEMENTS */
DATA_QUALITY_ID = 1
DATA_QUALITY_DESC = "Data calculated based on original SPICE kernels"
/* TIME DATA ELEMENTS */
SPACECRAFT_CLOCK_START_COUNT = "1/0361865561.07330"
SPACECRAFT_CLOCK_STOP_COUNT = "1/0361865664.13636"
IMAGE_TIME = 2014-10-20T06:13:18.552Z
START_TIME = 2014-10-20T06:13:18.294Z
STOP_TIME = 2014-10-20T06:13:18.810Z
/* ORBITAL DATA ELEMENTS */
ASCENDING_NODE_LONGITUDE = 316.29
MAXIMUM_RESOLUTION = 89.323
FOOTPRINT_POINT_LATITUDE = (17.6644,17.594,17.5237,17.4536,17.3831 ,17.3272,17.2576,17.1881,17.1189, 17.0022,16.9334,16.8647,16.7962,16.7135 ,16.6454,16.5774,16.5096,16.4419, 16.3666,16.2993,16.2321,16.1651,16.1043 ,16.0322,15.9656,15.8992,15.8329, 15.7668,15.6521,15.5863,15.5017,15.4665 ,15.4314,15.3864,15.3514,15.3158, 15.2809,15.2461,15.2113,15.1766,15.142, 15.1077,15.0713,15.0369,15.0025,14.9682 ,14.8997,14.8223,14.7544,14.7022, 14.7543,14.8193,14.8844,14.9497,15.0151 ,15.0919,15.1576,15.2721,15.3382, 15.4303,15.4967,15.5633,15.6301,15.697, 15.7679,15.8807,15.9482,16.0158,16.1041 ,16.1721,16.2402,16.3086,16.3771, 16.4873,16.5562,16.6253,16.6946,16.7807 ,16.8513,16.9041,16.9392,16.9743, 17.0095,17.0448,17.0802,17.1172,17.1712 ,17.2068,17.2424,17.2782,17.314,17.361, 17.3969,17.4611,17.4973,17.5336,17.596, 17.6325,17.669,17.6644)
FOOTPRINT_POINT_LONGITUDE = (126.046,126.084,126.122,126.16,126.198 ,126.229,126.266,126.304,126.341, 126.404,126.441,126.479,126.515,126.56, 126.597,126.633,126.67,126.706,126.747, 126.783,126.819,126.855,126.888,126.926 ,126.962,126.998,127.033,127.069,127.13 ,127.165,127.102,127.05,126.998,126.933 ,126.881,126.829,126.777,126.724, 126.672,126.62,126.568,126.515,126.464, 126.412,126.359,126.307,126.202,126.085 ,125.98,125.903,125.81,125.774,125.738, 125.702,125.666,125.624,125.587,125.524 ,125.487,125.437,125.4,125.363,125.326, 125.289,125.249,125.187,125.149,125.112 ,125.063,125.025,124.987,124.949,124.91 ,124.849,124.81,124.772,124.733,124.685 ,124.774,124.854,124.907,124.96,125.013 ,125.066,125.119,125.172,125.251, 125.304,125.357,125.41,125.463,125.528, 125.581,125.673,125.726,125.779,125.872 ,125.925,125.978,126.046)
ORBIT_NUMBER = 13711
ORBITAL_ECCENTRICITY = 0.573
ORBITAL_INCLINATION = 86.9
ORBITAL_SEMIMAJOR_AXIS = 8808.88
PERIAPSIS_ALTITUDE = 371.83
PERIAPSIS_ARGUMENT_ANGLE = 134.88
PERIAPSIS_TIME = 2014-10-20T08:19:49.000Z
SPACECRAFT_ORIENTATION = (0.0,-1.0,0.0)
^MEX_ORIENTATION_DESC = "MEX_ORIENTATION_DESC.TXT"
SPACECRAFT_POINTING_MODE = INERT
^MEX_POINTING_DESC = "MEX_POINTING_DESC.TXT"
RIGHT_ASCENSION = 49.589
DECLINATION = -61.065
OFFSET_ANGLE = -1e+32
SPACECRAFT_SOLAR_DISTANCE = 2.09576e+08
TARGET_NAME = MARS
/* CAMERA DATA ELEMENTS */
BUFFER_MODE_ID = DIRECT
EXPOSURE_DURATION = 516.096
INST_CMPRS_NAME = NONE
INST_CMPRS_RATIO = 1.0
INST_CMPRS_QUALITY = -2147483648
INST_CMPRS_QUANTZ_TBL_ID = -2147483648
INSTRUMENT_TEMPERATURE = 9.43058
MISSING_FRAMES = 0
START_BIT = 0
/* RADIOMETRIC DATA ELEMENTS */
BANDWIDTH = 250.0
CENTER_FILTER_WAVELENGTH = 600.0
RADIANCE_OFFSET = -9.99e+31
RADIANCE_SCALING_FACTOR = -9.99e+31
REFLECTANCE_SCALING_FACTOR = -9.99e+31
MEX:REFLECTANCE_OFFSET = -9.99e+31
/* IMAGE OBJECT DEFINITIONS */
OBJECT = IMAGE
  INTERCHANGE_FORMAT = BINARY
  LINES = 2285
  LINE_SAMPLES = 1822
  SAMPLE_TYPE = UNSIGNED_INTEGER
  SAMPLE_BITS = 8
  BANDS = 1
  BAND_STORAGE_TYPE = BAND_SEQUENTIAL
  MAXIMUM = 226
  MEAN = 36.6584
  MINIMUM = 1
  STANDARD_DEVIATION = 8.56886
END_OBJECT = IMAGE
/* MAP OBJECT DEFINITIONS */
OBJECT = IMAGE_MAP_PROJECTION
  ^DATA_SET_MAP_PROJECTION_CATALOG= "DSMAP.CAT"
  A_AXIS_RADIUS = 3396.19
  B_AXIS_RADIUS = 3396.19
  C_AXIS_RADIUS = 3396.19
  CENTER_LATITUDE = 0.0
  CENTER_LONGITUDE = 126.0
  COORDINATE_SYSTEM_NAME = PLANETOGRAPHIC
  COORDINATE_SYSTEM_TYPE = "BODY-FIXED ROTATING"
  EASTERNMOST_LONGITUDE = 127.165
  FIRST_STANDARD_PARALLEL = "N/A"
  LINE_FIRST_PIXEL = 1
  LINE_LAST_PIXEL = 2285
  LINE_PROJECTION_OFFSET = 13147.0
  MAP_PROJECTION_ROTATION = 0.0
  MAP_PROJECTION_TYPE = SINUSOIDAL
  MAP_RESOLUTION = 740.9337064023611
  MAP_SCALE = 0.08
  MAXIMUM_LATITUDE = 17.669
  MINIMUM_LATITUDE = 14.7022
  POSITIVE_LONGITUDE_DIRECTION = EAST
  REFERENCE_LATITUDE = "N/A"
  REFERENCE_LONGITUDE = "N/A"
  SAMPLE_FIRST_PIXEL = 1
  SAMPLE_LAST_PIXEL = 1822
  SAMPLE_PROJECTION_OFFSET = 962.0
  SECOND_STANDARD_PARALLEL = "N/A"
  WESTERNMOST_LONGITUDE = 124.685
END_OBJECT = IMAGE_MAP_PROJECTION
/* The JPEG2000 image data file associated with this label. */
OBJECT = COMPRESSED_FILE
  FILE_NAME = "HD711_0058_SR3.JP2"
  RECORD_TYPE = UNDEFINED
  FILE_RECORDS = UNK
  ENCODING_TYPE = "JP2"
  INTERCHANGE_FORMAT = BINARY
  UNCOMPRESSED_FILE_NAME = "HD711_0058_SR3.IMG"
  REQUIRED_STORAGE_BYTES = "4183312"
  ^DESCRIPTION = "JP2INFO.TXT"
END_OBJECT = COMPRESSED_FILE
END
