PDS_VERSION_ID = PDS3
/* FILE DATA ELEMENTS */
RECORD_TYPE = STREAM
/* POINTERS TO DATA OBJECTS */
^COMPRESSED_FILE = "HD711_0060_SR3.JP2"
/* IDENTIFICATION DATA ELEMENTS */
DATA_SET_ID = "MEX-M-HRSC-5-REFDR-MAPPROJECTED-V3.0"
DATA_SET_NAME = "MARS EXPRESS HRSC MAP PROJECTED REFDR V3.0"
DETECTOR_ID = MEX_HRSC_SRC
EVENT_TYPE = "MARS-AURORA-SYSTEMTEST-Ot"
INSTRUMENT_HOST_ID = MEX
INSTRUMENT_HOST_NAME = "MARS EXPRESS"
INSTRUMENT_ID = HRSC
INSTRUMENT_NAME = "HIGH RESOLUTION STEREO CAMERA"
MISSION_NAME = "MARS EXPRESS"
MISSION_PHASE_NAME = ME_Phase_31
PROCESSING_LEVEL_ID = 3
PRODUCT_CREATION_TIME = 2016-10-29T17:34:02.000Z
PRODUCT_ID = "HD711_0060_SR3.JP2"
RELEASE_ID = 0126
REVISION_ID = 0000
/* QUALITY DATA ELEMENTS */
DATA_QUALITY_ID = 1
DATA_QUALITY_DESC = "Data calculated based on original SPICE kernels"
/* TIME DATA ELEMENTS */
SPACECRAFT_CLOCK_START_COUNT = "1/0361865561.07330"
SPACECRAFT_CLOCK_STOP_COUNT = "1/0361865664.13636"
IMAGE_TIME = 2014-10-20T06:13:19.642Z
START_TIME = 2014-10-20T06:13:19.384Z
STOP_TIME = 2014-10-20T06:13:19.900Z
/* ORBITAL DATA ELEMENTS */
ASCENDING_NODE_LONGITUDE = 316.29
MAXIMUM_RESOLUTION = 89.325
FOOTPRINT_POINT_LATITUDE = (17.6652,17.5948,17.5246,17.4015, 17.3259,17.2564,17.187,17.1177,17.0528, 16.9839,16.9152,16.8466,16.7782,16.7125 ,16.6444,16.5765,16.5087,16.4411, 16.3532,16.2859,16.2188,16.1036,16.0315 ,15.965,15.8986,15.8323,15.7662,15.6659 ,15.6002,15.5408,15.5056,15.4704, 15.4353,15.3816,15.3372,15.3023,15.2675 ,15.2327,15.198,15.1634,15.0945,15.0067 ,14.9382,14.8948,14.8266,14.7588,14.726 ,14.7882,14.8532,14.9184,14.9837, 15.0932,15.1588,15.2247,15.2919,15.358, 15.4263,15.4896,15.5561,15.6228,15.6897 ,15.7689,15.8361,15.9007,15.9682, 16.0358,16.105,16.173,16.2411,16.3094, 16.3779,16.4411,16.5075,16.5764,16.6455 ,16.7148,16.7792,16.8563,16.8912,16.944 ,16.9791,17.0143,17.0496,17.0849, 17.1219,17.167,17.2025,17.2381,17.2738, 17.3096,17.3454,17.4014,17.4566,17.4927 ,17.5289,17.5651,17.6277,17.6641, 17.7007,17.6652)
FOOTPRINT_POINT_LONGITUDE = (126.056,126.095,126.133,126.199,126.24 ,126.278,126.316,126.353,126.388, 126.425,126.462,126.499,126.536,126.571 ,126.608,126.645,126.681,126.718, 126.765,126.801,126.837,126.899,126.937 ,126.973,127.009,127.044,127.08,127.133 ,127.169,127.11,127.058,127.005,126.953 ,126.875,126.81,126.758,126.706,126.654 ,126.601,126.549,126.445,126.315,126.21 ,126.145,126.04,125.936,125.836,125.802 ,125.766,125.73,125.694,125.634,125.598 ,125.561,125.524,125.487,125.45,125.415 ,125.378,125.341,125.304,125.26,125.223 ,125.187,125.149,125.112,125.073, 125.035,124.997,124.959,124.921,124.886 ,124.849,124.81,124.772,124.733,124.697 ,124.728,124.781,124.861,124.914, 124.967,125.02,125.073,125.126,125.192, 125.245,125.298,125.351,125.404,125.456 ,125.535,125.614,125.667,125.72,125.773 ,125.866,125.919,125.972,126.056)
ORBIT_NUMBER = 13711
ORBITAL_ECCENTRICITY = 0.573
ORBITAL_INCLINATION = 86.9
ORBITAL_SEMIMAJOR_AXIS = 8808.88
PERIAPSIS_ALTITUDE = 371.83
PERIAPSIS_ARGUMENT_ANGLE = 134.88
PERIAPSIS_TIME = 2014-10-20T08:19:49.000Z
SPACECRAFT_ORIENTATION = (0.0,-1.0,0.0)
^MEX_ORIENTATION_DESC = "MEX_ORIENTATION_DESC.TXT"
SPACECRAFT_POINTING_MODE = INERT
^MEX_POINTING_DESC = "MEX_POINTING_DESC.TXT"
RIGHT_ASCENSION = 49.589
DECLINATION = -61.065
OFFSET_ANGLE = -1e+32
SPACECRAFT_SOLAR_DISTANCE = 2.09576e+08
TARGET_NAME = MARS
/* CAMERA DATA ELEMENTS */
BUFFER_MODE_ID = DIRECT
EXPOSURE_DURATION = 516.096
INST_CMPRS_NAME = NONE
INST_CMPRS_RATIO = 1.0
INST_CMPRS_QUALITY = -2147483648
INST_CMPRS_QUANTZ_TBL_ID = -2147483648
INSTRUMENT_TEMPERATURE = 9.45639
MISSING_FRAMES = 0
START_BIT = 0
/* RADIOMETRIC DATA ELEMENTS */
BANDWIDTH = 250.0
CENTER_FILTER_WAVELENGTH = 600.0
RADIANCE_OFFSET = -9.99e+31
RADIANCE_SCALING_FACTOR = -9.99e+31
REFLECTANCE_SCALING_FACTOR = -9.99e+31
MEX:REFLECTANCE_OFFSET = -9.99e+31
/* IMAGE OBJECT DEFINITIONS */
OBJECT = IMAGE
  INTERCHANGE_FORMAT = BINARY
  LINES = 2286
  LINE_SAMPLES = 1822
  SAMPLE_TYPE = UNSIGNED_INTEGER
  SAMPLE_BITS = 8
  BANDS = 1
  BAND_STORAGE_TYPE = BAND_SEQUENTIAL
  MAXIMUM = 242
  MEAN = 36.3584
  MINIMUM = 1
  STANDARD_DEVIATION = 8.31124
END_OBJECT = IMAGE
/* MAP OBJECT DEFINITIONS */
OBJECT = IMAGE_MAP_PROJECTION
  ^DATA_SET_MAP_PROJECTION_CATALOG= "DSMAP.CAT"
  A_AXIS_RADIUS = 3396.19
  B_AXIS_RADIUS = 3396.19
  C_AXIS_RADIUS = 3396.19
  CENTER_LATITUDE = 0.0
  CENTER_LONGITUDE = 126.0
  COORDINATE_SYSTEM_NAME = PLANETOGRAPHIC
  COORDINATE_SYSTEM_TYPE = "BODY-FIXED ROTATING"
  EASTERNMOST_LONGITUDE = 127.169
  FIRST_STANDARD_PARALLEL = "N/A"
  LINE_FIRST_PIXEL = 1
  LINE_LAST_PIXEL = 2286
  LINE_PROJECTION_OFFSET = 13171.0
  MAP_PROJECTION_ROTATION = 0.0
  MAP_PROJECTION_TYPE = SINUSOIDAL
  MAP_RESOLUTION = 740.9337064023611
  MAP_SCALE = 0.08
  MAXIMUM_LATITUDE = 17.7007
  MINIMUM_LATITUDE = 14.726
  POSITIVE_LONGITUDE_DIRECTION = EAST
  REFERENCE_LATITUDE = "N/A"
  REFERENCE_LONGITUDE = "N/A"
  SAMPLE_FIRST_PIXEL = 1
  SAMPLE_LAST_PIXEL = 1822
  SAMPLE_PROJECTION_OFFSET = 966.0
  SECOND_STANDARD_PARALLEL = "N/A"
  WESTERNMOST_LONGITUDE = 124.697
END_OBJECT = IMAGE_MAP_PROJECTION
/* The JPEG2000 image data file associated with this label. */
OBJECT = COMPRESSED_FILE
  FILE_NAME = "HD711_0060_SR3.JP2"
  RECORD_TYPE = UNDEFINED
  FILE_RECORDS = UNK
  ENCODING_TYPE = "JP2"
  INTERCHANGE_FORMAT = BINARY
  UNCOMPRESSED_FILE_NAME = "HD711_0060_SR3.IMG"
  REQUIRED_STORAGE_BYTES = "4185134"
  ^DESCRIPTION = "JP2INFO.TXT"
END_OBJECT = COMPRESSED_FILE
END
