PDS_VERSION_ID = PDS3
/* FILE DATA ELEMENTS */
RECORD_TYPE = STREAM
/* POINTERS TO DATA OBJECTS */
^COMPRESSED_FILE = "HD711_0068_SR3.JP2"
/* IDENTIFICATION DATA ELEMENTS */
DATA_SET_ID = "MEX-M-HRSC-5-REFDR-MAPPROJECTED-V3.0"
DATA_SET_NAME = "MARS EXPRESS HRSC MAP PROJECTED REFDR V3.0"
DETECTOR_ID = MEX_HRSC_SRC
EVENT_TYPE = "MARS-AURORA-SYSTEMTEST-Ot"
INSTRUMENT_HOST_ID = MEX
INSTRUMENT_HOST_NAME = "MARS EXPRESS"
INSTRUMENT_ID = HRSC
INSTRUMENT_NAME = "HIGH RESOLUTION STEREO CAMERA"
MISSION_NAME = "MARS EXPRESS"
MISSION_PHASE_NAME = ME_Phase_31
PROCESSING_LEVEL_ID = 3
PRODUCT_CREATION_TIME = 2016-10-29T17:34:02.000Z
PRODUCT_ID = "HD711_0068_SR3.JP2"
RELEASE_ID = 0126
REVISION_ID = 0000
/* QUALITY DATA ELEMENTS */
DATA_QUALITY_ID = 1
DATA_QUALITY_DESC = "Data calculated based on original SPICE kernels"
/* TIME DATA ELEMENTS */
SPACECRAFT_CLOCK_START_COUNT = "1/0361865561.07330"
SPACECRAFT_CLOCK_STOP_COUNT = "1/0361865664.13636"
IMAGE_TIME = 2014-10-20T06:13:24.003Z
START_TIME = 2014-10-20T06:13:23.744Z
STOP_TIME = 2014-10-20T06:13:24.261Z
/* ORBITAL DATA ELEMENTS */
ASCENDING_NODE_LONGITUDE = 316.29
MAXIMUM_RESOLUTION = 89.336
FOOTPRINT_POINT_LATITUDE = (17.7921,17.695,17.6247,17.5545,17.4844 ,17.3951,17.3255,17.256,17.1867,17.1176 ,16.9969,16.9282,16.8597,16.7878, 16.7131,16.6451,16.5773,16.5096,16.4421 ,16.3669,16.2997,16.2326,16.1698,16.103 ,15.9978,15.9314,15.8652,15.7992,15.738 ,15.662,15.6267,15.5914,15.5562,15.5211 ,15.468,15.433,15.3967,15.3619,15.2924, 15.1974,15.1285,15.0665,15.023,14.9547, 14.8866,14.8305,14.8955,14.9606,15.0259 ,15.0923,15.1579,15.2236,15.2895, 15.3712,15.4301,15.4964,15.5629,15.6295 ,15.6963,15.767,15.8341,15.9013,15.9807 ,16.0482,16.1046,16.1725,16.2405, 16.3087,16.377,16.4423,16.5109,16.586, 16.655,16.7242,16.7798,16.8493,16.9548, 16.9897,17.0248,17.0866,17.1234,17.1588 ,17.1942,17.2296,17.2651,17.3103,17.346 ,17.3818,17.4176,17.4544,17.4903, 17.5467,17.5829,17.6191,17.6554,17.6917 ,17.7282,17.7727,17.8298,17.7921)
FOOTPRINT_POINT_LONGITUDE = (126.032,126.084,126.122,126.16,126.198 ,126.247,126.284,126.322,126.359, 126.397,126.462,126.499,126.536,126.575 ,126.615,126.651,126.688,126.724, 126.761,126.801,126.837,126.873,126.907 ,126.943,126.999,127.035,127.07,127.106 ,127.138,127.088,127.036,126.984, 126.931,126.879,126.801,126.749,126.697 ,126.645,126.54,126.397,126.292,126.201 ,126.136,126.032,125.927,125.823, 125.787,125.751,125.715,125.679,125.642 ,125.606,125.57,125.524,125.492,125.455 ,125.418,125.381,125.344,125.305, 125.268,125.231,125.187,125.149,125.118 ,125.08,125.042,125.004,124.966,124.93, 124.891,124.85,124.811,124.772,124.741, 124.702,124.663,124.717,124.77,124.862, 124.915,124.968,125.021,125.074,125.127 ,125.193,125.246,125.299,125.352, 125.405,125.458,125.536,125.589,125.642 ,125.695,125.748,125.801,125.867, 125.946,126.032)
ORBIT_NUMBER = 13711
ORBITAL_ECCENTRICITY = 0.573
ORBITAL_INCLINATION = 86.9
ORBITAL_SEMIMAJOR_AXIS = 8808.88
PERIAPSIS_ALTITUDE = 371.83
PERIAPSIS_ARGUMENT_ANGLE = 134.88
PERIAPSIS_TIME = 2014-10-20T08:19:49.000Z
SPACECRAFT_ORIENTATION = (0.0,-1.0,0.0)
^MEX_ORIENTATION_DESC = "MEX_ORIENTATION_DESC.TXT"
SPACECRAFT_POINTING_MODE = INERT
^MEX_POINTING_DESC = "MEX_POINTING_DESC.TXT"
RIGHT_ASCENSION = 49.589
DECLINATION = -61.065
OFFSET_ANGLE = -1e+32
SPACECRAFT_SOLAR_DISTANCE = 2.09576e+08
TARGET_NAME = MARS
/* CAMERA DATA ELEMENTS */
BUFFER_MODE_ID = DIRECT
EXPOSURE_DURATION = 516.096
INST_CMPRS_NAME = NONE
INST_CMPRS_RATIO = 1.0
INST_CMPRS_QUALITY = -2147483648
INST_CMPRS_QUANTZ_TBL_ID = -2147483648
INSTRUMENT_TEMPERATURE = 9.55961
MISSING_FRAMES = 0
START_BIT = 0
/* RADIOMETRIC DATA ELEMENTS */
BANDWIDTH = 250.0
CENTER_FILTER_WAVELENGTH = 600.0
RADIANCE_OFFSET = -9.99e+31
RADIANCE_SCALING_FACTOR = -9.99e+31
REFLECTANCE_SCALING_FACTOR = -9.99e+31
MEX:REFLECTANCE_OFFSET = -9.99e+31
/* IMAGE OBJECT DEFINITIONS */
OBJECT = IMAGE
  INTERCHANGE_FORMAT = BINARY
  LINES = 2292
  LINE_SAMPLES = 1823
  SAMPLE_TYPE = UNSIGNED_INTEGER
  SAMPLE_BITS = 8
  BANDS = 1
  BAND_STORAGE_TYPE = BAND_SEQUENTIAL
  MAXIMUM = 231
  MEAN = 35.0577
  MINIMUM = 1
  STANDARD_DEVIATION = 8.32636
END_OBJECT = IMAGE
/* MAP OBJECT DEFINITIONS */
OBJECT = IMAGE_MAP_PROJECTION
  ^DATA_SET_MAP_PROJECTION_CATALOG= "DSMAP.CAT"
  A_AXIS_RADIUS = 3396.19
  B_AXIS_RADIUS = 3396.19
  C_AXIS_RADIUS = 3396.19
  CENTER_LATITUDE = 0.0
  CENTER_LONGITUDE = 126.0
  COORDINATE_SYSTEM_NAME = PLANETOGRAPHIC
  COORDINATE_SYSTEM_TYPE = "BODY-FIXED ROTATING"
  EASTERNMOST_LONGITUDE = 127.138
  FIRST_STANDARD_PARALLEL = "N/A"
  LINE_FIRST_PIXEL = 1
  LINE_LAST_PIXEL = 2292
  LINE_PROJECTION_OFFSET = 13266.0
  MAP_PROJECTION_ROTATION = 0.0
  MAP_PROJECTION_TYPE = SINUSOIDAL
  MAP_RESOLUTION = 740.9337064023611
  MAP_SCALE = 0.08
  MAXIMUM_LATITUDE = 17.8298
  MINIMUM_LATITUDE = 14.8305
  POSITIVE_LONGITUDE_DIRECTION = EAST
  REFERENCE_LATITUDE = "N/A"
  REFERENCE_LONGITUDE = "N/A"
  SAMPLE_FIRST_PIXEL = 1
  SAMPLE_LAST_PIXEL = 1823
  SAMPLE_PROJECTION_OFFSET = 984.0
  SECOND_STANDARD_PARALLEL = "N/A"
  WESTERNMOST_LONGITUDE = 124.663
END_OBJECT = IMAGE_MAP_PROJECTION
/* The JPEG2000 image data file associated with this label. */
OBJECT = COMPRESSED_FILE
  FILE_NAME = "HD711_0068_SR3.JP2"
  RECORD_TYPE = UNDEFINED
  FILE_RECORDS = UNK
  ENCODING_TYPE = "JP2"
  INTERCHANGE_FORMAT = BINARY
  UNCOMPRESSED_FILE_NAME = "HD711_0068_SR3.IMG"
  REQUIRED_STORAGE_BYTES = "4198369"
  ^DESCRIPTION = "JP2INFO.TXT"
END_OBJECT = COMPRESSED_FILE
END
