PDS_VERSION_ID = PDS3
/* FILE DATA ELEMENTS */
RECORD_TYPE = STREAM
/* POINTERS TO DATA OBJECTS */
^COMPRESSED_FILE = "HD734_0000_BL3.JP2"
/* IDENTIFICATION DATA ELEMENTS */
DATA_SET_ID = "MEX-M-HRSC-5-REFDR-MAPPROJECTED-V3.0"
DATA_SET_NAME = "MARS EXPRESS HRSC MAP PROJECTED REFDR V3.0"
DETECTOR_ID = MEX_HRSC_BLUE
EVENT_TYPE = "MARS-REGIONAL-MAPPING-Te-Pf-Mw"
INSTRUMENT_HOST_ID = MEX
INSTRUMENT_HOST_NAME = "MARS EXPRESS"
INSTRUMENT_ID = HRSC
INSTRUMENT_NAME = "HIGH RESOLUTION STEREO CAMERA"
MISSION_NAME = "MARS EXPRESS"
MISSION_PHASE_NAME = ME_Phase_31
PROCESSING_LEVEL_ID = 3
PRODUCT_CREATION_TIME = 2016-10-29T17:34:02.000Z
PRODUCT_ID = "HD734_0000_BL3.JP2"
RELEASE_ID = 0126
REVISION_ID = 0000
/* QUALITY DATA ELEMENTS */
DATA_QUALITY_ID = 1
DATA_QUALITY_DESC = "Data calculated based on original SPICE kernels"
/* TIME DATA ELEMENTS */
SPACECRAFT_CLOCK_START_COUNT = "1/0362452322.09036"
SPACECRAFT_CLOCK_STOP_COUNT = "1/0362452578.12927"
START_TIME = 2014-10-27T01:12:53.727Z
STOP_TIME = 2014-10-27T01:15:34.618Z
/* ORBITAL DATA ELEMENTS */
ASCENDING_NODE_LONGITUDE = 315.86
MAXIMUM_RESOLUTION = 140.5
FOOTPRINT_POINT_LATITUDE = (31.6591,31.6585,31.6574,31.6549, 31.6512,31.4801,31.1272,30.7748,30.5046 ,30.3244,29.9647,29.6055,29.3317, 29.1483,28.965,28.7819,28.599,28.4163, 28.1363,27.9497,27.7632,27.577,27.3908, 27.1071,26.9169,26.7272,26.5377,26.3484 ,26.1561,25.9629,25.77,25.5772,25.3847, 25.1885,24.8941,24.698,24.5023,24.2042, 24.0048,23.8057,23.6067,23.4049,23.2022 ,22.9998,22.7978,22.5929,22.3872, 22.1818,21.9912,21.9908,21.9894,21.9878 ,21.9856,21.9827,21.9827,22.1885, 22.3944,22.6007,22.8059,23.0084,23.2113 ,23.4144,23.6165,23.8159,24.0155, 24.2154,24.5139,24.7101,24.9066,25.1033 ,25.398,25.591,25.7842,25.9777,26.1713, 26.3637,26.5534,26.7434,26.9336,27.124, 27.4082,27.5948,27.7814,27.9683,28.1554 ,28.4356,28.6188,28.8022,28.9857, 29.1694,29.3533,29.5373,29.8071,30.1674 ,30.3478,30.5283,30.7988,31.1519, 31.5055,31.6591)
FOOTPRINT_POINT_LONGITUDE = (97.2028,96.892,96.6303,96.2379,95.8454 ,95.5891,95.5902,95.5911,95.5914, 95.5916,95.5916,95.5913,95.5909,95.5903 ,95.5898,95.5892,95.5884,95.5876, 95.5862,95.5851,95.5839,95.5827,95.5814 ,95.5787,95.5777,95.576,95.5742,95.5724 ,95.5702,95.5681,95.5659,95.5636, 95.5612,95.5588,95.5548,95.5522,95.5493 ,95.5449,95.5418,95.5386,95.5355, 95.5318,95.5285,95.5249,95.521,95.517, 95.513,95.5089,95.6322,95.8933,96.2839, 96.6001,96.9165,97.2515,97.4874,97.4855 ,97.4833,97.4812,97.479,97.4769,97.4749 ,97.4728,97.4706,97.4685,97.4663, 97.4642,97.461,97.4588,97.4566,97.4544, 97.4512,97.449,97.4468,97.4446,97.4423, 97.44,97.4377,97.4355,97.4332,97.431, 97.4276,97.4253,97.423,97.4206,97.4182, 97.4148,97.4124,97.4102,97.4078,97.4054 ,97.403,97.4005,97.3969,97.392,97.3895, 97.387,97.3832,97.3781,97.3729,97.2028)
ORBIT_NUMBER = 13734
ORBITAL_ECCENTRICITY = 0.573
ORBITAL_INCLINATION = 86.91
ORBITAL_SEMIMAJOR_AXIS = 8806.27
PERIAPSIS_ALTITUDE = 373.67
PERIAPSIS_ARGUMENT_ANGLE = 130.87
PERIAPSIS_TIME = 2014-10-27T01:08:13.000Z
SPACECRAFT_ORIENTATION = (0.0,-1.0,0.0)
^MEX_ORIENTATION_DESC = "MEX_ORIENTATION_DESC.TXT"
SPACECRAFT_POINTING_MODE = NADIR
^MEX_POINTING_DESC = "MEX_POINTING_DESC.TXT"
RIGHT_ASCENSION = -1e+32
DECLINATION = -1e+32
OFFSET_ANGLE = -1e+32
SPACECRAFT_SOLAR_DISTANCE = 2.08895e+08
TARGET_NAME = MARS
/* CAMERA DATA ELEMENTS */
DETECTOR_TEMPERATURE = 19.1861
FOCAL_PLANE_TEMPERATURE = 10.0106
INST_CMPRS_NAME = "DISCRETE COSINE TRANSFORMATION (DCT)"
INST_CMPRS_RATIO = 20.2247
INST_CMPRS_QUALITY = 0
INST_CMPRS_QUANTZ_TBL_ID = 0
INSTRUMENT_TEMPERATURE = 12.2535
LENS_TEMPERATURE = 10.6223
MACROPIXEL_SIZE = 8
MISSING_FRAMES = 0
PIXEL_SUBSAMPLING_FLAG = N
SIGNAL_CHAIN_ID = 2
/* RADIOMETRIC DATA ELEMENTS */
BANDWIDTH = 76.0
CENTER_FILTER_WAVELENGTH = 444.0
RADIANCE_OFFSET = 0.705743
RADIANCE_SCALING_FACTOR = 0.000868273
REFLECTANCE_SCALING_FACTOR = 3.89284e-05
MEX:REFLECTANCE_OFFSET = 0.0316415
/* IMAGE OBJECT DEFINITIONS */
OBJECT = IMAGE
  INTERCHANGE_FORMAT = BINARY
  LINES = 5743
  LINE_SAMPLES = 1127
  SAMPLE_TYPE = UNSIGNED_INTEGER
  SAMPLE_BITS = 8
  BANDS = 1
  BAND_STORAGE_TYPE = BAND_SEQUENTIAL
  MAXIMUM = 255
  MEAN = 131.511
  MINIMUM = 1
  STANDARD_DEVIATION = 49.6521
END_OBJECT = IMAGE
/* MAP OBJECT DEFINITIONS */
OBJECT = IMAGE_MAP_PROJECTION
  ^DATA_SET_MAP_PROJECTION_CATALOG= "DSMAP.CAT"
  A_AXIS_RADIUS = 3396.0
  B_AXIS_RADIUS = 3396.0
  C_AXIS_RADIUS = 3396.0
  CENTER_LATITUDE = 0.0
  CENTER_LONGITUDE = 96.0
  COORDINATE_SYSTEM_NAME = PLANETOGRAPHIC
  COORDINATE_SYSTEM_TYPE = "BODY-FIXED ROTATING"
  EASTERNMOST_LONGITUDE = 97.48739999999999
  FIRST_STANDARD_PARALLEL = "N/A"
  LINE_FIRST_PIXEL = 1
  LINE_LAST_PIXEL = 5743
  LINE_PROJECTION_OFFSET = 18776.9375
  MAP_PROJECTION_ROTATION = 0.0
  MAP_PROJECTION_TYPE = SINUSOIDAL
  MAP_RESOLUTION = 592.713803866667
  MAP_SCALE = 0.1
  MAXIMUM_LATITUDE = 31.6591
  MINIMUM_LATITUDE = 21.9827
  POSITIVE_LONGITUDE_DIRECTION = EAST
  REFERENCE_LATITUDE = "N/A"
  REFERENCE_LONGITUDE = "N/A"
  SAMPLE_FIRST_PIXEL = 1
  SAMPLE_LAST_PIXEL = 1127
  SAMPLE_PROJECTION_OFFSET = 296.0625
  SECOND_STANDARD_PARALLEL = "N/A"
  WESTERNMOST_LONGITUDE = 95.5089
END_OBJECT = IMAGE_MAP_PROJECTION
/* The JPEG2000 image data file associated with this label. */
OBJECT = COMPRESSED_FILE
  FILE_NAME = "HD734_0000_BL3.JP2"
  RECORD_TYPE = UNDEFINED
  FILE_RECORDS = UNK
  ENCODING_TYPE = "JP2"
  INTERCHANGE_FORMAT = BINARY
  UNCOMPRESSED_FILE_NAME = "HD734_0000_BL3.IMG"
  REQUIRED_STORAGE_BYTES = "6491520"
  ^DESCRIPTION = "JP2INFO.TXT"
END_OBJECT = COMPRESSED_FILE
END
