PDS_VERSION_ID = PDS3
/* FILE DATA ELEMENTS */
RECORD_TYPE = STREAM
/* POINTERS TO DATA OBJECTS */
^COMPRESSED_FILE = "HD737_0000_ND3.JP2"
/* IDENTIFICATION DATA ELEMENTS */
DATA_SET_ID = "MEX-M-HRSC-5-REFDR-MAPPROJECTED-V3.0"
DATA_SET_NAME = "MARS EXPRESS HRSC MAP PROJECTED REFDR V3.0"
DETECTOR_ID = MEX_HRSC_NADIR
EVENT_TYPE = "MARS-LOCAL-MAPPING-Vo-Te-Gl"
INSTRUMENT_HOST_ID = MEX
INSTRUMENT_HOST_NAME = "MARS EXPRESS"
INSTRUMENT_ID = HRSC
INSTRUMENT_NAME = "HIGH RESOLUTION STEREO CAMERA"
MISSION_NAME = "MARS EXPRESS"
MISSION_PHASE_NAME = ME_Phase_31
PROCESSING_LEVEL_ID = 3
PRODUCT_CREATION_TIME = 2016-10-29T17:34:02.000Z
PRODUCT_ID = "HD737_0000_ND3.JP2"
RELEASE_ID = 0126
REVISION_ID = 0000
/* QUALITY DATA ELEMENTS */
DATA_QUALITY_ID = 1
DATA_QUALITY_DESC = "Data calculated based on original SPICE kernels"
/* TIME DATA ELEMENTS */
SPACECRAFT_CLOCK_START_COUNT = "1/0362527794.09075"
SPACECRAFT_CLOCK_STOP_COUNT = "1/0362527963.58085"
START_TIME = 2014-10-27T22:10:37.460Z
STOP_TIME = 2014-10-27T22:12:01.451Z
/* ORBITAL DATA ELEMENTS */
ASCENDING_NODE_LONGITUDE = 315.8
MAXIMUM_RESOLUTION = 16.8
FOOTPRINT_POINT_LATITUDE = (34.865,34.8635,34.8617,34.8599,34.8578 ,34.8556,34.8533,34.8508,34.8481, 34.8452,34.8422,34.8389,34.8355,34.6339 ,34.434,34.2343,34.0814,33.8766,33.6721 ,33.4677,33.2634,33.0592,32.8553, 32.7024,32.5466,32.4421,32.3378,32.2334 ,32.1291,32.0248,31.9206,31.8165, 31.7123,31.6082,31.5042,31.4002,31.2962 ,31.1897,31.0833,30.9768,30.8705, 30.7641,30.6579,30.5516,30.4454,30.3393 ,30.2332,30.1271,30.0211,29.9127, 29.8042,29.6241,29.6262,29.6291,29.6314 ,29.634,29.6361,29.6388,29.6402,29.6412 ,29.642,29.6427,29.8062,29.915,30.0772, 30.1835,30.2898,30.4494,30.609,30.7686, 30.8751,31.0349,31.1415,31.2482,31.3541 ,31.4583,31.5625,31.6668,31.7712, 31.8756,31.9801,32.0846,32.1891,32.3461 ,32.4508,32.5555,32.7122,32.9168, 33.0703,33.2751,33.5311,33.6336,33.7361 ,33.8386,33.9412,34.0438,34.2489, 34.4491,34.6494,34.865)
FOOTPRINT_POINT_LONGITUDE = (149.57,149.433,149.297,149.159,149.021 ,148.883,148.744,148.604,148.464, 148.323,148.182,148.039,147.896,147.79, 147.796,147.8,147.804,147.81,147.814, 147.82,147.825,147.83,147.836,147.84, 147.844,147.846,147.849,147.851,147.853 ,147.855,147.857,147.859,147.861, 147.864,147.866,147.867,147.869,147.871 ,147.872,147.874,147.875,147.877, 147.879,147.88,147.882,147.884,147.886, 147.887,147.889,147.891,147.892,147.932 ,148.062,148.247,148.412,148.614, 148.796,149.068,149.248,149.392,149.535 ,149.678,149.737,149.734,149.73,149.728 ,149.725,149.722,149.718,149.714, 149.711,149.707,149.705,149.702,149.699 ,149.697,149.694,149.692,149.689, 149.686,149.684,149.681,149.678,149.674 ,149.671,149.669,149.664,149.659, 149.654,149.649,149.642,149.639,149.636 ,149.633,149.63,149.627,149.621,149.615 ,149.609,149.57)
ORBIT_NUMBER = 13737
ORBITAL_ECCENTRICITY = 0.573
ORBITAL_INCLINATION = 86.9
ORBITAL_SEMIMAJOR_AXIS = 8799.56
PERIAPSIS_ALTITUDE = 375.46
PERIAPSIS_ARGUMENT_ANGLE = 130.39
PERIAPSIS_TIME = 2014-10-27T22:06:47.000Z
SPACECRAFT_ORIENTATION = (0.0,-1.0,0.0)
^MEX_ORIENTATION_DESC = "MEX_ORIENTATION_DESC.TXT"
SPACECRAFT_POINTING_MODE = ACROSSTRACK
^MEX_POINTING_DESC = "MEX_POINTING_DESC.TXT"
RIGHT_ASCENSION = -1e+32
DECLINATION = -1e+32
OFFSET_ANGLE = -0.75
SPACECRAFT_SOLAR_DISTANCE = 2.08812e+08
TARGET_NAME = MARS
/* CAMERA DATA ELEMENTS */
DETECTOR_TEMPERATURE = 18.5744
FOCAL_PLANE_TEMPERATURE = 9.3989
INST_CMPRS_NAME = "DISCRETE COSINE TRANSFORMATION (DCT)"
INST_CMPRS_RATIO = 6.50998
INST_CMPRS_QUALITY = 0
INST_CMPRS_QUANTZ_TBL_ID = 0
INSTRUMENT_TEMPERATURE = 13.4769
LENS_TEMPERATURE = 9.8067
MACROPIXEL_SIZE = 1
MISSING_FRAMES = 0
PIXEL_SUBSAMPLING_FLAG = N
SIGNAL_CHAIN_ID = 0
/* RADIOMETRIC DATA ELEMENTS */
BANDWIDTH = 177.0
CENTER_FILTER_WAVELENGTH = 677.5
RADIANCE_OFFSET = 4.38975
RADIANCE_SCALING_FACTOR = 0.0124562
REFLECTANCE_SCALING_FACTOR = 0.000288522
MEX:REFLECTANCE_OFFSET = 0.10168
/* IMAGE OBJECT DEFINITIONS */
OBJECT = IMAGE
  INTERCHANGE_FORMAT = BINARY
  LINES = 24857
  LINE_SAMPLES = 7986
  SAMPLE_TYPE = UNSIGNED_INTEGER
  SAMPLE_BITS = 8
  BANDS = 1
  BAND_STORAGE_TYPE = BAND_SEQUENTIAL
  MAXIMUM = 255
  MEAN = 103.32
  MINIMUM = 1
  STANDARD_DEVIATION = 37.3839
END_OBJECT = IMAGE
/* MAP OBJECT DEFINITIONS */
OBJECT = IMAGE_MAP_PROJECTION
  ^DATA_SET_MAP_PROJECTION_CATALOG= "DSMAP.CAT"
  A_AXIS_RADIUS = 3396.0
  B_AXIS_RADIUS = 3396.0
  C_AXIS_RADIUS = 3396.0
  CENTER_LATITUDE = 0.0
  CENTER_LONGITUDE = 149.0
  COORDINATE_SYSTEM_NAME = PLANETOGRAPHIC
  COORDINATE_SYSTEM_TYPE = "BODY-FIXED ROTATING"
  EASTERNMOST_LONGITUDE = 149.737
  FIRST_STANDARD_PARALLEL = "N/A"
  LINE_FIRST_PIXEL = 1
  LINE_LAST_PIXEL = 24857
  LINE_PROJECTION_OFFSET = 165321.0
  MAP_PROJECTION_ROTATION = 0.0
  MAP_PROJECTION_TYPE = SINUSOIDAL
  MAP_RESOLUTION = 4741.71043093333
  MAP_SCALE = 0.0125
  MAXIMUM_LATITUDE = 34.865
  MINIMUM_LATITUDE = 29.6241
  POSITIVE_LONGITUDE_DIRECTION = EAST
  REFERENCE_LATITUDE = "N/A"
  REFERENCE_LONGITUDE = "N/A"
  SAMPLE_FIRST_PIXEL = 1
  SAMPLE_LAST_PIXEL = 7986
  SAMPLE_PROJECTION_OFFSET = 4935.0
  SECOND_STANDARD_PARALLEL = "N/A"
  WESTERNMOST_LONGITUDE = 147.79
END_OBJECT = IMAGE_MAP_PROJECTION
/* The JPEG2000 image data file associated with this label. */
OBJECT = COMPRESSED_FILE
  FILE_NAME = "HD737_0000_ND3.JP2"
  RECORD_TYPE = UNDEFINED
  FILE_RECORDS = UNK
  ENCODING_TYPE = "JP2"
  INTERCHANGE_FORMAT = BINARY
  UNCOMPRESSED_FILE_NAME = "HD737_0000_ND3.IMG"
  REQUIRED_STORAGE_BYTES = "198539946"
  ^DESCRIPTION = "JP2INFO.TXT"
END_OBJECT = COMPRESSED_FILE
END
