PDS_VERSION_ID = PDS3
/* FILE DATA ELEMENTS */
RECORD_TYPE = STREAM
/* POINTERS TO DATA OBJECTS */
^COMPRESSED_FILE = "HD740_0000_BL3.JP2"
/* IDENTIFICATION DATA ELEMENTS */
DATA_SET_ID = "MEX-M-HRSC-5-REFDR-MAPPROJECTED-V3.0"
DATA_SET_NAME = "MARS EXPRESS HRSC MAP PROJECTED REFDR V3.0"
DETECTOR_ID = MEX_HRSC_BLUE
EVENT_TYPE = "MARS-REGIONAL-MAPPING-Vo-Pf-Eo"
INSTRUMENT_HOST_ID = MEX
INSTRUMENT_HOST_NAME = "MARS EXPRESS"
INSTRUMENT_ID = HRSC
INSTRUMENT_NAME = "HIGH RESOLUTION STEREO CAMERA"
MISSION_NAME = "MARS EXPRESS"
MISSION_PHASE_NAME = ME_Phase_31
PROCESSING_LEVEL_ID = 3
PRODUCT_CREATION_TIME = 2016-10-29T17:34:02.000Z
PRODUCT_ID = "HD740_0000_BL3.JP2"
RELEASE_ID = 0126
REVISION_ID = 0000
/* QUALITY DATA ELEMENTS */
DATA_QUALITY_ID = 1
DATA_QUALITY_DESC = "Data calculated based on original SPICE kernels"
/* TIME DATA ELEMENTS */
SPACECRAFT_CLOCK_START_COUNT = "1/0362603318.09026"
SPACECRAFT_CLOCK_STOP_COUNT = "1/0362603554.49440"
START_TIME = 2014-10-28T19:09:28.792Z
STOP_TIME = 2014-10-28T19:11:54.330Z
/* ORBITAL DATA ELEMENTS */
ASCENDING_NODE_LONGITUDE = 315.74
MAXIMUM_RESOLUTION = 68.8
FOOTPRINT_POINT_LATITUDE = (34.2425,34.2412,34.2393,34.2369,34.234 ,34.2403,33.9101,33.5804,33.2444, 32.9072,32.5705,32.2344,31.978,31.8061, 31.6343,31.4627,31.2913,31.1199,30.9487 ,30.6868,30.5118,30.337,30.1624,29.9878 ,29.8135,29.6363,29.4582,29.2801, 29.1023,28.9246,28.7471,28.5673,28.386, 28.2049,28.024,27.8432,27.6627,27.4786, 27.2944,27.1103,26.9264,26.7427,26.5564 ,26.3691,26.1819,25.995,25.8083,25.619, 25.4287,25.4037,25.4039,25.4036,25.4027 ,25.4014,25.4003,25.591,25.7812,25.9683 ,26.1556,26.3431,26.5309,26.7181, 26.9022,27.0864,27.2709,27.4555,27.7309 ,27.9119,28.0931,28.2745,28.456,28.7276 ,28.9054,29.0835,29.2616,29.44,29.6185, 29.7966,29.9713,30.1461,30.3211,30.4963 ,30.6716,30.9345,31.1061,31.2777, 31.4495,31.6214,31.7935,31.9657,32.2231 ,32.5599,32.7285,32.8973,33.0661, 33.2351,33.5722,33.9025,34.2333, 34.2425)
FOOTPRINT_POINT_LONGITUDE = (204.101,203.834,203.568,203.305, 203.042,202.655,202.656,202.656,202.656 ,202.656,202.656,202.655,202.654, 202.654,202.653,202.652,202.651,202.65, 202.649,202.648,202.647,202.645,202.644 ,202.643,202.641,202.639,202.638, 202.636,202.634,202.632,202.63,202.628, 202.626,202.624,202.621,202.619,202.616 ,202.614,202.611,202.608,202.606, 202.603,202.6,202.596,202.593,202.59, 202.587,202.583,202.58,203.012,203.303, 203.595,203.889,204.184,204.543,204.542 ,204.54,204.539,204.538,204.537,204.536 ,204.534,204.533,204.532,204.531,204.53 ,204.528,204.527,204.525,204.524, 204.523,204.521,204.52,204.518,204.517, 204.516,204.515,204.513,204.512,204.511 ,204.51,204.508,204.507,204.505,204.504 ,204.502,204.501,204.5,204.498,204.497, 204.495,204.492,204.491,204.489,204.488 ,204.486,204.483,204.48,204.477, 204.101)
ORBIT_NUMBER = 13740
ORBITAL_ECCENTRICITY = 0.573
ORBITAL_INCLINATION = 86.92
ORBITAL_SEMIMAJOR_AXIS = 8795.92
PERIAPSIS_ALTITUDE = 374.95
PERIAPSIS_ARGUMENT_ANGLE = 129.85
PERIAPSIS_TIME = 2014-10-28T19:05:13.000Z
SPACECRAFT_ORIENTATION = (0.0,-1.0,0.0)
^MEX_ORIENTATION_DESC = "MEX_ORIENTATION_DESC.TXT"
SPACECRAFT_POINTING_MODE = ACROSSTRACK
^MEX_POINTING_DESC = "MEX_POINTING_DESC.TXT"
RIGHT_ASCENSION = -1e+32
DECLINATION = -1e+32
OFFSET_ANGLE = 0.5
SPACECRAFT_SOLAR_DISTANCE = 2.08731e+08
TARGET_NAME = MARS
/* CAMERA DATA ELEMENTS */
DETECTOR_TEMPERATURE = 18.7783
FOCAL_PLANE_TEMPERATURE = 9.8067
INST_CMPRS_NAME = "DISCRETE COSINE TRANSFORMATION (DCT)"
INST_CMPRS_RATIO = 6.0064
INST_CMPRS_QUALITY = 0
INST_CMPRS_QUANTZ_TBL_ID = 0
INSTRUMENT_TEMPERATURE = 12.2535
LENS_TEMPERATURE = 10.2145
MACROPIXEL_SIZE = 4
MISSING_FRAMES = 0
PIXEL_SUBSAMPLING_FLAG = N
SIGNAL_CHAIN_ID = 2
/* RADIOMETRIC DATA ELEMENTS */
BANDWIDTH = 76.0
CENTER_FILTER_WAVELENGTH = 444.0
RADIANCE_OFFSET = 0.649932
RADIANCE_SCALING_FACTOR = 0.000971827
REFLECTANCE_SCALING_FACTOR = 4.35028e-05
MEX:REFLECTANCE_OFFSET = 0.0290935
/* IMAGE OBJECT DEFINITIONS */
OBJECT = IMAGE
  INTERCHANGE_FORMAT = BINARY
  LINES = 10501
  LINE_SAMPLES = 2157
  SAMPLE_TYPE = UNSIGNED_INTEGER
  SAMPLE_BITS = 8
  BANDS = 1
  BAND_STORAGE_TYPE = BAND_SEQUENTIAL
  MAXIMUM = 254
  MEAN = 139.288
  MINIMUM = 2
  STANDARD_DEVIATION = 40.6846
END_OBJECT = IMAGE
/* MAP OBJECT DEFINITIONS */
OBJECT = IMAGE_MAP_PROJECTION
  ^DATA_SET_MAP_PROJECTION_CATALOG= "DSMAP.CAT"
  A_AXIS_RADIUS = 3396.0
  B_AXIS_RADIUS = 3396.0
  C_AXIS_RADIUS = 3396.0
  CENTER_LATITUDE = 0.0
  CENTER_LONGITUDE = 204.0
  COORDINATE_SYSTEM_NAME = PLANETOGRAPHIC
  COORDINATE_SYSTEM_TYPE = "BODY-FIXED ROTATING"
  EASTERNMOST_LONGITUDE = 204.543
  FIRST_STANDARD_PARALLEL = "N/A"
  LINE_FIRST_PIXEL = 1
  LINE_LAST_PIXEL = 10501
  LINE_PROJECTION_OFFSET = 40603.375
  MAP_PROJECTION_ROTATION = 0.0
  MAP_PROJECTION_TYPE = SINUSOIDAL
  MAP_RESOLUTION = 1185.42760773333
  MAP_SCALE = 0.05
  MAXIMUM_LATITUDE = 34.2425
  MINIMUM_LATITUDE = 25.4003
  POSITIVE_LONGITUDE_DIRECTION = EAST
  REFERENCE_LATITUDE = "N/A"
  REFERENCE_LONGITUDE = "N/A"
  SAMPLE_FIRST_PIXEL = 1
  SAMPLE_LAST_PIXEL = 2157
  SAMPLE_PROJECTION_OFFSET = 1535.125
  SECOND_STANDARD_PARALLEL = "N/A"
  WESTERNMOST_LONGITUDE = 202.58
END_OBJECT = IMAGE_MAP_PROJECTION
/* The JPEG2000 image data file associated with this label. */
OBJECT = COMPRESSED_FILE
  FILE_NAME = "HD740_0000_BL3.JP2"
  RECORD_TYPE = UNDEFINED
  FILE_RECORDS = UNK
  ENCODING_TYPE = "JP2"
  INTERCHANGE_FORMAT = BINARY
  UNCOMPRESSED_FILE_NAME = "HD740_0000_BL3.IMG"
  REQUIRED_STORAGE_BYTES = "22672227"
  ^DESCRIPTION = "JP2INFO.TXT"
END_OBJECT = COMPRESSED_FILE
END
