PDS_VERSION_ID = PDS3
/* FILE DATA ELEMENTS */
RECORD_TYPE = STREAM
/* POINTERS TO DATA OBJECTS */
^COMPRESSED_FILE = "HD749_0000_ND3.JP2"
/* IDENTIFICATION DATA ELEMENTS */
DATA_SET_ID = "MEX-M-HRSC-5-REFDR-MAPPROJECTED-V3.0"
DATA_SET_NAME = "MARS EXPRESS HRSC MAP PROJECTED REFDR V3.0"
DETECTOR_ID = MEX_HRSC_NADIR
EVENT_TYPE = "MARS-REGIONAL-MAPPING-Im-Eo-La"
INSTRUMENT_HOST_ID = MEX
INSTRUMENT_HOST_NAME = "MARS EXPRESS"
INSTRUMENT_ID = HRSC
INSTRUMENT_NAME = "HIGH RESOLUTION STEREO CAMERA"
MISSION_NAME = "MARS EXPRESS"
MISSION_PHASE_NAME = ME_Phase_31
PROCESSING_LEVEL_ID = 3
PRODUCT_CREATION_TIME = 2016-10-29T17:34:02.000Z
PRODUCT_ID = "HD749_0000_ND3.JP2"
RELEASE_ID = 0126
REVISION_ID = 0000
/* QUALITY DATA ELEMENTS */
DATA_QUALITY_ID = 1
DATA_QUALITY_DESC = "Data calculated based on original SPICE kernels"
/* TIME DATA ELEMENTS */
SPACECRAFT_CLOCK_START_COUNT = "1/0362829849.07354"
SPACECRAFT_CLOCK_STOP_COUNT = "1/0362830020.06128"
START_TIME = 2014-10-31T10:04:53.222Z
STOP_TIME = 2014-10-31T10:06:16.204Z
/* ORBITAL DATA ELEMENTS */
ASCENDING_NODE_LONGITUDE = 315.58
MAXIMUM_RESOLUTION = 17.1
FOOTPRINT_POINT_LATITUDE = (35.8443,35.8445,35.8445,35.8444,35.844 ,35.8435,35.8429,35.842,35.841,35.8398, 35.8385,35.837,35.8354,35.5887,35.3912, 35.1939,34.9966,34.8451,34.6431,34.4413 ,34.2396,34.0381,33.8367,33.6355, 33.5333,33.4303,33.3274,33.2246,33.1217 ,33.0189,32.9161,32.7619,32.6592, 32.5566,32.454,32.3515,32.1947,32.0898, 31.9849,31.8801,31.7754,31.6706,31.566, 31.4614,31.3568,31.2523,31.1478,31.0411 ,30.8809,30.699,30.6999,30.7007,30.7013 ,30.7017,30.702,30.7019,30.7014,30.7008 ,30.7001,30.6988,30.8054,30.9124, 31.0195,31.1792,31.2839,31.3887,31.4935 ,31.5983,31.7032,31.8082,31.9132, 32.0182,32.1233,32.2285,32.3334,32.4361 ,32.5389,32.6417,32.7446,32.8475, 32.9505,33.0535,33.1565,33.2596,33.3627 ,33.4659,33.6205,33.8221,34.0238, 34.2256,34.4277,34.5287,34.6299,34.7817 ,34.8829,35.034,35.2316,35.4293,35.6271 ,35.8443)
FOOTPRINT_POINT_LONGITUDE = (4.315,4.16869,4.02306,3.87802,3.73335, 3.58921,3.44569,3.30273,3.16041,3.01841 ,2.87698,2.73573,2.59507,2.53278, 2.53338,2.53388,2.5343,2.53454,2.53478, 2.53486,2.53484,2.5347,2.53445,2.53411, 2.53389,2.53359,2.53333,2.5326,2.53229, 2.53195,2.53168,2.53128,2.53081,2.53033 ,2.52981,2.52924,2.52834,2.52771, 2.52706,2.5264,2.52564,2.52489,2.5241, 2.5233,2.52249,2.52163,2.52074,2.51969, 2.51823,2.5533,2.70139,2.85011,2.99903, 3.14845,3.39201,3.56138,3.82622,3.9781, 4.13063,4.34115,4.42688,4.42615,4.42551 ,4.4246,4.424,4.42349,4.42274,4.42211, 4.42147,4.42089,4.42023,4.41962,4.41878 ,4.41824,4.41761,4.41688,4.41623, 4.41554,4.41482,4.41415,4.41336,4.41249 ,4.41165,4.41086,4.41026,4.40987, 4.41156,4.41071,4.40775,4.4052,4.40276, 4.40222,4.40171,4.40163,4.40101,4.40026 ,4.39765,4.39535,4.39326,4.315)
ORBIT_NUMBER = 13749
ORBITAL_ECCENTRICITY = 0.572
ORBITAL_INCLINATION = 86.91
ORBITAL_SEMIMAJOR_AXIS = 8795.65
PERIAPSIS_ALTITUDE = 376.29
PERIAPSIS_ARGUMENT_ANGLE = 128.28
PERIAPSIS_TIME = 2014-10-31T10:00:45.000Z
SPACECRAFT_ORIENTATION = (0.0,-1.0,0.0)
^MEX_ORIENTATION_DESC = "MEX_ORIENTATION_DESC.TXT"
SPACECRAFT_POINTING_MODE = ACROSSTRACK
^MEX_POINTING_DESC = "MEX_POINTING_DESC.TXT"
RIGHT_ASCENSION = -1e+32
DECLINATION = -1e+32
OFFSET_ANGLE = 0.65
SPACECRAFT_SOLAR_DISTANCE = 2.08495e+08
TARGET_NAME = MARS
/* CAMERA DATA ELEMENTS */
DETECTOR_TEMPERATURE = 18.7783
FOCAL_PLANE_TEMPERATURE = 10.4184
INST_CMPRS_NAME = "DISCRETE COSINE TRANSFORMATION (DCT)"
INST_CMPRS_RATIO = 7.10605
INST_CMPRS_QUALITY = 0
INST_CMPRS_QUANTZ_TBL_ID = 0
INSTRUMENT_TEMPERATURE = 12.4574
LENS_TEMPERATURE = 10.4184
MACROPIXEL_SIZE = 1
MISSING_FRAMES = 0
PIXEL_SUBSAMPLING_FLAG = N
SIGNAL_CHAIN_ID = 0
/* RADIOMETRIC DATA ELEMENTS */
BANDWIDTH = 177.0
CENTER_FILTER_WAVELENGTH = 677.5
RADIANCE_OFFSET = 4.13952
RADIANCE_SCALING_FACTOR = 0.00970044
REFLECTANCE_SCALING_FACTOR = 0.000224011
MEX:REFLECTANCE_OFFSET = 0.0955931
/* IMAGE OBJECT DEFINITIONS */
OBJECT = IMAGE
  INTERCHANGE_FORMAT = BINARY
  LINES = 24406
  LINE_SAMPLES = 7995
  SAMPLE_TYPE = UNSIGNED_INTEGER
  SAMPLE_BITS = 8
  BANDS = 1
  BAND_STORAGE_TYPE = BAND_SEQUENTIAL
  MAXIMUM = 255
  MEAN = 101.443
  MINIMUM = 1
  STANDARD_DEVIATION = 31.157
END_OBJECT = IMAGE
/* MAP OBJECT DEFINITIONS */
OBJECT = IMAGE_MAP_PROJECTION
  ^DATA_SET_MAP_PROJECTION_CATALOG= "DSMAP.CAT"
  A_AXIS_RADIUS = 3396.0
  B_AXIS_RADIUS = 3396.0
  C_AXIS_RADIUS = 3396.0
  CENTER_LATITUDE = 0.0
  CENTER_LONGITUDE = 3.0
  COORDINATE_SYSTEM_NAME = PLANETOGRAPHIC
  COORDINATE_SYSTEM_TYPE = "BODY-FIXED ROTATING"
  EASTERNMOST_LONGITUDE = 4.42688
  FIRST_STANDARD_PARALLEL = "N/A"
  LINE_FIRST_PIXEL = 1
  LINE_LAST_PIXEL = 24406
  LINE_PROJECTION_OFFSET = 169964.0
  MAP_PROJECTION_ROTATION = 0.0
  MAP_PROJECTION_TYPE = SINUSOIDAL
  MAP_RESOLUTION = 4741.71043093333
  MAP_SCALE = 0.0125
  MAXIMUM_LATITUDE = 35.8445
  MINIMUM_LATITUDE = 30.6988
  POSITIVE_LONGITUDE_DIRECTION = EAST
  REFERENCE_LATITUDE = "N/A"
  REFERENCE_LONGITUDE = "N/A"
  SAMPLE_FIRST_PIXEL = 1
  SAMPLE_LAST_PIXEL = 7995
  SAMPLE_PROJECTION_OFFSET = 1977.0
  SECOND_STANDARD_PARALLEL = "N/A"
  WESTERNMOST_LONGITUDE = 2.51823
END_OBJECT = IMAGE_MAP_PROJECTION
/* The JPEG2000 image data file associated with this label. */
OBJECT = COMPRESSED_FILE
  FILE_NAME = "HD749_0000_ND3.JP2"
  RECORD_TYPE = UNDEFINED
  FILE_RECORDS = UNK
  ENCODING_TYPE = "JP2"
  INTERCHANGE_FORMAT = BINARY
  UNCOMPRESSED_FILE_NAME = "HD749_0000_ND3.IMG"
  REQUIRED_STORAGE_BYTES = "195157950"
  ^DESCRIPTION = "JP2INFO.TXT"
END_OBJECT = COMPRESSED_FILE
END
