PDS_VERSION_ID = PDS3
/* FILE DATA ELEMENTS */
RECORD_TYPE = STREAM
/* POINTERS TO DATA OBJECTS */
^COMPRESSED_FILE = "HD755_0000_S23.JP2"
/* IDENTIFICATION DATA ELEMENTS */
DATA_SET_ID = "MEX-M-HRSC-5-REFDR-MAPPROJECTED-V3.0"
DATA_SET_NAME = "MARS EXPRESS HRSC MAP PROJECTED REFDR V3.0"
DETECTOR_ID = MEX_HRSC_S2
EVENT_TYPE = "MARS-REGIONAL-MAPPING-Vo-Mw-Ot"
INSTRUMENT_HOST_ID = MEX
INSTRUMENT_HOST_NAME = "MARS EXPRESS"
INSTRUMENT_ID = HRSC
INSTRUMENT_NAME = "HIGH RESOLUTION STEREO CAMERA"
MISSION_NAME = "MARS EXPRESS"
MISSION_PHASE_NAME = ME_Phase_31
PROCESSING_LEVEL_ID = 3
PRODUCT_CREATION_TIME = 2016-10-29T17:34:02.000Z
PRODUCT_ID = "HD755_0000_S23.JP2"
RELEASE_ID = 0126
REVISION_ID = 0000
/* QUALITY DATA ELEMENTS */
DATA_QUALITY_ID = 1
DATA_QUALITY_DESC = "Data calculated based on original SPICE kernels"
/* TIME DATA ELEMENTS */
SPACECRAFT_CLOCK_START_COUNT = "1/0362980885.07293"
SPACECRAFT_CLOCK_STOP_COUNT = "1/0362981230.27901"
START_TIME = 2014-11-02T04:02:52.485Z
STOP_TIME = 2014-11-02T04:07:14.240Z
/* ORBITAL DATA ELEMENTS */
ASCENDING_NODE_LONGITUDE = 315.46
MAXIMUM_RESOLUTION = 39
FOOTPRINT_POINT_LATITUDE = (35.7581,35.7491,35.7391,35.8024, 35.2852,34.7693,34.5083,34.2454,33.9832 ,33.7216,33.4569,33.1902,32.9243, 32.6589,32.3884,32.1184,31.849,31.4396, 31.1657,30.8922,30.6147,30.337,30.0598, 29.7788,29.3571,29.0738,28.7886,28.5042 ,28.0716,27.7833,27.4915,27.0538, 26.7578,26.4623,26.0147,25.7154,25.4128 ,25.1104,24.8048,24.4988,24.19,23.8805, 23.5685,23.0979,22.7817,22.4633,21.9826 ,21.6599,21.4428,21.4413,21.4396, 21.4379,21.4365,21.4353,21.5986,21.9222 ,22.4053,22.7255,23.0425,23.5156, 23.8298,24.1398,24.4502,24.7571,25.0642 ,25.3675,25.6715,25.9712,26.4209, 26.7173,27.0148,27.3076,27.601,28.0365, 28.3261,28.7565,29.0425,29.327,29.6086, 29.891,30.3102,30.5885,30.8676,31.1416, 31.4158,31.8267,32.0966,32.3674,32.7722 ,33.0386,33.3055,33.7055,33.968,34.2311 ,34.4946,34.7569,35.2739,35.5332,35.793 ,35.7581)
FOOTPRINT_POINT_LONGITUDE = (110.13,109.527,108.929,108.455,108.458 ,108.461,108.461,108.462,108.462, 108.462,108.462,108.462,108.461,108.46, 108.459,108.458,108.457,108.454,108.452 ,108.45,108.447,108.445,108.442,108.438 ,108.433,108.429,108.425,108.421, 108.414,108.409,108.404,108.396,108.39, 108.384,108.374,108.367,108.36,108.353, 108.345,108.337,108.329,108.321,108.312 ,108.298,108.288,108.278,108.263, 108.252,108.431,108.76,109.135,109.511, 110.029,110.408,110.674,110.669,110.662 ,110.657,110.653,110.646,110.641, 110.636,110.632,110.627,110.623,110.618 ,110.614,110.609,110.603,110.598, 110.594,110.59,110.585,110.579,110.574, 110.568,110.564,110.559,110.555,110.55, 110.544,110.539,110.535,110.531,110.526 ,110.519,110.515,110.51,110.503,110.499 ,110.494,110.487,110.483,110.478, 110.474,110.469,110.459,110.454,110.45, 110.13)
ORBIT_NUMBER = 13755
ORBITAL_ECCENTRICITY = 0.573
ORBITAL_INCLINATION = 86.91
ORBITAL_SEMIMAJOR_AXIS = 8799.69
PERIAPSIS_ALTITUDE = 376.02
PERIAPSIS_ARGUMENT_ANGLE = 127.25
PERIAPSIS_TIME = 2014-11-02T03:57:44.000Z
SPACECRAFT_ORIENTATION = (0.0,-1.0,0.0)
^MEX_ORIENTATION_DESC = "MEX_ORIENTATION_DESC.TXT"
SPACECRAFT_POINTING_MODE = ACROSSTRACK
^MEX_POINTING_DESC = "MEX_POINTING_DESC.TXT"
RIGHT_ASCENSION = -1e+32
DECLINATION = -1e+32
OFFSET_ANGLE = 0.25
SPACECRAFT_SOLAR_DISTANCE = 2.08346e+08
TARGET_NAME = MARS
/* CAMERA DATA ELEMENTS */
DETECTOR_TEMPERATURE = 19.1861
FOCAL_PLANE_TEMPERATURE = 10.0106
INST_CMPRS_NAME = "DISCRETE COSINE TRANSFORMATION (DCT)"
INST_CMPRS_RATIO = 10.7579
INST_CMPRS_QUALITY = 0
INST_CMPRS_QUANTZ_TBL_ID = 0
INSTRUMENT_TEMPERATURE = 12.2535
LENS_TEMPERATURE = 9.3989
MACROPIXEL_SIZE = 2
MISSING_FRAMES = 0
PIXEL_SUBSAMPLING_FLAG = N
SIGNAL_CHAIN_ID = 1
/* RADIOMETRIC DATA ELEMENTS */
BANDWIDTH = 178.0
CENTER_FILTER_WAVELENGTH = 679.0
RADIANCE_OFFSET = 5.48578
RADIANCE_SCALING_FACTOR = 0.0101006
REFLECTANCE_SCALING_FACTOR = 0.000232189
MEX:REFLECTANCE_OFFSET = 0.126106
/* IMAGE OBJECT DEFINITIONS */
OBJECT = IMAGE
  INTERCHANGE_FORMAT = BINARY
  LINES = 34135
  LINE_SAMPLES = 4964
  SAMPLE_TYPE = UNSIGNED_INTEGER
  SAMPLE_BITS = 8
  BANDS = 1
  BAND_STORAGE_TYPE = BAND_SEQUENTIAL
  MAXIMUM = 255
  MEAN = 133.566
  MINIMUM = 1
  STANDARD_DEVIATION = 50.7714
END_OBJECT = IMAGE
/* MAP OBJECT DEFINITIONS */
OBJECT = IMAGE_MAP_PROJECTION
  ^DATA_SET_MAP_PROJECTION_CATALOG= "DSMAP.CAT"
  A_AXIS_RADIUS = 3396.0
  B_AXIS_RADIUS = 3396.0
  C_AXIS_RADIUS = 3396.0
  CENTER_LATITUDE = 0.0
  CENTER_LONGITUDE = 109.0
  COORDINATE_SYSTEM_NAME = PLANETOGRAPHIC
  COORDINATE_SYSTEM_TYPE = "BODY-FIXED ROTATING"
  EASTERNMOST_LONGITUDE = 110.674
  FIRST_STANDARD_PARALLEL = "N/A"
  LINE_FIRST_PIXEL = 1
  LINE_LAST_PIXEL = 34135
  LINE_PROJECTION_OFFSET = 84868.75
  MAP_PROJECTION_ROTATION = 0.0
  MAP_PROJECTION_TYPE = SINUSOIDAL
  MAP_RESOLUTION = 2370.85521546667
  MAP_SCALE = 0.025
  MAXIMUM_LATITUDE = 35.8024
  MINIMUM_LATITUDE = 21.4353
  POSITIVE_LONGITUDE_DIRECTION = EAST
  REFERENCE_LATITUDE = "N/A"
  REFERENCE_LONGITUDE = "N/A"
  SAMPLE_FIRST_PIXEL = 1
  SAMPLE_LAST_PIXEL = 4964
  SAMPLE_PROJECTION_OFFSET = 1473.75
  SECOND_STANDARD_PARALLEL = "N/A"
  WESTERNMOST_LONGITUDE = 108.252
END_OBJECT = IMAGE_MAP_PROJECTION
/* The JPEG2000 image data file associated with this label. */
OBJECT = COMPRESSED_FILE
  FILE_NAME = "HD755_0000_S23.JP2"
  RECORD_TYPE = UNDEFINED
  FILE_RECORDS = UNK
  ENCODING_TYPE = "JP2"
  INTERCHANGE_FORMAT = BINARY
  UNCOMPRESSED_FILE_NAME = "HD755_0000_S23.IMG"
  REQUIRED_STORAGE_BYTES = "169470960"
  ^DESCRIPTION = "JP2INFO.TXT"
END_OBJECT = COMPRESSED_FILE
END
