PDS_VERSION_ID = PDS3
/* FILE DATA ELEMENTS */
RECORD_TYPE = STREAM
/* POINTERS TO DATA OBJECTS */
^COMPRESSED_FILE = "HD762_0000_S13.JP2"
/* IDENTIFICATION DATA ELEMENTS */
DATA_SET_ID = "MEX-M-HRSC-5-REFDR-MAPPROJECTED-V3.0"
DATA_SET_NAME = "MARS EXPRESS HRSC MAP PROJECTED REFDR V3.0"
DETECTOR_ID = MEX_HRSC_S1
EVENT_TYPE = "MARS-REGIONAL-STEREO-Vo-Mw-Ot"
INSTRUMENT_HOST_ID = MEX
INSTRUMENT_HOST_NAME = "MARS EXPRESS"
INSTRUMENT_ID = HRSC
INSTRUMENT_NAME = "HIGH RESOLUTION STEREO CAMERA"
MISSION_NAME = "MARS EXPRESS"
MISSION_PHASE_NAME = ME_Phase_31
PROCESSING_LEVEL_ID = 3
PRODUCT_CREATION_TIME = 2016-10-29T17:34:02.000Z
PRODUCT_ID = "HD762_0000_S13.JP2"
RELEASE_ID = 0126
REVISION_ID = 0000
/* QUALITY DATA ELEMENTS */
DATA_QUALITY_ID = 1
DATA_QUALITY_DESC = "Data calculated based on original SPICE kernels"
/* TIME DATA ELEMENTS */
SPACECRAFT_CLOCK_START_COUNT = "1/0363157246.09046"
SPACECRAFT_CLOCK_STOP_COUNT = "1/0363157568.30751"
START_TIME = 2014-11-04T05:00:51.999Z
STOP_TIME = 2014-11-04T05:03:38.994Z
/* ORBITAL DATA ELEMENTS */
ASCENDING_NODE_LONGITUDE = 315.33
MAXIMUM_RESOLUTION = 21.6
FOOTPRINT_POINT_LATITUDE = (25.6798,25.7007,25.719,25.7359,25.7515 ,25.7657,25.7787,25.4515,24.9747,24.594 ,24.206,23.9153,23.5248,23.3273,23.1297 ,22.9327,22.6325,22.4317,22.2317,22.031 ,21.7255,21.5214,21.3175,21.112,20.9043 ,20.6969,20.3857,20.1748,19.8588, 19.6479,19.3273,19.1133,18.8997,18.6828 ,18.4655,18.249,17.9197,17.6991,17.4789 ,17.2553,17.0315,16.8083,16.5823,16.355 ,16.1285,15.8989,15.6702,15.4399, 15.2827,15.2687,15.2429,15.2238,15.1995 ,15.1856,15.1641,15.3967,15.6272, 15.8579,16.0876,16.3145,16.5422,16.7679 ,17.1034,17.3277,17.5488,17.7704,17.992 ,18.2102,18.428,18.6462,18.8622,19.0761 ,19.2909,19.5055,19.7166,19.9279, 20.1396,20.3495,20.5573,20.7653,20.9733 ,21.1796,21.4863,21.691,21.8951,22.0963 ,22.2973,22.4987,22.7992,22.997,23.1948 ,23.3926,23.5901,23.7845,24.0762, 24.2709,24.4652,24.847,25.2293,25.6798)
FOOTPRINT_POINT_LONGITUDE = (115.64,115.297,114.978,114.662,114.349 ,114.039,113.732,113.643,113.631, 113.622,113.611,113.603,113.592,113.587 ,113.581,113.575,113.567,113.561, 113.555,113.548,113.539,113.532,113.526 ,113.519,113.513,113.506,113.495, 113.488,113.477,113.47,113.459,113.451, 113.443,113.436,113.428,113.42,113.407, 113.399,113.39,113.382,113.373,113.364, 113.355,113.346,113.337,113.327,113.318 ,113.308,113.596,113.893,114.398, 114.723,115.12,115.332,115.653,115.653, 115.654,115.654,115.654,115.655,115.656 ,115.656,115.657,115.658,115.658, 115.658,115.659,115.659,115.66,115.66, 115.66,115.661,115.662,115.662,115.663, 115.663,115.663,115.664,115.664,115.665 ,115.666,115.666,115.667,115.667, 115.668,115.668,115.669,115.669,115.67, 115.671,115.671,115.672,115.672,115.673 ,115.674,115.674,115.674,115.675, 115.676,115.64)
ORBIT_NUMBER = 13762
ORBITAL_ECCENTRICITY = 0.573
ORBITAL_INCLINATION = 86.91
ORBITAL_SEMIMAJOR_AXIS = 8797.36
PERIAPSIS_ALTITUDE = 376.76
PERIAPSIS_ARGUMENT_ANGLE = 126.04
PERIAPSIS_TIME = 2014-11-04T04:54:11.000Z
SPACECRAFT_ORIENTATION = (0.0,-1.0,0.0)
^MEX_ORIENTATION_DESC = "MEX_ORIENTATION_DESC.TXT"
SPACECRAFT_POINTING_MODE = ACROSSTRACK
^MEX_POINTING_DESC = "MEX_POINTING_DESC.TXT"
RIGHT_ASCENSION = -1e+32
DECLINATION = -1e+32
OFFSET_ANGLE = 1.05
SPACECRAFT_SOLAR_DISTANCE = 2.08179e+08
TARGET_NAME = MARS
/* CAMERA DATA ELEMENTS */
DETECTOR_TEMPERATURE = 18.1666
FOCAL_PLANE_TEMPERATURE = 9.8067
INST_CMPRS_NAME = "DISCRETE COSINE TRANSFORMATION (DCT)"
INST_CMPRS_RATIO = 10.3852
INST_CMPRS_QUALITY = 0
INST_CMPRS_QUANTZ_TBL_ID = 0
INSTRUMENT_TEMPERATURE = 12.2535
LENS_TEMPERATURE = 9.195
MACROPIXEL_SIZE = 1
MISSING_FRAMES = 0
PIXEL_SUBSAMPLING_FLAG = N
SIGNAL_CHAIN_ID = 2
/* RADIOMETRIC DATA ELEMENTS */
BANDWIDTH = 180.0
CENTER_FILTER_WAVELENGTH = 677.0
RADIANCE_OFFSET = 7.27065
RADIANCE_SCALING_FACTOR = 0.00761632
REFLECTANCE_SCALING_FACTOR = 0.00017221
MEX:REFLECTANCE_OFFSET = 0.164395
/* IMAGE OBJECT DEFINITIONS */
OBJECT = IMAGE
  INTERCHANGE_FORMAT = BINARY
  LINES = 24848
  LINE_SAMPLES = 5985
  SAMPLE_TYPE = UNSIGNED_INTEGER
  SAMPLE_BITS = 8
  BANDS = 1
  BAND_STORAGE_TYPE = BAND_SEQUENTIAL
  MAXIMUM = 255
  MEAN = 122.43
  MINIMUM = 1
  STANDARD_DEVIATION = 39.695
END_OBJECT = IMAGE
/* MAP OBJECT DEFINITIONS */
OBJECT = IMAGE_MAP_PROJECTION
  ^DATA_SET_MAP_PROJECTION_CATALOG= "DSMAP.CAT"
  A_AXIS_RADIUS = 3396.0
  B_AXIS_RADIUS = 3396.0
  C_AXIS_RADIUS = 3396.0
  CENTER_LATITUDE = 0.0
  CENTER_LONGITUDE = 115.0
  COORDINATE_SYSTEM_NAME = PLANETOGRAPHIC
  COORDINATE_SYSTEM_TYPE = "BODY-FIXED ROTATING"
  EASTERNMOST_LONGITUDE = 115.676
  FIRST_STANDARD_PARALLEL = "N/A"
  LINE_FIRST_PIXEL = 1
  LINE_LAST_PIXEL = 24848
  LINE_PROJECTION_OFFSET = 60955.0
  MAP_PROJECTION_ROTATION = 0.0
  MAP_PROJECTION_TYPE = SINUSOIDAL
  MAP_RESOLUTION = 2370.85521546667
  MAP_SCALE = 0.025
  MAXIMUM_LATITUDE = 25.7787
  MINIMUM_LATITUDE = 15.1641
  POSITIVE_LONGITUDE_DIRECTION = EAST
  REFERENCE_LATITUDE = "N/A"
  REFERENCE_LONGITUDE = "N/A"
  SAMPLE_FIRST_PIXEL = 1
  SAMPLE_LAST_PIXEL = 5985
  SAMPLE_PROJECTION_OFFSET = 4158.0
  SECOND_STANDARD_PARALLEL = "N/A"
  WESTERNMOST_LONGITUDE = 113.308
END_OBJECT = IMAGE_MAP_PROJECTION
/* The JPEG2000 image data file associated with this label. */
OBJECT = COMPRESSED_FILE
  FILE_NAME = "HD762_0000_S13.JP2"
  RECORD_TYPE = UNDEFINED
  FILE_RECORDS = UNK
  ENCODING_TYPE = "JP2"
  INTERCHANGE_FORMAT = BINARY
  UNCOMPRESSED_FILE_NAME = "HD762_0000_S13.IMG"
  REQUIRED_STORAGE_BYTES = "148745205"
  ^DESCRIPTION = "JP2INFO.TXT"
END_OBJECT = COMPRESSED_FILE
END
