PDS_VERSION_ID = PDS3
/* FILE DATA ELEMENTS */
RECORD_TYPE = STREAM
/* POINTERS TO DATA OBJECTS */
^COMPRESSED_FILE = "HD774_0000_BL3.JP2"
/* IDENTIFICATION DATA ELEMENTS */
DATA_SET_ID = "MEX-M-HRSC-5-REFDR-MAPPROJECTED-V3.0"
DATA_SET_NAME = "MARS EXPRESS HRSC MAP PROJECTED REFDR V3.0"
DETECTOR_ID = MEX_HRSC_BLUE
EVENT_TYPE = "MARS-REGIONAL-MAPPING-Fl-Pf-Mw"
INSTRUMENT_HOST_ID = MEX
INSTRUMENT_HOST_NAME = "MARS EXPRESS"
INSTRUMENT_ID = HRSC
INSTRUMENT_NAME = "HIGH RESOLUTION STEREO CAMERA"
MISSION_NAME = "MARS EXPRESS"
MISSION_PHASE_NAME = ME_Phase_31
PROCESSING_LEVEL_ID = 3
PRODUCT_CREATION_TIME = 2016-10-29T17:34:02.000Z
PRODUCT_ID = "HD774_0000_BL3.JP2"
RELEASE_ID = 0126
REVISION_ID = 0000
/* QUALITY DATA ELEMENTS */
DATA_QUALITY_ID = 1
DATA_QUALITY_DESC = "Data calculated based on original SPICE kernels"
/* TIME DATA ELEMENTS */
SPACECRAFT_CLOCK_START_COUNT = "1/0363459182.09063"
SPACECRAFT_CLOCK_STOP_COUNT = "1/0363459550.50469"
START_TIME = 2014-11-07T16:53:58.758Z
STOP_TIME = 2014-11-07T16:58:07.864Z
/* ORBITAL DATA ELEMENTS */
ASCENDING_NODE_LONGITUDE = 315.11
MAXIMUM_RESOLUTION = 76.9
FOOTPRINT_POINT_LATITUDE = (34.2362,34.2323,34.2379,33.6912, 33.1426,32.7249,32.4459,32.1673,31.8845 ,31.6009,31.3176,31.0312,30.743,30.4555 ,30.1649,29.8724,29.5804,29.2848,28.988 ,28.6918,28.3963,28.1014,27.8072, 27.5133,27.2202,26.9275,26.6355,26.3444 ,26.0538,25.7638,25.4743,25.1856, 24.8974,24.61,24.3232,24.037,23.7515, 23.3263,23.0422,22.7587,22.3343,22.0529 ,21.7718,21.4918,21.2126,20.9338, 20.3784,19.9234,19.9214,19.9184,19.9146 ,19.9071,19.9012,19.8973,20.4523, 21.0102,21.2902,21.5708,21.8522,22.1342 ,22.4167,22.6998,22.9838,23.2686, 23.5539,23.8398,24.1261,24.413,24.7009, 24.9893,25.2786,25.5686,26.0044,26.2952 ,26.5873,26.8801,27.1734,27.4672, 27.7617,28.0568,28.3525,28.6487,28.9456 ,29.243,29.5399,29.8326,30.1258,30.4178 ,30.7061,30.9949,31.2826,31.5665, 31.8508,32.1351,32.4142,32.6938,33.2516 ,33.8005,34.2115,34.2362)
FOOTPRINT_POINT_LONGITUDE = (327.678,327.082,326.511,326.505, 326.499,326.493,326.49,326.486,326.481, 326.477,326.472,326.467,326.462,326.457 ,326.451,326.445,326.439,326.433, 326.426,326.42,326.413,326.406,326.398, 326.391,326.383,326.376,326.368,326.36, 326.351,326.343,326.334,326.326,326.317 ,326.308,326.299,326.289,326.28,326.265 ,326.255,326.245,326.23,326.219,326.209 ,326.198,326.187,326.177,326.154,326.27 ,326.567,326.935,327.304,327.909, 328.309,328.624,328.622,328.62,328.619, 328.617,328.617,328.616,328.614,328.613 ,328.612,328.612,328.611,328.609, 328.607,328.605,328.604,328.603,328.603 ,328.602,328.601,328.598,328.597, 328.597,328.596,328.595,328.594,328.594 ,328.593,328.592,328.591,328.59,328.588 ,328.587,328.586,328.584,328.583, 328.582,328.581,328.58,328.579,328.578, 328.577,328.576,328.578,328.57,328.569, 327.678)
ORBIT_NUMBER = 13774
ORBITAL_ECCENTRICITY = 0.572
ORBITAL_INCLINATION = 86.92
ORBITAL_SEMIMAJOR_AXIS = 8786.44
PERIAPSIS_ALTITUDE = 378.24
PERIAPSIS_ARGUMENT_ANGLE = 123.98
PERIAPSIS_TIME = 2014-11-07T16:48:07.000Z
SPACECRAFT_ORIENTATION = (0.0,-1.0,0.0)
^MEX_ORIENTATION_DESC = "MEX_ORIENTATION_DESC.TXT"
SPACECRAFT_POINTING_MODE = ACROSSTRACK
^MEX_POINTING_DESC = "MEX_POINTING_DESC.TXT"
RIGHT_ASCENSION = -1e+32
DECLINATION = -1e+32
OFFSET_ANGLE = 0.9
SPACECRAFT_SOLAR_DISTANCE = 2.07911e+08
TARGET_NAME = MARS
/* CAMERA DATA ELEMENTS */
DETECTOR_TEMPERATURE = 17.351
FOCAL_PLANE_TEMPERATURE = 8.7872
INST_CMPRS_NAME = "DISCRETE COSINE TRANSFORMATION (DCT)"
INST_CMPRS_RATIO = 8.08039
INST_CMPRS_QUALITY = 0
INST_CMPRS_QUANTZ_TBL_ID = 0
INSTRUMENT_TEMPERATURE = 10.4184
LENS_TEMPERATURE = 9.195
MACROPIXEL_SIZE = 4
MISSING_FRAMES = 0
PIXEL_SUBSAMPLING_FLAG = N
SIGNAL_CHAIN_ID = 2
/* RADIOMETRIC DATA ELEMENTS */
BANDWIDTH = 76.0
CENTER_FILTER_WAVELENGTH = 444.0
RADIANCE_OFFSET = 0.729768
RADIANCE_SCALING_FACTOR = 0.00114473
REFLECTANCE_SCALING_FACTOR = 5.0841e-05
MEX:REFLECTANCE_OFFSET = 0.0324111
/* IMAGE OBJECT DEFINITIONS */
OBJECT = IMAGE
  INTERCHANGE_FORMAT = BINARY
  LINES = 8502
  LINE_SAMPLES = 1408
  SAMPLE_TYPE = UNSIGNED_INTEGER
  SAMPLE_BITS = 8
  BANDS = 1
  BAND_STORAGE_TYPE = BAND_SEQUENTIAL
  MAXIMUM = 255
  MEAN = 134.782
  MINIMUM = 3
  STANDARD_DEVIATION = 46.7539
END_OBJECT = IMAGE
/* MAP OBJECT DEFINITIONS */
OBJECT = IMAGE_MAP_PROJECTION
  ^DATA_SET_MAP_PROJECTION_CATALOG= "DSMAP.CAT"
  A_AXIS_RADIUS = 3396.0
  B_AXIS_RADIUS = 3396.0
  C_AXIS_RADIUS = 3396.0
  CENTER_LATITUDE = 0.0
  CENTER_LONGITUDE = 327.0
  COORDINATE_SYSTEM_NAME = PLANETOGRAPHIC
  COORDINATE_SYSTEM_TYPE = "BODY-FIXED ROTATING"
  EASTERNMOST_LONGITUDE = 328.624
  FIRST_STANDARD_PARALLEL = "N/A"
  LINE_FIRST_PIXEL = 1
  LINE_LAST_PIXEL = 8502
  LINE_PROJECTION_OFFSET = 20299.625
  MAP_PROJECTION_ROTATION = 0.0
  MAP_PROJECTION_TYPE = SINUSOIDAL
  MAP_RESOLUTION = 592.713803866667
  MAP_SCALE = 0.1
  MAXIMUM_LATITUDE = 34.2379
  MINIMUM_LATITUDE = 19.8973
  POSITIVE_LONGITUDE_DIRECTION = EAST
  REFERENCE_LATITUDE = "N/A"
  REFERENCE_LONGITUDE = "N/A"
  SAMPLE_FIRST_PIXEL = 1
  SAMPLE_LAST_PIXEL = 1408
  SAMPLE_PROJECTION_OFFSET = 481.375
  SECOND_STANDARD_PARALLEL = "N/A"
  WESTERNMOST_LONGITUDE = 326.154
END_OBJECT = IMAGE_MAP_PROJECTION
/* The JPEG2000 image data file associated with this label. */
OBJECT = COMPRESSED_FILE
  FILE_NAME = "HD774_0000_BL3.JP2"
  RECORD_TYPE = UNDEFINED
  FILE_RECORDS = UNK
  ENCODING_TYPE = "JP2"
  INTERCHANGE_FORMAT = BINARY
  UNCOMPRESSED_FILE_NAME = "HD774_0000_BL3.IMG"
  REQUIRED_STORAGE_BYTES = "11989120"
  ^DESCRIPTION = "JP2INFO.TXT"
END_OBJECT = COMPRESSED_FILE
END
