PDS_VERSION_ID = PDS3
/* FILE DATA ELEMENTS */
RECORD_TYPE = STREAM
/* POINTERS TO DATA OBJECTS */
^COMPRESSED_FILE = "HD776_0000_IR3.JP2"
/* IDENTIFICATION DATA ELEMENTS */
DATA_SET_ID = "MEX-M-HRSC-5-REFDR-MAPPROJECTED-V3.0"
DATA_SET_NAME = "MARS EXPRESS HRSC MAP PROJECTED REFDR V3.0"
DETECTOR_ID = MEX_HRSC_IR
EVENT_TYPE = "MARS-REGIONAL-MAPPING-Te-Pf-Mw"
INSTRUMENT_HOST_ID = MEX
INSTRUMENT_HOST_NAME = "MARS EXPRESS"
INSTRUMENT_ID = HRSC
INSTRUMENT_NAME = "HIGH RESOLUTION STEREO CAMERA"
MISSION_NAME = "MARS EXPRESS"
MISSION_PHASE_NAME = ME_Phase_31
PROCESSING_LEVEL_ID = 3
PRODUCT_CREATION_TIME = 2016-10-29T17:34:02.000Z
PRODUCT_ID = "HD776_0000_IR3.JP2"
RELEASE_ID = 0126
REVISION_ID = 0000
/* QUALITY DATA ELEMENTS */
DATA_QUALITY_ID = 1
DATA_QUALITY_DESC = "Data calculated based on original SPICE kernels"
/* TIME DATA ELEMENTS */
SPACECRAFT_CLOCK_START_COUNT = "1/0363509297.07357"
SPACECRAFT_CLOCK_STOP_COUNT = "1/0363509531.55835"
START_TIME = 2014-11-08T06:48:28.869Z
STOP_TIME = 2014-11-08T06:51:00.376Z
/* ORBITAL DATA ELEMENTS */
ASCENDING_NODE_LONGITUDE = 315.07
MAXIMUM_RESOLUTION = 64.4
FOOTPRINT_POINT_LATITUDE = (49.2551,49.2451,49.2342,49.2223, 49.2094,49.1928,48.9178,48.7244,48.5308 ,48.3374,48.1439,47.9503,47.7566, 47.5629,47.3692,47.1756,46.8853,46.5943 ,46.3038,46.013,45.7224,45.5285,45.3347 ,45.0443,44.8504,44.6567,44.4627, 44.1718,43.8811,43.6872,43.3966,43.2028 ,43.0089,42.7182,42.5242,42.3304, 42.1369,41.943,41.6522,41.3619,41.1682, 40.9751,40.7806,40.5832,40.3807,40.1812 ,39.8877,39.6886,39.39,39.3399,39.3562, 39.3641,39.3707,39.3765,39.3824,39.6809 ,39.88,40.0791,40.3778,40.6769,40.8756, 41.0691,41.2631,41.4574,41.7485,42.0398 ,42.234,42.4284,42.6227,42.8171,43.1084 ,43.3028,43.4974,43.6917,43.8859, 44.1773,44.3717,44.5661,44.8575,45.052, 45.2464,45.4407,45.6351,45.9272,46.2185 ,46.4129,46.6073,46.8988,47.0931, 47.3846,47.579,47.7733,47.9674,48.1616, 48.3557,48.5497,48.744,48.9382,49.1322, 49.2551)
FOOTPRINT_POINT_LONGITUDE = (121.61,121.315,121.02,120.725,120.428, 120.076,120.037,120.053,120.069,120.085 ,120.1,120.115,120.13,120.145,120.159, 120.173,120.194,120.214,120.234,120.253 ,120.272,120.284,120.295,120.313, 120.324,120.335,120.346,120.362,120.378 ,120.388,120.402,120.412,120.421, 120.435,120.443,120.452,120.461,120.469 ,120.481,120.492,120.5,120.508,120.514, 120.522,120.527,120.534,120.546,120.552 ,120.561,120.85,121.352,121.639,121.925 ,122.21,122.483,122.474,122.468,122.462 ,122.453,122.443,122.437,122.431, 122.424,122.418,122.408,122.398,122.391 ,122.384,122.378,122.37,122.36,122.353, 122.345,122.338,122.33,122.319,122.311, 122.303,122.292,122.283,122.275,122.267 ,122.259,122.246,122.233,122.224, 122.215,122.201,122.192,122.178,122.169 ,122.159,122.149,122.14,122.13,122.12, 122.109,122.099,122.089,121.61)
ORBIT_NUMBER = 13776
ORBITAL_ECCENTRICITY = 0.572
ORBITAL_INCLINATION = 86.91
ORBITAL_SEMIMAJOR_AXIS = 8792.58
PERIAPSIS_ALTITUDE = 378.26
PERIAPSIS_ARGUMENT_ANGLE = 123.63
PERIAPSIS_TIME = 2014-11-08T06:47:07.000Z
SPACECRAFT_ORIENTATION = (0.0,-1.0,0.0)
^MEX_ORIENTATION_DESC = "MEX_ORIENTATION_DESC.TXT"
SPACECRAFT_POINTING_MODE = ACROSSTRACK
^MEX_POINTING_DESC = "MEX_POINTING_DESC.TXT"
RIGHT_ASCENSION = -1e+32
DECLINATION = -1e+32
OFFSET_ANGLE = -0.2
SPACECRAFT_SOLAR_DISTANCE = 2.07869e+08
TARGET_NAME = MARS
/* CAMERA DATA ELEMENTS */
DETECTOR_TEMPERATURE = 17.351
FOCAL_PLANE_TEMPERATURE = 9.3989
INST_CMPRS_NAME = "DISCRETE COSINE TRANSFORMATION (DCT)"
INST_CMPRS_RATIO = 6.82469
INST_CMPRS_QUALITY = 0
INST_CMPRS_QUANTZ_TBL_ID = 0
INSTRUMENT_TEMPERATURE = 11.8457
LENS_TEMPERATURE = 9.8067
MACROPIXEL_SIZE = 4
MISSING_FRAMES = 0
PIXEL_SUBSAMPLING_FLAG = N
SIGNAL_CHAIN_ID = 2
/* RADIOMETRIC DATA ELEMENTS */
BANDWIDTH = 81.0
CENTER_FILTER_WAVELENGTH = 955.5
RADIANCE_OFFSET = 0.631006
RADIANCE_SCALING_FACTOR = 0.00413359
REFLECTANCE_SCALING_FACTOR = 0.000385331
MEX:REFLECTANCE_OFFSET = 0.0588219
/* IMAGE OBJECT DEFINITIONS */
OBJECT = IMAGE
  INTERCHANGE_FORMAT = BINARY
  LINES = 11657
  LINE_SAMPLES = 2186
  SAMPLE_TYPE = UNSIGNED_INTEGER
  SAMPLE_BITS = 8
  BANDS = 1
  BAND_STORAGE_TYPE = BAND_SEQUENTIAL
  MAXIMUM = 255
  MEAN = 124.693
  MINIMUM = 1
  STANDARD_DEVIATION = 63.5389
END_OBJECT = IMAGE
/* MAP OBJECT DEFINITIONS */
OBJECT = IMAGE_MAP_PROJECTION
  ^DATA_SET_MAP_PROJECTION_CATALOG= "DSMAP.CAT"
  A_AXIS_RADIUS = 3396.0
  B_AXIS_RADIUS = 3396.0
  C_AXIS_RADIUS = 3396.0
  CENTER_LATITUDE = 0.0
  CENTER_LONGITUDE = 121.0
  COORDINATE_SYSTEM_NAME = PLANETOGRAPHIC
  COORDINATE_SYSTEM_TYPE = "BODY-FIXED ROTATING"
  EASTERNMOST_LONGITUDE = 122.483
  FIRST_STANDARD_PARALLEL = "N/A"
  LINE_FIRST_PIXEL = 1
  LINE_LAST_PIXEL = 11657
  LINE_PROJECTION_OFFSET = 58314.875
  MAP_PROJECTION_ROTATION = 0.0
  MAP_PROJECTION_TYPE = SINUSOIDAL
  MAP_RESOLUTION = 1185.42760773333
  MAP_SCALE = 0.05
  MAXIMUM_LATITUDE = 49.2551
  MINIMUM_LATITUDE = 39.3399
  POSITIVE_LONGITUDE_DIRECTION = EAST
  REFERENCE_LATITUDE = "N/A"
  REFERENCE_LONGITUDE = "N/A"
  SAMPLE_FIRST_PIXEL = 1
  SAMPLE_LAST_PIXEL = 2186
  SAMPLE_PROJECTION_OFFSET = 791.375
  SECOND_STANDARD_PARALLEL = "N/A"
  WESTERNMOST_LONGITUDE = 120.037
END_OBJECT = IMAGE_MAP_PROJECTION
/* The JPEG2000 image data file associated with this label. */
OBJECT = COMPRESSED_FILE
  FILE_NAME = "HD776_0000_IR3.JP2"
  RECORD_TYPE = UNDEFINED
  FILE_RECORDS = UNK
  ENCODING_TYPE = "JP2"
  INTERCHANGE_FORMAT = BINARY
  UNCOMPRESSED_FILE_NAME = "HD776_0000_IR3.IMG"
  REQUIRED_STORAGE_BYTES = "25504062"
  ^DESCRIPTION = "JP2INFO.TXT"
END_OBJECT = COMPRESSED_FILE
END
