PDS_VERSION_ID = PDS3
/* FILE DATA ELEMENTS */
RECORD_TYPE = STREAM
/* POINTERS TO DATA OBJECTS */
^COMPRESSED_FILE = "HD779_0000_P23.JP2"
/* IDENTIFICATION DATA ELEMENTS */
DATA_SET_ID = "MEX-M-HRSC-5-REFDR-MAPPROJECTED-V3.0"
DATA_SET_NAME = "MARS EXPRESS HRSC MAP PROJECTED REFDR V3.0"
DETECTOR_ID = MEX_HRSC_P2
EVENT_TYPE = "MARS-REGIONAL-MAPPING-Te-Pf-Mw"
INSTRUMENT_HOST_ID = MEX
INSTRUMENT_HOST_NAME = "MARS EXPRESS"
INSTRUMENT_ID = HRSC
INSTRUMENT_NAME = "HIGH RESOLUTION STEREO CAMERA"
MISSION_NAME = "MARS EXPRESS"
MISSION_PHASE_NAME = ME_Phase_31
PROCESSING_LEVEL_ID = 3
PRODUCT_CREATION_TIME = 2016-10-29T17:34:02.000Z
PRODUCT_ID = "HD779_0000_P23.JP2"
RELEASE_ID = 0126
REVISION_ID = 0000
/* QUALITY DATA ELEMENTS */
DATA_QUALITY_ID = 1
DATA_QUALITY_DESC = "Data calculated based on original SPICE kernels"
/* TIME DATA ELEMENTS */
SPACECRAFT_CLOCK_START_COUNT = "1/0363584832.08265"
SPACECRAFT_CLOCK_STOP_COUNT = "1/0363585007.25218"
START_TIME = 2014-11-09T03:48:17.257Z
STOP_TIME = 2014-11-09T03:49:56.758Z
/* ORBITAL DATA ELEMENTS */
ASCENDING_NODE_LONGITUDE = 315.01
MAXIMUM_RESOLUTION = 33.1
FOOTPRINT_POINT_LATITUDE = (48.176,48.1684,48.1623,48.1547,48.148, 48.1392,48.1334,47.9506,47.8295,47.7086 ,47.5272,47.4063,47.2857,47.1648, 46.9838,46.8029,46.6824,46.5018,46.3815 ,46.2011,45.9009,45.6612,45.4218, 45.1822,44.999,44.8761,44.6921,44.5694, 44.447,44.3246,44.2022,44.08,43.8967, 43.7135,43.5921,43.4703,43.3463,43.2213 ,43.0963,42.9716,42.8469,42.7224, 42.5977,42.4732,42.2867,42.1623,42.0713 ,42.0777,42.0811,42.0849,42.0903,42.095 ,42.0977,42.1019,42.2886,42.4756, 42.6004,42.7253,42.8501,42.9753,43.1002 ,43.2255,43.3507,43.4757,43.5978, 43.7203,43.8426,43.9652,44.0874,44.2102 ,44.3329,44.4555,44.5784,44.7628, 44.8858,45.0088,45.1319,45.2534,45.4937 ,45.734,45.8543,45.9745,46.095,46.2757, 46.3962,46.5168,46.6376,46.7587,46.8793 ,46.9999,47.1213,47.2423,47.3636, 47.5454,47.7272,47.8485,47.9701,48.0917 ,48.2131,48.176)
FOOTPRINT_POINT_LONGITUDE = (175.472,175.098,174.822,174.507, 174.251,173.936,173.739,173.623,173.631 ,173.639,173.651,173.658,173.666, 173.674,173.685,173.695,173.703,173.713 ,173.72,173.73,173.746,173.759,173.771, 173.783,173.792,173.798,173.807,173.813 ,173.818,173.824,173.829,173.835, 173.843,173.851,173.855,173.86,173.865, 173.87,173.875,173.88,173.885,173.889, 173.894,173.898,173.905,173.909,174.112 ,174.411,174.591,174.811,175.131,175.45 ,175.65,175.978,175.972,175.965,175.961 ,175.957,175.952,175.948,175.943, 175.939,175.934,175.93,175.925,175.921, 175.916,175.912,175.907,175.903,175.898 ,175.893,175.889,175.881,175.876, 175.872,175.867,175.862,175.852,175.842 ,175.837,175.832,175.827,175.819, 175.814,175.809,175.804,175.798,175.793 ,175.787,175.782,175.777,175.771, 175.763,175.755,175.749,175.743,175.738 ,175.732,175.472)
ORBIT_NUMBER = 13779
ORBITAL_ECCENTRICITY = 0.572
ORBITAL_INCLINATION = 86.92
ORBITAL_SEMIMAJOR_AXIS = 8785.27
PERIAPSIS_ALTITUDE = 379.11
PERIAPSIS_ARGUMENT_ANGLE = 123.13
PERIAPSIS_TIME = 2014-11-09T03:45:39.000Z
SPACECRAFT_ORIENTATION = (0.0,-1.0,0.0)
^MEX_ORIENTATION_DESC = "MEX_ORIENTATION_DESC.TXT"
SPACECRAFT_POINTING_MODE = NADIR
^MEX_POINTING_DESC = "MEX_POINTING_DESC.TXT"
RIGHT_ASCENSION = -1e+32
DECLINATION = -1e+32
OFFSET_ANGLE = -1e+32
SPACECRAFT_SOLAR_DISTANCE = 2.07807e+08
TARGET_NAME = MARS
/* CAMERA DATA ELEMENTS */
DETECTOR_TEMPERATURE = 18.9822
FOCAL_PLANE_TEMPERATURE = 9.195
INST_CMPRS_NAME = "DISCRETE COSINE TRANSFORMATION (DCT)"
INST_CMPRS_RATIO = 7.18939
INST_CMPRS_QUALITY = 0
INST_CMPRS_QUANTZ_TBL_ID = 0
INSTRUMENT_TEMPERATURE = 11.6418
LENS_TEMPERATURE = 9.8067
MACROPIXEL_SIZE = 2
MISSING_FRAMES = 0
PIXEL_SUBSAMPLING_FLAG = N
SIGNAL_CHAIN_ID = 3
/* RADIOMETRIC DATA ELEMENTS */
BANDWIDTH = 177.0
CENTER_FILTER_WAVELENGTH = 676.5
RADIANCE_OFFSET = 3.06374
RADIANCE_SCALING_FACTOR = 0.00684048
REFLECTANCE_SCALING_FACTOR = 0.000156626
MEX:REFLECTANCE_OFFSET = 0.0701502
/* IMAGE OBJECT DEFINITIONS */
OBJECT = IMAGE
  INTERCHANGE_FORMAT = BINARY
  LINES = 14643
  LINE_SAMPLES = 3860
  SAMPLE_TYPE = UNSIGNED_INTEGER
  SAMPLE_BITS = 8
  BANDS = 1
  BAND_STORAGE_TYPE = BAND_SEQUENTIAL
  MAXIMUM = 255
  MEAN = 135.935
  MINIMUM = 1
  STANDARD_DEVIATION = 54.5019
END_OBJECT = IMAGE
/* MAP OBJECT DEFINITIONS */
OBJECT = IMAGE_MAP_PROJECTION
  ^DATA_SET_MAP_PROJECTION_CATALOG= "DSMAP.CAT"
  A_AXIS_RADIUS = 3396.0
  B_AXIS_RADIUS = 3396.0
  C_AXIS_RADIUS = 3396.0
  CENTER_LATITUDE = 0.0
  CENTER_LONGITUDE = 175.0
  COORDINATE_SYSTEM_NAME = PLANETOGRAPHIC
  COORDINATE_SYSTEM_TYPE = "BODY-FIXED ROTATING"
  EASTERNMOST_LONGITUDE = 175.978
  FIRST_STANDARD_PARALLEL = "N/A"
  LINE_FIRST_PIXEL = 1
  LINE_LAST_PIXEL = 14643
  LINE_PROJECTION_OFFSET = 114328.25
  MAP_PROJECTION_ROTATION = 0.0
  MAP_PROJECTION_TYPE = SINUSOIDAL
  MAP_RESOLUTION = 2370.85521546667
  MAP_SCALE = 0.025
  MAXIMUM_LATITUDE = 48.2131
  MINIMUM_LATITUDE = 42.0713
  POSITIVE_LONGITUDE_DIRECTION = EAST
  REFERENCE_LATITUDE = "N/A"
  REFERENCE_LONGITUDE = "N/A"
  SAMPLE_FIRST_PIXEL = 1
  SAMPLE_LAST_PIXEL = 3860
  SAMPLE_PROJECTION_OFFSET = 2191.25
  SECOND_STANDARD_PARALLEL = "N/A"
  WESTERNMOST_LONGITUDE = 173.623
END_OBJECT = IMAGE_MAP_PROJECTION
/* The JPEG2000 image data file associated with this label. */
OBJECT = COMPRESSED_FILE
  FILE_NAME = "HD779_0000_P23.JP2"
  RECORD_TYPE = UNDEFINED
  FILE_RECORDS = UNK
  ENCODING_TYPE = "JP2"
  INTERCHANGE_FORMAT = BINARY
  UNCOMPRESSED_FILE_NAME = "HD779_0000_P23.IMG"
  REQUIRED_STORAGE_BYTES = "56545140"
  ^DESCRIPTION = "JP2INFO.TXT"
END_OBJECT = COMPRESSED_FILE
END
