PDS_VERSION_ID = PDS3
/* FILE DATA ELEMENTS */
RECORD_TYPE = STREAM
/* POINTERS TO DATA OBJECTS */
^COMPRESSED_FILE = "HD780_0000_S13.JP2"
/* IDENTIFICATION DATA ELEMENTS */
DATA_SET_ID = "MEX-M-HRSC-5-REFDR-MAPPROJECTED-V3.0"
DATA_SET_NAME = "MARS EXPRESS HRSC MAP PROJECTED REFDR V3.0"
DETECTOR_ID = MEX_HRSC_S1
EVENT_TYPE = "MARS-LOCAL-CARTOGRAPHY-Eb-La-Tc"
INSTRUMENT_HOST_ID = MEX
INSTRUMENT_HOST_NAME = "MARS EXPRESS"
INSTRUMENT_ID = HRSC
INSTRUMENT_NAME = "HIGH RESOLUTION STEREO CAMERA"
MISSION_NAME = "MARS EXPRESS"
MISSION_PHASE_NAME = ME_Phase_31
PROCESSING_LEVEL_ID = 3
PRODUCT_CREATION_TIME = 2016-10-29T17:34:02.000Z
PRODUCT_ID = "HD780_0000_S13.JP2"
RELEASE_ID = 0126
REVISION_ID = 0000
/* QUALITY DATA ELEMENTS */
DATA_QUALITY_ID = 1
DATA_QUALITY_DESC = "Data calculated based on original SPICE kernels"
/* TIME DATA ELEMENTS */
SPACECRAFT_CLOCK_START_COUNT = "1/0363610217.07341"
SPACECRAFT_CLOCK_STOP_COUNT = "1/0363610471.15761"
START_TIME = 2014-11-09T10:50:23.013Z
STOP_TIME = 2014-11-09T10:52:35.626Z
/* ORBITAL DATA ELEMENTS */
ASCENDING_NODE_LONGITUDE = 314.99
MAXIMUM_RESOLUTION = 19.4
FOOTPRINT_POINT_LATITUDE = (34.3979,34.3962,34.3925,34.3882, 34.3846,34.3796,34.1744,34.0137,33.7018 ,33.3859,33.0652,32.7567,32.5967, 32.4319,32.2664,32.1056,31.9455,31.7861 ,31.6223,31.4576,31.2886,31.1254, 30.9576,30.7857,30.6214,30.4546,30.2843 ,30.1193,29.9502,29.7853,29.5243, 29.3444,29.1698,28.9971,28.8251,28.6533 ,28.4835,28.3184,28.1455,27.8846, 27.6194,27.4414,27.2625,27.0841,26.9033 ,26.6285,26.4458,26.2673,25.9965, 25.8917,25.8922,25.8976,25.8987,25.9002 ,25.8956,25.894,26.0766,26.2588,26.4378 ,26.6177,26.7966,27.0661,27.2545, 27.4333,27.6094,27.7867,27.9633,28.2303 ,28.397,28.5642,28.7342,28.9112,29.0911 ,29.2542,29.4249,29.5973,29.8494, 30.0199,30.191,30.4479,30.615,30.7797, 30.9487,31.1958,31.3607,31.6064,31.7692 ,32.0225,32.1904,32.4309,32.593,32.9116 ,33.0694,33.3088,33.4692,33.6288,33.788 ,34.0235,34.338,34.3979)
FOOTPRINT_POINT_LONGITUDE = (73.4431,73.1603,72.8019,72.5005, 72.2931,72.0478,71.911,71.9105,71.9126, 71.9154,71.9162,71.9207,71.9209,71.9202 ,71.9196,71.9204,71.9214,71.9226, 71.9221,71.9212,71.92,71.9207,71.9198, 71.9173,71.9173,71.9164,71.915,71.9157, 71.9149,71.9155,71.9114,71.907,71.9051, 71.9037,71.9025,71.9012,71.9004,71.9021 ,71.9013,71.8993,71.8957,71.8934, 71.8913,71.8891,71.886,71.8802,71.8774, 71.8758,71.8723,72.0969,72.3652,72.7371 ,73.0465,73.3764,73.5832,73.8515, 73.9628,73.9611,73.9606,73.9597,73.9583 ,73.9553,73.9504,73.9488,73.9477, 73.9453,73.9432,73.9394,73.9408,73.9412 ,73.9402,73.9368,73.9323,73.9337, 73.9324,73.9293,73.927,73.9247,73.922, 73.9178,73.9153,73.9137,73.9105,73.9081 ,73.9065,73.9033,73.9011,73.8944, 73.8903,73.8883,73.886,73.8814,73.8797, 73.8761,73.8733,73.8709,73.8682,73.864, 73.858,73.4431)
ORBIT_NUMBER = 13780
ORBITAL_ECCENTRICITY = 0.572
ORBITAL_INCLINATION = 86.93
ORBITAL_SEMIMAJOR_AXIS = 8791.21
PERIAPSIS_ALTITUDE = 377.98
PERIAPSIS_ARGUMENT_ANGLE = 122.94
PERIAPSIS_TIME = 2014-11-09T10:45:07.000Z
SPACECRAFT_ORIENTATION = (0.0,-1.0,0.0)
^MEX_ORIENTATION_DESC = "MEX_ORIENTATION_DESC.TXT"
SPACECRAFT_POINTING_MODE = NADIR
^MEX_POINTING_DESC = "MEX_POINTING_DESC.TXT"
RIGHT_ASCENSION = -1e+32
DECLINATION = -1e+32
OFFSET_ANGLE = -1e+32
SPACECRAFT_SOLAR_DISTANCE = 2.07786e+08
TARGET_NAME = MARS
/* CAMERA DATA ELEMENTS */
DETECTOR_TEMPERATURE = 16.5354
FOCAL_PLANE_TEMPERATURE = 10.0106
INST_CMPRS_NAME = "DISCRETE COSINE TRANSFORMATION (DCT)"
INST_CMPRS_RATIO = 8.6289
INST_CMPRS_QUALITY = 0
INST_CMPRS_QUANTZ_TBL_ID = 0
INSTRUMENT_TEMPERATURE = 12.2535
LENS_TEMPERATURE = 11.0301
MACROPIXEL_SIZE = 1
MISSING_FRAMES = 0
PIXEL_SUBSAMPLING_FLAG = N
SIGNAL_CHAIN_ID = 2
/* RADIOMETRIC DATA ELEMENTS */
BANDWIDTH = 180.0
CENTER_FILTER_WAVELENGTH = 677.0
RADIANCE_OFFSET = 5.49133
RADIANCE_SCALING_FACTOR = 0.0119979
REFLECTANCE_SCALING_FACTOR = 0.000270258
MEX:REFLECTANCE_OFFSET = 0.123695
/* IMAGE OBJECT DEFINITIONS */
OBJECT = IMAGE
  INTERCHANGE_FORMAT = BINARY
  LINES = 20121
  LINE_SAMPLES = 4947
  SAMPLE_TYPE = UNSIGNED_INTEGER
  SAMPLE_BITS = 8
  BANDS = 1
  BAND_STORAGE_TYPE = BAND_SEQUENTIAL
  MAXIMUM = 255
  MEAN = 127.999
  MINIMUM = 1
  STANDARD_DEVIATION = 37.4672
END_OBJECT = IMAGE
/* MAP OBJECT DEFINITIONS */
OBJECT = IMAGE_MAP_PROJECTION
  ^DATA_SET_MAP_PROJECTION_CATALOG= "DSMAP.CAT"
  A_AXIS_RADIUS = 3396.0
  B_AXIS_RADIUS = 3396.0
  C_AXIS_RADIUS = 3396.0
  CENTER_LATITUDE = 0.0
  CENTER_LONGITUDE = 73.0
  COORDINATE_SYSTEM_NAME = PLANETOGRAPHIC
  COORDINATE_SYSTEM_TYPE = "BODY-FIXED ROTATING"
  EASTERNMOST_LONGITUDE = 73.9628
  FIRST_STANDARD_PARALLEL = "N/A"
  LINE_FIRST_PIXEL = 1
  LINE_LAST_PIXEL = 20121
  LINE_PROJECTION_OFFSET = 81430.0
  MAP_PROJECTION_ROTATION = 0.0
  MAP_PROJECTION_TYPE = SINUSOIDAL
  MAP_RESOLUTION = 2370.85521546667
  MAP_SCALE = 0.025
  MAXIMUM_LATITUDE = 34.3979
  MINIMUM_LATITUDE = 25.8917
  POSITIVE_LONGITUDE_DIRECTION = EAST
  REFERENCE_LATITUDE = "N/A"
  REFERENCE_LONGITUDE = "N/A"
  SAMPLE_FIRST_PIXEL = 1
  SAMPLE_LAST_PIXEL = 4947
  SAMPLE_PROJECTION_OFFSET = 2664.0
  SECOND_STANDARD_PARALLEL = "N/A"
  WESTERNMOST_LONGITUDE = 71.8723
END_OBJECT = IMAGE_MAP_PROJECTION
/* The JPEG2000 image data file associated with this label. */
OBJECT = COMPRESSED_FILE
  FILE_NAME = "HD780_0000_S13.JP2"
  RECORD_TYPE = UNDEFINED
  FILE_RECORDS = UNK
  ENCODING_TYPE = "JP2"
  INTERCHANGE_FORMAT = BINARY
  UNCOMPRESSED_FILE_NAME = "HD780_0000_S13.IMG"
  REQUIRED_STORAGE_BYTES = "99563322"
  ^DESCRIPTION = "JP2INFO.TXT"
END_OBJECT = COMPRESSED_FILE
END
