PDS_VERSION_ID = PDS3
/* FILE DATA ELEMENTS */
RECORD_TYPE = STREAM
/* POINTERS TO DATA OBJECTS */
^COMPRESSED_FILE = "HD781_0000_P13.JP2"
/* IDENTIFICATION DATA ELEMENTS */
DATA_SET_ID = "MEX-M-HRSC-5-REFDR-MAPPROJECTED-V3.0"
DATA_SET_NAME = "MARS EXPRESS HRSC MAP PROJECTED REFDR V3.0"
DETECTOR_ID = MEX_HRSC_P1
EVENT_TYPE = "MARS-REGIONAL-MAPPING-Fl-Pf-Mw"
INSTRUMENT_HOST_ID = MEX
INSTRUMENT_HOST_NAME = "MARS EXPRESS"
INSTRUMENT_ID = HRSC
INSTRUMENT_NAME = "HIGH RESOLUTION STEREO CAMERA"
MISSION_NAME = "MARS EXPRESS"
MISSION_PHASE_NAME = ME_Phase_31
PROCESSING_LEVEL_ID = 3
PRODUCT_CREATION_TIME = 2016-10-29T17:34:02.000Z
PRODUCT_ID = "HD781_0000_P13.JP2"
RELEASE_ID = 0126
REVISION_ID = 0000
/* QUALITY DATA ELEMENTS */
DATA_QUALITY_ID = 1
DATA_QUALITY_DESC = "Data calculated based on original SPICE kernels"
/* TIME DATA ELEMENTS */
SPACECRAFT_CLOCK_START_COUNT = "1/0363635472.08256"
SPACECRAFT_CLOCK_STOP_COUNT = "1/0363635907.43935"
START_TIME = 2014-11-09T17:51:34.429Z
STOP_TIME = 2014-11-09T17:55:51.300Z
/* ORBITAL DATA ELEMENTS */
ASCENDING_NODE_LONGITUDE = 314.98
MAXIMUM_RESOLUTION = 42.9
FOOTPRINT_POINT_LATITUDE = (28.936,28.9409,28.9447,28.9483,28.9495 ,28.9492,28.515,27.7155,27.1764,26.9027 ,26.6285,26.3545,25.9366,25.6581, 25.3769,25.0938,24.8115,24.5244,24.2381 ,23.9497,23.658,23.3667,23.0709,22.7766 ,22.4791,22.1796,21.7267,21.4228, 20.9619,20.6539,20.3416,20.0292,19.7123 ,19.2351,18.9146,18.5915,18.267,17.9389 ,17.6104,17.2769,16.9449,16.6081, 16.2673,15.9252,15.5805,15.2334,14.709, 14.3571,14.0041,13.6468,13.5745,13.5585 ,13.5498,13.5364,13.521,13.8781,14.2367 ,14.5911,14.9443,15.2929,15.6396, 15.9844,16.3256,16.8339,17.3363,17.6691 ,17.9983,18.4887,18.8143,19.1354, 19.4559,19.7734,20.0898,20.4031,20.7151 ,21.0245,21.3321,21.6368,22.0923, 22.3918,22.6916,22.9883,23.2851,23.5768 ,23.8692,24.3029,24.5915,24.8775,25.161 ,25.5855,25.8646,26.1441,26.4213, 26.6961,26.9711,27.3792,27.6499,27.9209 ,28.4518,28.936)
FOOTPRINT_POINT_LONGITUDE = (331.978,331.658,331.338,330.88,330.563 ,330.068,329.984,329.972,329.962, 329.957,329.952,329.947,329.938,329.932 ,329.926,329.919,329.913,329.906, 329.899,329.892,329.884,329.876,329.868 ,329.86,329.852,329.843,329.829,329.82, 329.805,329.795,329.785,329.774,329.763 ,329.746,329.734,329.722,329.71,329.697 ,329.684,329.67,329.658,329.643,329.629 ,329.613,329.598,329.583,329.559, 329.543,329.527,329.51,329.969,330.56, 330.973,331.438,332.008,332.171,332.169 ,332.168,332.166,332.165,332.164, 332.162,332.161,332.159,332.157,332.155 ,332.154,332.152,332.15,332.149,332.147 ,332.146,332.144,332.143,332.141, 332.139,332.138,332.136,332.134,332.133 ,332.131,332.129,332.127,332.125, 332.123,332.121,332.119,332.117,332.115 ,332.112,332.11,332.108,332.106,332.103 ,332.101,332.098,332.095,332.093, 332.089,331.978)
ORBIT_NUMBER = 13781
ORBITAL_ECCENTRICITY = 0.572
ORBITAL_INCLINATION = 86.93
ORBITAL_SEMIMAJOR_AXIS = 8784.73
PERIAPSIS_ALTITUDE = 378.82
PERIAPSIS_ARGUMENT_ANGLE = 122.77
PERIAPSIS_TIME = 2014-11-09T17:44:35.000Z
SPACECRAFT_ORIENTATION = (0.0,-1.0,0.0)
^MEX_ORIENTATION_DESC = "MEX_ORIENTATION_DESC.TXT"
SPACECRAFT_POINTING_MODE = ACROSSTRACK
^MEX_POINTING_DESC = "MEX_POINTING_DESC.TXT"
RIGHT_ASCENSION = -1e+32
DECLINATION = -1e+32
OFFSET_ANGLE = 0.3
SPACECRAFT_SOLAR_DISTANCE = 2.07766e+08
TARGET_NAME = MARS
/* CAMERA DATA ELEMENTS */
DETECTOR_TEMPERATURE = 17.9627
FOCAL_PLANE_TEMPERATURE = 9.6028
INST_CMPRS_NAME = "DISCRETE COSINE TRANSFORMATION (DCT)"
INST_CMPRS_RATIO = 12.652
INST_CMPRS_QUALITY = 0
INST_CMPRS_QUANTZ_TBL_ID = 0
INSTRUMENT_TEMPERATURE = 12.0496
LENS_TEMPERATURE = 9.6028
MACROPIXEL_SIZE = 2
MISSING_FRAMES = 0
PIXEL_SUBSAMPLING_FLAG = N
SIGNAL_CHAIN_ID = 3
/* RADIOMETRIC DATA ELEMENTS */
BANDWIDTH = 174.0
CENTER_FILTER_WAVELENGTH = 675.0
RADIANCE_OFFSET = 5.42526
RADIANCE_SCALING_FACTOR = 0.0160907
REFLECTANCE_SCALING_FACTOR = 0.000373602
MEX:REFLECTANCE_OFFSET = 0.125966
/* IMAGE OBJECT DEFINITIONS */
OBJECT = IMAGE
  INTERCHANGE_FORMAT = BINARY
  LINES = 18252
  LINE_SAMPLES = 3346
  SAMPLE_TYPE = UNSIGNED_INTEGER
  SAMPLE_BITS = 8
  BANDS = 1
  BAND_STORAGE_TYPE = BAND_SEQUENTIAL
  MAXIMUM = 255
  MEAN = 97.061
  MINIMUM = 1
  STANDARD_DEVIATION = 65.1535
END_OBJECT = IMAGE
/* MAP OBJECT DEFINITIONS */
OBJECT = IMAGE_MAP_PROJECTION
  ^DATA_SET_MAP_PROJECTION_CATALOG= "DSMAP.CAT"
  A_AXIS_RADIUS = 3396.0
  B_AXIS_RADIUS = 3396.0
  C_AXIS_RADIUS = 3396.0
  CENTER_LATITUDE = 0.0
  CENTER_LONGITUDE = 331.0
  COORDINATE_SYSTEM_NAME = PLANETOGRAPHIC
  COORDINATE_SYSTEM_TYPE = "BODY-FIXED ROTATING"
  EASTERNMOST_LONGITUDE = 332.171
  FIRST_STANDARD_PARALLEL = "N/A"
  LINE_FIRST_PIXEL = 1
  LINE_LAST_PIXEL = 18252
  LINE_PROJECTION_OFFSET = 34288.25
  MAP_PROJECTION_ROTATION = 0.0
  MAP_PROJECTION_TYPE = SINUSOIDAL
  MAP_RESOLUTION = 1185.42760773333
  MAP_SCALE = 0.05
  MAXIMUM_LATITUDE = 28.9495
  MINIMUM_LATITUDE = 13.521
  POSITIVE_LONGITUDE_DIRECTION = EAST
  REFERENCE_LATITUDE = "N/A"
  REFERENCE_LONGITUDE = "N/A"
  SAMPLE_FIRST_PIXEL = 1
  SAMPLE_LAST_PIXEL = 3346
  SAMPLE_PROJECTION_OFFSET = 1846.75
  SECOND_STANDARD_PARALLEL = "N/A"
  WESTERNMOST_LONGITUDE = 329.51
END_OBJECT = IMAGE_MAP_PROJECTION
/* The JPEG2000 image data file associated with this label. */
OBJECT = COMPRESSED_FILE
  FILE_NAME = "HD781_0000_P13.JP2"
  RECORD_TYPE = UNDEFINED
  FILE_RECORDS = UNK
  ENCODING_TYPE = "JP2"
  INTERCHANGE_FORMAT = BINARY
  UNCOMPRESSED_FILE_NAME = "HD781_0000_P13.IMG"
  REQUIRED_STORAGE_BYTES = "61094614"
  ^DESCRIPTION = "JP2INFO.TXT"
END_OBJECT = COMPRESSED_FILE
END
