PDS_VERSION_ID = PDS3
/* FILE DATA ELEMENTS */
RECORD_TYPE = STREAM
/* POINTERS TO DATA OBJECTS */
^COMPRESSED_FILE = "HD785_0000_P23.JP2"
/* IDENTIFICATION DATA ELEMENTS */
DATA_SET_ID = "MEX-M-HRSC-5-REFDR-MAPPROJECTED-V3.0"
DATA_SET_NAME = "MARS EXPRESS HRSC MAP PROJECTED REFDR V3.0"
DETECTOR_ID = MEX_HRSC_P2
EVENT_TYPE = "MARS-REGIONAL-STEREO-Te"
INSTRUMENT_HOST_ID = MEX
INSTRUMENT_HOST_NAME = "MARS EXPRESS"
INSTRUMENT_ID = HRSC
INSTRUMENT_NAME = "HIGH RESOLUTION STEREO CAMERA"
MISSION_NAME = "MARS EXPRESS"
MISSION_PHASE_NAME = ME_Phase_31
PROCESSING_LEVEL_ID = 3
PRODUCT_CREATION_TIME = 2016-10-29T17:34:02.000Z
PRODUCT_ID = "HD785_0000_P23.JP2"
RELEASE_ID = 0126
REVISION_ID = 0000
/* QUALITY DATA ELEMENTS */
DATA_QUALITY_ID = 1
DATA_QUALITY_DESC = "Data calculated based on original SPICE kernels"
/* TIME DATA ELEMENTS */
SPACECRAFT_CLOCK_START_COUNT = "1/0363735966.09040"
SPACECRAFT_CLOCK_STOP_COUNT = "1/0363736244.39678"
START_TIME = 2014-11-10T21:47:18.141Z
STOP_TIME = 2014-11-10T21:50:27.324Z
/* ORBITAL DATA ELEMENTS */
ASCENDING_NODE_LONGITUDE = 314.9
MAXIMUM_RESOLUTION = 36.4
FOOTPRINT_POINT_LATITUDE = (41.4111,41.409,41.4064,41.4032,41.3994 ,41.3925,41.116,40.9138,40.712,40.3088, 40.1034,39.8975,39.5889,39.3854,39.1808 ,38.973,38.7641,38.5553,38.3467,38.1387 ,37.9292,37.7165,37.5019,37.2888, 37.0762,36.7529,36.5373,36.3226,35.9989 ,35.7797,35.561,35.2326,35.0112,34.7887 ,34.5668,34.3459,34.0086,33.7833, 33.5584,33.3308,33.1024,32.8746,32.5291 ,32.1817,31.9503,31.7158,31.4809, 31.2466,31.0096,30.4936,30.4889,30.488, 30.4868,30.4853,30.4814,30.7182,30.9568 ,31.1958,31.4307,31.6659,32.0178, 32.2496,32.482,32.7146,32.9431,33.2869, 33.516,33.7414,33.9674,34.1932,34.5288, 34.8603,35.1938,35.4127,35.7421,35.9625 ,36.1804,36.3961,36.612,36.8278,37.0444 ,37.2567,37.4691,37.6818,37.8961, 38.1082,38.3185,38.5271,38.7368,39.0504 ,39.3599,39.6687,39.875,40.0812,40.3894 ,40.5915,40.7943,40.9968,41.1998, 41.4111)
FOOTPRINT_POINT_LONGITUDE = (281.79,281.476,281.162,280.846,280.529 ,280.051,279.969,279.976,279.983, 279.996,280.002,280.009,280.018,280.022 ,280.027,280.032,280.037,280.042, 280.047,280.052,280.055,280.059,280.065 ,280.07,280.075,280.081,280.084,280.087 ,280.091,280.094,280.096,280.101, 280.103,280.105,280.107,280.108,280.11, 280.111,280.112,280.113,280.114,280.114 ,280.115,280.115,280.115,280.114, 280.114,280.113,280.112,280.194,280.751 ,281.148,281.456,281.742,282.202, 282.379,282.373,282.367,282.361,282.355 ,282.346,282.34,282.334,282.327,282.321 ,282.312,282.305,282.299,282.293, 282.286,282.276,282.266,282.255,282.249 ,282.238,282.232,282.225,282.218, 282.211,282.204,282.197,282.19,282.182, 282.175,282.168,282.16,282.154,282.146, 282.139,282.127,282.115,282.104,282.096 ,282.088,282.076,282.068,282.06,282.052 ,282.043,281.79)
ORBIT_NUMBER = 13785
ORBITAL_ECCENTRICITY = 0.572
ORBITAL_INCLINATION = 86.91
ORBITAL_SEMIMAJOR_AXIS = 8787.12
PERIAPSIS_ALTITUDE = 379.13
PERIAPSIS_ARGUMENT_ANGLE = 122.09
PERIAPSIS_TIME = 2014-11-10T21:42:33.000Z
SPACECRAFT_ORIENTATION = (0.0,-1.0,0.0)
^MEX_ORIENTATION_DESC = "MEX_ORIENTATION_DESC.TXT"
SPACECRAFT_POINTING_MODE = ACROSSTRACK
^MEX_POINTING_DESC = "MEX_POINTING_DESC.TXT"
RIGHT_ASCENSION = -1e+32
DECLINATION = -1e+32
OFFSET_ANGLE = -0.35
SPACECRAFT_SOLAR_DISTANCE = 2.07687e+08
TARGET_NAME = MARS
/* CAMERA DATA ELEMENTS */
DETECTOR_TEMPERATURE = 19.1861
FOCAL_PLANE_TEMPERATURE = 9.195
INST_CMPRS_NAME = "DISCRETE COSINE TRANSFORMATION (DCT)"
INST_CMPRS_RATIO = 6.84336
INST_CMPRS_QUALITY = 0
INST_CMPRS_QUANTZ_TBL_ID = 0
INSTRUMENT_TEMPERATURE = 11.6418
LENS_TEMPERATURE = 9.3989
MACROPIXEL_SIZE = 2
MISSING_FRAMES = 0
PIXEL_SUBSAMPLING_FLAG = N
SIGNAL_CHAIN_ID = 3
/* RADIOMETRIC DATA ELEMENTS */
BANDWIDTH = 177.0
CENTER_FILTER_WAVELENGTH = 676.5
RADIANCE_OFFSET = 4.3819
RADIANCE_SCALING_FACTOR = 0.0179511
REFLECTANCE_SCALING_FACTOR = 0.000410549
MEX:REFLECTANCE_OFFSET = 0.100216
/* IMAGE OBJECT DEFINITIONS */
OBJECT = IMAGE
  INTERCHANGE_FORMAT = BINARY
  LINES = 26014
  LINE_SAMPLES = 4632
  SAMPLE_TYPE = UNSIGNED_INTEGER
  SAMPLE_BITS = 8
  BANDS = 1
  BAND_STORAGE_TYPE = BAND_SEQUENTIAL
  MAXIMUM = 255
  MEAN = 96.7942
  MINIMUM = 1
  STANDARD_DEVIATION = 31.2758
END_OBJECT = IMAGE
/* MAP OBJECT DEFINITIONS */
OBJECT = IMAGE_MAP_PROJECTION
  ^DATA_SET_MAP_PROJECTION_CATALOG= "DSMAP.CAT"
  A_AXIS_RADIUS = 3396.0
  B_AXIS_RADIUS = 3396.0
  C_AXIS_RADIUS = 3396.0
  CENTER_LATITUDE = 0.0
  CENTER_LONGITUDE = 281.0
  COORDINATE_SYSTEM_NAME = PLANETOGRAPHIC
  COORDINATE_SYSTEM_TYPE = "BODY-FIXED ROTATING"
  EASTERNMOST_LONGITUDE = 282.379
  FIRST_STANDARD_PARALLEL = "N/A"
  LINE_FIRST_PIXEL = 1
  LINE_LAST_PIXEL = 26014
  LINE_PROJECTION_OFFSET = 98294.25
  MAP_PROJECTION_ROTATION = 0.0
  MAP_PROJECTION_TYPE = SINUSOIDAL
  MAP_RESOLUTION = 2370.85521546667
  MAP_SCALE = 0.025
  MAXIMUM_LATITUDE = 41.4111
  MINIMUM_LATITUDE = 30.4814
  POSITIVE_LONGITUDE_DIRECTION = EAST
  REFERENCE_LATITUDE = "N/A"
  REFERENCE_LONGITUDE = "N/A"
  SAMPLE_FIRST_PIXEL = 1
  SAMPLE_LAST_PIXEL = 4632
  SAMPLE_PROJECTION_OFFSET = 1880.75
  SECOND_STANDARD_PARALLEL = "N/A"
  WESTERNMOST_LONGITUDE = 279.969
END_OBJECT = IMAGE_MAP_PROJECTION
/* The JPEG2000 image data file associated with this label. */
OBJECT = COMPRESSED_FILE
  FILE_NAME = "HD785_0000_P23.JP2"
  RECORD_TYPE = UNDEFINED
  FILE_RECORDS = UNK
  ENCODING_TYPE = "JP2"
  INTERCHANGE_FORMAT = BINARY
  UNCOMPRESSED_FILE_NAME = "HD785_0000_P23.IMG"
  REQUIRED_STORAGE_BYTES = "120520008"
  ^DESCRIPTION = "JP2INFO.TXT"
END_OBJECT = COMPRESSED_FILE
END
