PDS_VERSION_ID = PDS3
/* FILE DATA ELEMENTS */
RECORD_TYPE = STREAM
/* POINTERS TO DATA OBJECTS */
^COMPRESSED_FILE = "HD787_0009_RE3.JP2"
/* IDENTIFICATION DATA ELEMENTS */
DATA_SET_ID = "MEX-M-HRSC-5-REFDR-MAPPROJECTED-V3.0"
DATA_SET_NAME = "MARS EXPRESS HRSC MAP PROJECTED REFDR V3.0"
DETECTOR_ID = MEX_HRSC_RED
EVENT_TYPE = "MARS-REGIONAL-MAPPING-Te-Pf"
INSTRUMENT_HOST_ID = MEX
INSTRUMENT_HOST_NAME = "MARS EXPRESS"
INSTRUMENT_ID = HRSC
INSTRUMENT_NAME = "HIGH RESOLUTION STEREO CAMERA"
MISSION_NAME = "MARS EXPRESS"
MISSION_PHASE_NAME = ME_Phase_31
PROCESSING_LEVEL_ID = 3
PRODUCT_CREATION_TIME = 2016-10-29T17:34:02.000Z
PRODUCT_ID = "HD787_0009_RE3.JP2"
RELEASE_ID = 0126
REVISION_ID = 0000
/* QUALITY DATA ELEMENTS */
DATA_QUALITY_ID = 1
DATA_QUALITY_DESC = "Data calculated based on original SPICE kernels"
/* TIME DATA ELEMENTS */
SPACECRAFT_CLOCK_START_COUNT = "1/0363786280.08254"
SPACECRAFT_CLOCK_STOP_COUNT = "1/0363786526.07954"
START_TIME = 2014-11-11T11:45:58.257Z
STOP_TIME = 2014-11-11T11:48:40.242Z
/* ORBITAL DATA ELEMENTS */
ASCENDING_NODE_LONGITUDE = 314.85
MAXIMUM_RESOLUTION = 73.8
FOOTPRINT_POINT_LATITUDE = (42.947,42.939,42.9314,42.9232,42.9146, 42.9056,42.896,42.7796,42.3451,42.079, 41.9015,41.7242,41.4586,41.1056,40.9257 ,40.745,40.4749,40.2958,40.1164,39.9371 ,39.7539,39.57,39.3869,39.2037,39.0223, 38.7468,38.5608,38.3749,38.1897,38.0049 ,37.7252,37.5369,37.3485,37.1603, 36.9726,36.6866,36.4958,36.3049,36.0191 ,35.7275,35.5326,35.339,35.145,34.9491, 34.7527,34.5574,34.3615,34.1616,33.9595 ,33.7617,33.5629,33.5648,33.5729, 33.5782,33.5849,33.5886,33.5917,33.5949 ,33.8935,34.0927,34.2941,34.4922, 34.6888,34.886,35.0825,35.3749,35.6649, 35.9578,36.151,36.3416,36.5331,36.8195, 37.1064,37.2948,37.4834,37.6722,37.955, 38.1404,38.3262,38.5122,38.6984,38.9768 ,39.1594,39.3423,39.6173,39.8008, 40.0744,40.2543,40.4342,40.7048,40.8853 ,41.1562,41.5101,41.6873,41.8645, 42.0423,42.2202,42.3981,42.7462,42.947)
FOOTPRINT_POINT_LONGITUDE = (78.701,78.3494,78.0392,77.7304,77.4237 ,77.1186,76.8146,76.6307,76.64,76.6453, 76.6487,76.652,76.6567,76.6623,76.6651, 76.6677,76.6714,76.6735,76.6757,76.6777 ,76.6796,76.6816,76.6834,76.685,76.6863 ,76.6882,76.6894,76.6904,76.6913,76.692 ,76.693,76.6934,76.6938,76.694,76.6942, 76.6941,76.6939,76.6936,76.6929,76.692, 76.6915,76.6906,76.6898,76.6884,76.6871 ,76.6855,76.684,76.6826,76.6813,76.6792 ,76.6773,77.0285,77.3618,77.6964, 78.0543,78.308,78.6891,78.9305,78.9258, 78.9223,78.9201,78.9173,78.9142,78.9111 ,78.9074,78.9027,78.8972,78.893,78.89, 78.8864,78.8832,78.8774,78.8737,78.8704 ,78.867,78.8635,78.8585,78.8551,78.8517 ,78.8483,78.8448,78.8395,78.8359, 78.8324,78.8272,78.8236,78.8182,78.8146 ,78.8109,78.8053,78.8015,78.7958, 78.7881,78.7842,78.7801,78.7762,78.7722 ,78.7682,78.7602,78.701)
ORBIT_NUMBER = 13787
ORBITAL_ECCENTRICITY = 0.572
ORBITAL_INCLINATION = 86.93
ORBITAL_SEMIMAJOR_AXIS = 8788.88
PERIAPSIS_ALTITUDE = 378.47
PERIAPSIS_ARGUMENT_ANGLE = 121.73
PERIAPSIS_TIME = 2014-11-11T11:41:25.000Z
SPACECRAFT_ORIENTATION = (0.0,-1.0,0.0)
^MEX_ORIENTATION_DESC = "MEX_ORIENTATION_DESC.TXT"
SPACECRAFT_POINTING_MODE = ACROSSTRACK
^MEX_POINTING_DESC = "MEX_POINTING_DESC.TXT"
RIGHT_ASCENSION = -1e+32
DECLINATION = -1e+32
OFFSET_ANGLE = 0.5
SPACECRAFT_SOLAR_DISTANCE = 2.07649e+08
TARGET_NAME = MARS
/* CAMERA DATA ELEMENTS */
DETECTOR_TEMPERATURE = 19.5939
FOCAL_PLANE_TEMPERATURE = 9.8067
INST_CMPRS_NAME = "DISCRETE COSINE TRANSFORMATION (DCT)"
INST_CMPRS_RATIO = 29.0171
INST_CMPRS_QUALITY = 0
INST_CMPRS_QUANTZ_TBL_ID = 0
INSTRUMENT_TEMPERATURE = 12.8652
LENS_TEMPERATURE = 10.2145
MACROPIXEL_SIZE = 4
MISSING_FRAMES = 0
PIXEL_SUBSAMPLING_FLAG = N
SIGNAL_CHAIN_ID = 2
/* RADIOMETRIC DATA ELEMENTS */
BANDWIDTH = 48.0
CENTER_FILTER_WAVELENGTH = 748.0
RADIANCE_OFFSET = 1.1093
RADIANCE_SCALING_FACTOR = 0.00307514
REFLECTANCE_SCALING_FACTOR = 0.000302586
MEX:REFLECTANCE_OFFSET = 0.109152
/* IMAGE OBJECT DEFINITIONS */
OBJECT = IMAGE
  INTERCHANGE_FORMAT = BINARY
  LINES = 11176
  LINE_SAMPLES = 2140
  SAMPLE_TYPE = UNSIGNED_INTEGER
  SAMPLE_BITS = 8
  BANDS = 1
  BAND_STORAGE_TYPE = BAND_SEQUENTIAL
  MAXIMUM = 255
  MEAN = 124.734
  MINIMUM = 1
  STANDARD_DEVIATION = 54.9892
END_OBJECT = IMAGE
/* MAP OBJECT DEFINITIONS */
OBJECT = IMAGE_MAP_PROJECTION
  ^DATA_SET_MAP_PROJECTION_CATALOG= "DSMAP.CAT"
  A_AXIS_RADIUS = 3396.0
  B_AXIS_RADIUS = 3396.0
  C_AXIS_RADIUS = 3396.0
  CENTER_LATITUDE = 0.0
  CENTER_LONGITUDE = 78.0
  COORDINATE_SYSTEM_NAME = PLANETOGRAPHIC
  COORDINATE_SYSTEM_TYPE = "BODY-FIXED ROTATING"
  EASTERNMOST_LONGITUDE = 78.93049999999999
  FIRST_STANDARD_PARALLEL = "N/A"
  LINE_FIRST_PIXEL = 1
  LINE_LAST_PIXEL = 11176
  LINE_PROJECTION_OFFSET = 50956.375
  MAP_PROJECTION_ROTATION = 0.0
  MAP_PROJECTION_TYPE = SINUSOIDAL
  MAP_RESOLUTION = 1185.42760773333
  MAP_SCALE = 0.05
  MAXIMUM_LATITUDE = 42.947
  MINIMUM_LATITUDE = 33.5629
  POSITIVE_LONGITUDE_DIRECTION = EAST
  REFERENCE_LATITUDE = "N/A"
  REFERENCE_LONGITUDE = "N/A"
  SAMPLE_FIRST_PIXEL = 1
  SAMPLE_LAST_PIXEL = 2140
  SAMPLE_PROJECTION_OFFSET = 1256.375
  SECOND_STANDARD_PARALLEL = "N/A"
  WESTERNMOST_LONGITUDE = 76.6307
END_OBJECT = IMAGE_MAP_PROJECTION
/* The JPEG2000 image data file associated with this label. */
OBJECT = COMPRESSED_FILE
  FILE_NAME = "HD787_0009_RE3.JP2"
  RECORD_TYPE = UNDEFINED
  FILE_RECORDS = UNK
  ENCODING_TYPE = "JP2"
  INTERCHANGE_FORMAT = BINARY
  UNCOMPRESSED_FILE_NAME = "HD787_0009_RE3.IMG"
  REQUIRED_STORAGE_BYTES = "23938040"
  ^DESCRIPTION = "JP2INFO.TXT"
END_OBJECT = COMPRESSED_FILE
END
