PDS_VERSION_ID = PDS3
/* FILE DATA ELEMENTS */
RECORD_TYPE = STREAM
/* POINTERS TO DATA OBJECTS */
^COMPRESSED_FILE = "HD787_0009_S23.JP2"
/* IDENTIFICATION DATA ELEMENTS */
DATA_SET_ID = "MEX-M-HRSC-5-REFDR-MAPPROJECTED-V3.0"
DATA_SET_NAME = "MARS EXPRESS HRSC MAP PROJECTED REFDR V3.0"
DETECTOR_ID = MEX_HRSC_S2
EVENT_TYPE = "MARS-REGIONAL-MAPPING-Te-Pf"
INSTRUMENT_HOST_ID = MEX
INSTRUMENT_HOST_NAME = "MARS EXPRESS"
INSTRUMENT_ID = HRSC
INSTRUMENT_NAME = "HIGH RESOLUTION STEREO CAMERA"
MISSION_NAME = "MARS EXPRESS"
MISSION_PHASE_NAME = ME_Phase_31
PROCESSING_LEVEL_ID = 3
PRODUCT_CREATION_TIME = 2016-10-29T17:34:02.000Z
PRODUCT_ID = "HD787_0009_S23.JP2"
RELEASE_ID = 0126
REVISION_ID = 0000
/* QUALITY DATA ELEMENTS */
DATA_QUALITY_ID = 1
DATA_QUALITY_DESC = "Data calculated based on original SPICE kernels"
/* TIME DATA ELEMENTS */
SPACECRAFT_CLOCK_START_COUNT = "1/0363786280.08254"
SPACECRAFT_CLOCK_STOP_COUNT = "1/0363786526.07954"
START_TIME = 2014-11-11T11:46:05.771Z
STOP_TIME = 2014-11-11T11:48:49.979Z
/* ORBITAL DATA ELEMENTS */
ASCENDING_NODE_LONGITUDE = 314.85
MAXIMUM_RESOLUTION = 37.9
FOOTPRINT_POINT_LATITUDE = (42.938,42.9262,42.917,42.9073,42.8973, 42.8868,42.8751,42.6885,42.5104,42.1545 ,41.7995,41.5331,41.3519,41.081,40.8107 ,40.6305,40.4506,40.1767,39.9933, 39.7182,39.5343,39.2582,39.073,38.8872, 38.6088,38.3303,38.0475,37.7651,37.5774 ,37.293,37.1015,36.9103,36.7196,36.5296 ,36.3354,36.1413,35.9482,35.7541,35.459 ,35.2621,35.066,34.8708,34.6729,34.4742 ,34.2735,34.0711,33.8698,33.5669, 33.5734,33.5812,33.5909,33.5993,33.6018 ,33.6057,33.9082,34.11,34.3107,34.5104, 34.71,34.9101,35.1054,35.3019,35.4992, 35.6954,35.8902,36.1817,36.3756,36.5705 ,36.7608,36.9526,37.1453,37.3373, 37.5283,37.7164,37.9052,38.0943,38.284, 38.4721,38.6577,38.8438,39.0301,39.2166 ,39.4038,39.5867,39.7699,40.0453, 40.2291,40.5044,40.6846,40.8651,41.0457 ,41.2266,41.4078,41.6783,42.0334, 42.2113,42.3895,42.5679,42.7464,42.938)
FOOTPRINT_POINT_LONGITUDE = (78.7182,78.2666,77.9404,77.6161,77.294 ,76.9734,76.634,76.6201,76.6239,76.631, 76.6375,76.6422,76.6451,76.6492,76.653, 76.6555,76.6577,76.6609,76.6628,76.6657 ,76.6675,76.6699,76.6711,76.6723, 76.6739,76.6753,76.6763,76.6771,76.6774 ,76.6777,76.6778,76.6778,76.6776, 76.6772,76.6768,76.6762,76.6755,76.6748 ,76.6736,76.6726,76.6713,76.6699, 76.6682,76.6665,76.665,76.6639,76.6617, 76.7885,77.1188,77.4501,77.9609,78.4087 ,78.7002,78.9564,78.9511,78.9473, 78.9449,78.9418,78.9384,78.9351,78.9312 ,78.9277,78.9245,78.9203,78.9174, 78.9125,78.9087,78.9052,78.9013,78.8981 ,78.8951,78.8916,78.888,78.8843,78.8808 ,78.8772,78.8737,78.8701,78.8664, 78.8628,78.8591,78.8553,78.8517,78.848, 78.8442,78.8386,78.8347,78.8289,78.8251 ,78.8211,78.8171,78.8131,78.8091,78.803 ,78.7949,78.7907,78.7865,78.7823,78.778 ,78.7182)
ORBIT_NUMBER = 13787
ORBITAL_ECCENTRICITY = 0.572
ORBITAL_INCLINATION = 86.93
ORBITAL_SEMIMAJOR_AXIS = 8788.88
PERIAPSIS_ALTITUDE = 378.47
PERIAPSIS_ARGUMENT_ANGLE = 121.73
PERIAPSIS_TIME = 2014-11-11T11:41:25.000Z
SPACECRAFT_ORIENTATION = (0.0,-1.0,0.0)
^MEX_ORIENTATION_DESC = "MEX_ORIENTATION_DESC.TXT"
SPACECRAFT_POINTING_MODE = ACROSSTRACK
^MEX_POINTING_DESC = "MEX_POINTING_DESC.TXT"
RIGHT_ASCENSION = -1e+32
DECLINATION = -1e+32
OFFSET_ANGLE = 0.5
SPACECRAFT_SOLAR_DISTANCE = 2.07649e+08
TARGET_NAME = MARS
/* CAMERA DATA ELEMENTS */
DETECTOR_TEMPERATURE = 19.5939
FOCAL_PLANE_TEMPERATURE = 9.8067
INST_CMPRS_NAME = "DISCRETE COSINE TRANSFORMATION (DCT)"
INST_CMPRS_RATIO = 11.9867
INST_CMPRS_QUALITY = 0
INST_CMPRS_QUANTZ_TBL_ID = 0
INSTRUMENT_TEMPERATURE = 12.8652
LENS_TEMPERATURE = 10.2145
MACROPIXEL_SIZE = 2
MISSING_FRAMES = 0
PIXEL_SUBSAMPLING_FLAG = N
SIGNAL_CHAIN_ID = 1
/* RADIOMETRIC DATA ELEMENTS */
BANDWIDTH = 178.0
CENTER_FILTER_WAVELENGTH = 679.0
RADIANCE_OFFSET = 4.34467
RADIANCE_SCALING_FACTOR = 0.0108667
REFLECTANCE_SCALING_FACTOR = 0.000248133
MEX:REFLECTANCE_OFFSET = 0.0992073
/* IMAGE OBJECT DEFINITIONS */
OBJECT = IMAGE
  INTERCHANGE_FORMAT = BINARY
  LINES = 22351
  LINE_SAMPLES = 4280
  SAMPLE_TYPE = UNSIGNED_INTEGER
  SAMPLE_BITS = 8
  BANDS = 1
  BAND_STORAGE_TYPE = BAND_SEQUENTIAL
  MAXIMUM = 255
  MEAN = 124.905
  MINIMUM = 1
  STANDARD_DEVIATION = 55.8425
END_OBJECT = IMAGE
/* MAP OBJECT DEFINITIONS */
OBJECT = IMAGE_MAP_PROJECTION
  ^DATA_SET_MAP_PROJECTION_CATALOG= "DSMAP.CAT"
  A_AXIS_RADIUS = 3396.0
  B_AXIS_RADIUS = 3396.0
  C_AXIS_RADIUS = 3396.0
  CENTER_LATITUDE = 0.0
  CENTER_LONGITUDE = 78.0
  COORDINATE_SYSTEM_NAME = PLANETOGRAPHIC
  COORDINATE_SYSTEM_TYPE = "BODY-FIXED ROTATING"
  EASTERNMOST_LONGITUDE = 78.9564
  FIRST_STANDARD_PARALLEL = "N/A"
  LINE_FIRST_PIXEL = 1
  LINE_LAST_PIXEL = 22351
  LINE_PROJECTION_OFFSET = 101913.25
  MAP_PROJECTION_ROTATION = 0.0
  MAP_PROJECTION_TYPE = SINUSOIDAL
  MAP_RESOLUTION = 2370.85521546667
  MAP_SCALE = 0.025
  MAXIMUM_LATITUDE = 42.938
  MINIMUM_LATITUDE = 33.5669
  POSITIVE_LONGITUDE_DIRECTION = EAST
  REFERENCE_LATITUDE = "N/A"
  REFERENCE_LONGITUDE = "N/A"
  SAMPLE_FIRST_PIXEL = 1
  SAMPLE_LAST_PIXEL = 4280
  SAMPLE_PROJECTION_OFFSET = 2513.25
  SECOND_STANDARD_PARALLEL = "N/A"
  WESTERNMOST_LONGITUDE = 76.62009999999999
END_OBJECT = IMAGE_MAP_PROJECTION
/* The JPEG2000 image data file associated with this label. */
OBJECT = COMPRESSED_FILE
  FILE_NAME = "HD787_0009_S23.JP2"
  RECORD_TYPE = UNDEFINED
  FILE_RECORDS = UNK
  ENCODING_TYPE = "JP2"
  INTERCHANGE_FORMAT = BINARY
  UNCOMPRESSED_FILE_NAME = "HD787_0009_S23.IMG"
  REQUIRED_STORAGE_BYTES = "95687960"
  ^DESCRIPTION = "JP2INFO.TXT"
END_OBJECT = COMPRESSED_FILE
END
