PDS_VERSION_ID = PDS3
/* FILE DATA ELEMENTS */
RECORD_TYPE = STREAM
/* POINTERS TO DATA OBJECTS */
^COMPRESSED_FILE = "HD788_0000_RE3.JP2"
/* IDENTIFICATION DATA ELEMENTS */
DATA_SET_ID = "MEX-M-HRSC-5-REFDR-MAPPROJECTED-V3.0"
DATA_SET_NAME = "MARS EXPRESS HRSC MAP PROJECTED REFDR V3.0"
DETECTOR_ID = MEX_HRSC_RED
EVENT_TYPE = "MARS-REGIONAL-MAPPING-Te-Im-Pf"
INSTRUMENT_HOST_ID = MEX
INSTRUMENT_HOST_NAME = "MARS EXPRESS"
INSTRUMENT_ID = HRSC
INSTRUMENT_NAME = "HIGH RESOLUTION STEREO CAMERA"
MISSION_NAME = "MARS EXPRESS"
MISSION_PHASE_NAME = ME_Phase_31
PROCESSING_LEVEL_ID = 3
PRODUCT_CREATION_TIME = 2016-10-29T17:34:02.000Z
PRODUCT_ID = "HD788_0000_RE3.JP2"
RELEASE_ID = 0126
REVISION_ID = 0000
/* QUALITY DATA ELEMENTS */
DATA_QUALITY_ID = 1
DATA_QUALITY_DESC = "Data calculated based on original SPICE kernels"
/* TIME DATA ELEMENTS */
SPACECRAFT_CLOCK_START_COUNT = "1/0363811506.09034"
SPACECRAFT_CLOCK_STOP_COUNT = "1/0363811835.63514"
START_TIME = 2014-11-11T18:46:31.028Z
STOP_TIME = 2014-11-11T18:50:26.883Z
/* ORBITAL DATA ELEMENTS */
ASCENDING_NODE_LONGITUDE = 314.84
MAXIMUM_RESOLUTION = 79.9
FOOTPRINT_POINT_LATITUDE = (39.1703,39.1596,39.1485,39.1371, 39.1253,39.1131,39.1005,38.699,38.223, 37.7472,37.5069,37.2651,37.0234,36.7823 ,36.4154,36.1703,35.9259,35.5545, 35.3062,35.0583,34.6812,34.4295,34.1783 ,33.9223,33.6673,33.2837,33.025,32.7669 ,32.5065,32.2446,31.9835,31.7188, 31.3221,30.9207,30.6531,30.2472,29.9767 ,29.5662,29.2925,29.0147,28.7376,28.458 ,28.1784,27.8957,27.6129,27.3276, 27.0415,26.753,26.4643,26.1722,26.1765, 26.1838,26.1909,26.2009,26.2071,26.2151 ,26.508,26.7977,27.2304,27.517,27.9432, 28.2273,28.5081,28.7888,29.0664,29.3448 ,29.7567,30.0313,30.3026,30.7092, 30.9775,31.3797,31.7776,32.0429,32.3047 ,32.5671,32.9574,33.2166,33.4763, 33.7316,33.9873,34.2435,34.4953,34.7475 ,35.1257,35.3743,35.6235,35.9958, 36.3639,36.6099,36.8545,37.0962,37.3384 ,37.581,37.8218,38.06,38.2987,38.538, 39.0101,39.1703)
FOOTPRINT_POINT_LONGITUDE = (337.156,336.827,336.503,336.181, 335.864,335.55,335.238,335.241,335.238, 335.235,335.233,335.23,335.228,335.225, 335.221,335.218,335.215,335.209,335.206 ,335.202,335.196,335.191,335.187, 335.182,335.177,335.17,335.164,335.159, 335.153,335.147,335.141,335.134,335.125 ,335.114,335.107,335.096,335.088, 335.076,335.068,335.06,335.051,335.042, 335.033,335.023,335.014,335.004,334.994 ,334.984,334.973,334.962,335.336, 335.737,336.142,336.697,337.086,337.537 ,337.535,337.533,337.53,337.528,337.525 ,337.524,337.522,337.52,337.518,337.517 ,337.514,337.513,337.511,337.508, 337.507,337.504,337.502,337.5,337.499, 337.498,337.495,337.494,337.493,337.492 ,337.491,337.489,337.488,337.486, 337.484,337.483,337.482,337.48,337.478, 337.476,337.475,337.474,337.472,337.471 ,337.47,337.468,337.467,337.466,337.462 ,337.156)
ORBIT_NUMBER = 13788
ORBITAL_ECCENTRICITY = 0.572
ORBITAL_INCLINATION = 86.93
ORBITAL_SEMIMAJOR_AXIS = 8782.65
PERIAPSIS_ALTITUDE = 379.39
PERIAPSIS_ARGUMENT_ANGLE = 121.56
PERIAPSIS_TIME = 2014-11-11T18:40:50.000Z
SPACECRAFT_ORIENTATION = (0.0,-1.0,0.0)
^MEX_ORIENTATION_DESC = "MEX_ORIENTATION_DESC.TXT"
SPACECRAFT_POINTING_MODE = ACROSSTRACK
^MEX_POINTING_DESC = "MEX_POINTING_DESC.TXT"
RIGHT_ASCENSION = -1e+32
DECLINATION = -1e+32
OFFSET_ANGLE = 1.1
SPACECRAFT_SOLAR_DISTANCE = 2.0763e+08
TARGET_NAME = MARS
/* CAMERA DATA ELEMENTS */
DETECTOR_TEMPERATURE = 19.1861
FOCAL_PLANE_TEMPERATURE = 10.4184
INST_CMPRS_NAME = "DISCRETE COSINE TRANSFORMATION (DCT)"
INST_CMPRS_RATIO = 27.5287
INST_CMPRS_QUALITY = 0
INST_CMPRS_QUANTZ_TBL_ID = 0
INSTRUMENT_TEMPERATURE = 11.8457
LENS_TEMPERATURE = 9.8067
MACROPIXEL_SIZE = 4
MISSING_FRAMES = 0
PIXEL_SUBSAMPLING_FLAG = N
SIGNAL_CHAIN_ID = 2
/* RADIOMETRIC DATA ELEMENTS */
BANDWIDTH = 48.0
CENTER_FILTER_WAVELENGTH = 748.0
RADIANCE_OFFSET = 0.885374
RADIANCE_SCALING_FACTOR = 0.00405646
REFLECTANCE_SCALING_FACTOR = 0.000399072
MEX:REFLECTANCE_OFFSET = 0.0871026
/* IMAGE OBJECT DEFINITIONS */
OBJECT = IMAGE
  INTERCHANGE_FORMAT = BINARY
  LINES = 15443
  LINE_SAMPLES = 2589
  SAMPLE_TYPE = UNSIGNED_INTEGER
  SAMPLE_BITS = 8
  BANDS = 1
  BAND_STORAGE_TYPE = BAND_SEQUENTIAL
  MAXIMUM = 255
  MEAN = 119.166
  MINIMUM = 1
  STANDARD_DEVIATION = 64.7384
END_OBJECT = IMAGE
/* MAP OBJECT DEFINITIONS */
OBJECT = IMAGE_MAP_PROJECTION
  ^DATA_SET_MAP_PROJECTION_CATALOG= "DSMAP.CAT"
  A_AXIS_RADIUS = 3396.0
  B_AXIS_RADIUS = 3396.0
  C_AXIS_RADIUS = 3396.0
  CENTER_LATITUDE = 0.0
  CENTER_LONGITUDE = 336.0
  COORDINATE_SYSTEM_NAME = PLANETOGRAPHIC
  COORDINATE_SYSTEM_TYPE = "BODY-FIXED ROTATING"
  EASTERNMOST_LONGITUDE = 337.537
  FIRST_STANDARD_PARALLEL = "N/A"
  LINE_FIRST_PIXEL = 1
  LINE_LAST_PIXEL = 15443
  LINE_PROJECTION_OFFSET = 46455.625
  MAP_PROJECTION_ROTATION = 0.0
  MAP_PROJECTION_TYPE = SINUSOIDAL
  MAP_RESOLUTION = 1185.42760773333
  MAP_SCALE = 0.05
  MAXIMUM_LATITUDE = 39.1703
  MINIMUM_LATITUDE = 26.1722
  POSITIVE_LONGITUDE_DIRECTION = EAST
  REFERENCE_LATITUDE = "N/A"
  REFERENCE_LONGITUDE = "N/A"
  SAMPLE_FIRST_PIXEL = 1
  SAMPLE_LAST_PIXEL = 2589
  SAMPLE_PROJECTION_OFFSET = 1017.875
  SECOND_STANDARD_PARALLEL = "N/A"
  WESTERNMOST_LONGITUDE = 334.962
END_OBJECT = IMAGE_MAP_PROJECTION
/* The JPEG2000 image data file associated with this label. */
OBJECT = COMPRESSED_FILE
  FILE_NAME = "HD788_0000_RE3.JP2"
  RECORD_TYPE = UNDEFINED
  FILE_RECORDS = UNK
  ENCODING_TYPE = "JP2"
  INTERCHANGE_FORMAT = BINARY
  UNCOMPRESSED_FILE_NAME = "HD788_0000_RE3.IMG"
  REQUIRED_STORAGE_BYTES = "40002639"
  ^DESCRIPTION = "JP2INFO.TXT"
END_OBJECT = COMPRESSED_FILE
END
