PDS_VERSION_ID = PDS3
/* FILE DATA ELEMENTS */
RECORD_TYPE = STREAM
/* POINTERS TO DATA OBJECTS */
^COMPRESSED_FILE = "HD791_0000_P13.JP2"
/* IDENTIFICATION DATA ELEMENTS */
DATA_SET_ID = "MEX-M-HRSC-5-REFDR-MAPPROJECTED-V3.0"
DATA_SET_NAME = "MARS EXPRESS HRSC MAP PROJECTED REFDR V3.0"
DETECTOR_ID = MEX_HRSC_P1
EVENT_TYPE = "MARS-LOCAL-STEREO-Im-Fl"
INSTRUMENT_HOST_ID = MEX
INSTRUMENT_HOST_NAME = "MARS EXPRESS"
INSTRUMENT_ID = HRSC
INSTRUMENT_NAME = "HIGH RESOLUTION STEREO CAMERA"
MISSION_NAME = "MARS EXPRESS"
MISSION_PHASE_NAME = ME_Phase_31
PROCESSING_LEVEL_ID = 3
PRODUCT_CREATION_TIME = 2016-10-29T17:34:02.000Z
PRODUCT_ID = "HD791_0000_P13.JP2"
RELEASE_ID = 0126
REVISION_ID = 0000
/* QUALITY DATA ELEMENTS */
DATA_QUALITY_ID = 1
DATA_QUALITY_DESC = "Data calculated based on original SPICE kernels"
/* TIME DATA ELEMENTS */
SPACECRAFT_CLOCK_START_COUNT = "1/0363886782.09065"
SPACECRAFT_CLOCK_STOP_COUNT = "1/0363886975.57779"
START_TIME = 2014-11-12T15:39:59.691Z
STOP_TIME = 2014-11-12T15:41:56.445Z
/* ORBITAL DATA ELEMENTS */
ASCENDING_NODE_LONGITUDE = 314.78
MAXIMUM_RESOLUTION = 31.5
FOOTPRINT_POINT_LATITUDE = (54.5039,54.4914,54.4733,54.4606, 54.4487,54.4339,54.2171,54.0681,53.9192 ,53.7703,53.6212,53.4718,53.2484, 53.0992,52.8755,52.7265,52.5778,52.3539 ,52.1308,51.982,51.8326,51.6836,51.5336 ,51.3844,51.2359,51.0127,50.8616, 50.7098,50.4145,50.2634,50.1126,49.9643 ,49.8147,49.6657,49.516,49.3672,49.1434 ,48.9937,48.7694,48.6199,48.3959, 48.1716,48.0221,47.8727,47.7237,47.5744 ,47.4248,47.2753,47.127,46.9766,46.8652 ,46.8741,46.8844,46.8922,46.9004, 46.9082,46.9894,47.2873,47.5102,47.66, 47.8094,47.9592,48.1094,48.2589,48.4084 ,48.7001,48.8477,49.075,49.2264,49.376, 49.5998,49.8221,49.9711,50.1201,50.3457 ,50.4964,50.6484,50.8767,51.0277, 51.1755,51.3263,51.4765,51.6281,51.7814 ,51.934,52.0845,52.3071,52.4573,52.6051 ,52.8295,53.0537,53.2032,53.3529, 53.5028,53.7268,53.9513,54.1009,54.25, 54.3995,54.5039)
FOOTPRINT_POINT_LONGITUDE = (28.1659,27.717,27.1615,26.8202,26.5214 ,26.18,26.1471,26.165,26.1827,26.2002, 26.2173,26.234,26.2592,26.2756,26.2998, 26.3158,26.3318,26.3549,26.3781,26.3932 ,26.4078,26.4224,26.4363,26.4505, 26.4649,26.4859,26.4983,26.51,26.5381, 26.5497,26.5615,26.5745,26.5866,26.5989 ,26.6106,26.6227,26.6401,26.6512, 26.6677,26.6786,26.6947,26.7103,26.7205 ,26.7306,26.7409,26.7507,26.7602, 26.7697,26.7798,26.7884,26.9758,27.314, 27.5932,27.8921,28.2913,28.6096,28.8518 ,28.8399,28.8312,28.8244,28.8179, 28.8111,28.8039,28.7971,28.7903,28.7822 ,28.7766,28.7637,28.755,28.7477,28.7371 ,28.7275,28.7204,28.7131,28.7005, 28.6917,28.6819,28.6666,28.6573,28.6504 ,28.6411,28.6321,28.6219,28.6102, 28.5989,28.5892,28.5773,28.5676,28.5599 ,28.546,28.5318,28.5222,28.5123,28.5023 ,28.4875,28.4721,28.4617,28.4517, 28.4411,28.1659)
ORBIT_NUMBER = 13791
ORBITAL_ECCENTRICITY = 0.572
ORBITAL_INCLINATION = 86.91
ORBITAL_SEMIMAJOR_AXIS = 8786.14
PERIAPSIS_ALTITUDE = 379.92
PERIAPSIS_ARGUMENT_ANGLE = 121.04
PERIAPSIS_TIME = 2014-11-12T15:39:13.000Z
SPACECRAFT_ORIENTATION = (0.0,-1.0,0.0)
^MEX_ORIENTATION_DESC = "MEX_ORIENTATION_DESC.TXT"
SPACECRAFT_POINTING_MODE = NADIR
^MEX_POINTING_DESC = "MEX_POINTING_DESC.TXT"
RIGHT_ASCENSION = -1e+32
DECLINATION = -1e+32
OFFSET_ANGLE = -1e+32
SPACECRAFT_SOLAR_DISTANCE = 2.07574e+08
TARGET_NAME = MARS
/* CAMERA DATA ELEMENTS */
DETECTOR_TEMPERATURE = 17.5549
FOCAL_PLANE_TEMPERATURE = 8.9911
INST_CMPRS_NAME = "DISCRETE COSINE TRANSFORMATION (DCT)"
INST_CMPRS_RATIO = 8.91203
INST_CMPRS_QUALITY = 0
INST_CMPRS_QUANTZ_TBL_ID = 0
INSTRUMENT_TEMPERATURE = 11.4379
LENS_TEMPERATURE = 9.3989
MACROPIXEL_SIZE = 2
MISSING_FRAMES = 0
PIXEL_SUBSAMPLING_FLAG = N
SIGNAL_CHAIN_ID = 3
/* RADIOMETRIC DATA ELEMENTS */
BANDWIDTH = 174.0
CENTER_FILTER_WAVELENGTH = 675.0
RADIANCE_OFFSET = 1.98832
RADIANCE_SCALING_FACTOR = 0.00951541
REFLECTANCE_SCALING_FACTOR = 0.000220525
MEX:REFLECTANCE_OFFSET = 0.0460805
/* IMAGE OBJECT DEFINITIONS */
OBJECT = IMAGE
  INTERCHANGE_FORMAT = BINARY
  LINES = 17957
  LINE_SAMPLES = 4020
  SAMPLE_TYPE = UNSIGNED_INTEGER
  SAMPLE_BITS = 8
  BANDS = 1
  BAND_STORAGE_TYPE = BAND_SEQUENTIAL
  MAXIMUM = 255
  MEAN = 129.696
  MINIMUM = 1
  STANDARD_DEVIATION = 55.3106
END_OBJECT = IMAGE
/* MAP OBJECT DEFINITIONS */
OBJECT = IMAGE_MAP_PROJECTION
  ^DATA_SET_MAP_PROJECTION_CATALOG= "DSMAP.CAT"
  A_AXIS_RADIUS = 3396.0
  B_AXIS_RADIUS = 3396.0
  C_AXIS_RADIUS = 3396.0
  CENTER_LATITUDE = 0.0
  CENTER_LONGITUDE = 28.0
  COORDINATE_SYSTEM_NAME = PLANETOGRAPHIC
  COORDINATE_SYSTEM_TYPE = "BODY-FIXED ROTATING"
  EASTERNMOST_LONGITUDE = 28.8518
  FIRST_STANDARD_PARALLEL = "N/A"
  LINE_FIRST_PIXEL = 1
  LINE_LAST_PIXEL = 17957
  LINE_PROJECTION_OFFSET = 129086.25
  MAP_PROJECTION_ROTATION = 0.0
  MAP_PROJECTION_TYPE = SINUSOIDAL
  MAP_RESOLUTION = 2370.85521546667
  MAP_SCALE = 0.025
  MAXIMUM_LATITUDE = 54.5039
  MINIMUM_LATITUDE = 46.8652
  POSITIVE_LONGITUDE_DIRECTION = EAST
  REFERENCE_LATITUDE = "N/A"
  REFERENCE_LONGITUDE = "N/A"
  SAMPLE_FIRST_PIXEL = 1
  SAMPLE_LAST_PIXEL = 4020
  SAMPLE_PROJECTION_OFFSET = 2583.75
  SECOND_STANDARD_PARALLEL = "N/A"
  WESTERNMOST_LONGITUDE = 26.1471
END_OBJECT = IMAGE_MAP_PROJECTION
/* The JPEG2000 image data file associated with this label. */
OBJECT = COMPRESSED_FILE
  FILE_NAME = "HD791_0000_P13.JP2"
  RECORD_TYPE = UNDEFINED
  FILE_RECORDS = UNK
  ENCODING_TYPE = "JP2"
  INTERCHANGE_FORMAT = BINARY
  UNCOMPRESSED_FILE_NAME = "HD791_0000_P13.IMG"
  REQUIRED_STORAGE_BYTES = "72211260"
  ^DESCRIPTION = "JP2INFO.TXT"
END_OBJECT = COMPRESSED_FILE
END
