PDS_VERSION_ID = PDS3
/* FILE DATA ELEMENTS */
RECORD_TYPE = STREAM
/* POINTERS TO DATA OBJECTS */
^COMPRESSED_FILE = "HD795_0000_BL3.JP2"
/* IDENTIFICATION DATA ELEMENTS */
DATA_SET_ID = "MEX-M-HRSC-5-REFDR-MAPPROJECTED-V3.0"
DATA_SET_NAME = "MARS EXPRESS HRSC MAP PROJECTED REFDR V3.0"
DETECTOR_ID = MEX_HRSC_BLUE
EVENT_TYPE = "MARS-REGIONAL-MAPPING-Te-Im-Pf"
INSTRUMENT_HOST_ID = MEX
INSTRUMENT_HOST_NAME = "MARS EXPRESS"
INSTRUMENT_ID = HRSC
INSTRUMENT_NAME = "HIGH RESOLUTION STEREO CAMERA"
MISSION_NAME = "MARS EXPRESS"
MISSION_PHASE_NAME = ME_Phase_31
PROCESSING_LEVEL_ID = 3
PRODUCT_CREATION_TIME = 2016-10-29T17:34:02.000Z
PRODUCT_ID = "HD795_0000_BL3.JP2"
RELEASE_ID = 0126
REVISION_ID = 0000
/* QUALITY DATA ELEMENTS */
DATA_QUALITY_ID = 1
DATA_QUALITY_DESC = "Data calculated based on original SPICE kernels"
/* TIME DATA ELEMENTS */
SPACECRAFT_CLOCK_START_COUNT = "1/0363987697.07341"
SPACECRAFT_CLOCK_STOP_COUNT = "1/0363988034.14913"
START_TIME = 2014-11-13T19:42:32.855Z
STOP_TIME = 2014-11-13T19:46:17.301Z
/* ORBITAL DATA ELEMENTS */
ASCENDING_NODE_LONGITUDE = 314.71
MAXIMUM_RESOLUTION = 75.4
FOOTPRINT_POINT_LATITUDE = (39.1445,39.1404,39.1355,39.1299, 39.1233,39.1158,38.8939,38.4231,37.9536 ,37.5964,37.3571,36.8797,36.6369, 36.3937,36.1508,35.9083,35.6612,35.2908 ,35.0442,34.6691,34.4184,34.1679, 33.7868,33.5322,33.2782,33.0198,32.7612 ,32.5033,32.2415,31.9793,31.7175,31.319 ,31.0534,30.7854,30.5157,30.2465, 29.9735,29.5639,29.1494,28.8729,28.4529 ,28.1729,27.8887,27.6049,27.1748, 26.8877,26.5964,26.3058,26.1057,26.1059 ,26.1052,26.1039,26.1017,26.0988, 26.0967,26.391,26.683,26.9743,27.2628, 27.5511,27.8358,28.2623,28.5437,28.8254 ,29.1028,29.3808,29.7935,30.0679, 30.4755,30.7462,31.0159,31.2825,31.5495 ,31.9456,32.2087,32.4723,32.7311, 32.9903,33.3778,33.633,33.8887,34.144, 34.3953,34.6468,35.024,35.2713,35.5189, 35.767,36.0133,36.2567,36.5005,36.7447, 36.9866,37.226,37.4658,37.7059,37.945, 38.4161,39.006,39.1445)
FOOTPRINT_POINT_LONGITUDE = (338.487,338.179,337.868,337.554, 337.237,336.917,336.749,336.767,336.784 ,336.796,336.804,336.819,336.826, 336.833,336.839,336.845,336.851,336.86, 336.866,336.873,336.878,336.882,336.889 ,336.893,336.896,336.9,336.903,336.906, 336.909,336.911,336.913,336.916,336.917 ,336.919,336.92,336.92,336.921,336.921, 336.92,336.92,336.918,336.916,336.915, 336.913,336.909,336.906,336.903,336.9, 337.224,337.528,337.921,338.288,338.652 ,339.014,339.359,339.351,339.344, 339.336,339.329,339.321,339.313,339.301 ,339.294,339.286,339.278,339.27,339.257 ,339.249,339.237,339.228,339.22,339.211 ,339.202,339.189,339.181,339.172, 339.163,339.154,339.14,339.131,339.121, 339.112,339.103,339.093,339.078,339.069 ,339.059,339.049,339.039,339.029, 339.019,339.008,338.998,338.987,338.977 ,338.966,338.955,338.934,338.906, 338.487)
ORBIT_NUMBER = 13795
ORBITAL_ECCENTRICITY = 0.572
ORBITAL_INCLINATION = 86.93
ORBITAL_SEMIMAJOR_AXIS = 8781.15
PERIAPSIS_ALTITUDE = 379.98
PERIAPSIS_ARGUMENT_ANGLE = 120.34
PERIAPSIS_TIME = 2014-11-13T19:37:02.000Z
SPACECRAFT_ORIENTATION = (0.0,-1.0,0.0)
^MEX_ORIENTATION_DESC = "MEX_ORIENTATION_DESC.TXT"
SPACECRAFT_POINTING_MODE = ACROSSTRACK
^MEX_POINTING_DESC = "MEX_POINTING_DESC.TXT"
RIGHT_ASCENSION = -1e+32
DECLINATION = -1e+32
OFFSET_ANGLE = -1.0
SPACECRAFT_SOLAR_DISTANCE = 2.07502e+08
TARGET_NAME = MARS
/* CAMERA DATA ELEMENTS */
DETECTOR_TEMPERATURE = 18.5744
FOCAL_PLANE_TEMPERATURE = 9.3989
INST_CMPRS_NAME = "DISCRETE COSINE TRANSFORMATION (DCT)"
INST_CMPRS_RATIO = 6.58471
INST_CMPRS_QUALITY = 0
INST_CMPRS_QUANTZ_TBL_ID = 0
INSTRUMENT_TEMPERATURE = 11.8457
LENS_TEMPERATURE = 9.6028
MACROPIXEL_SIZE = 4
MISSING_FRAMES = 0
PIXEL_SUBSAMPLING_FLAG = N
SIGNAL_CHAIN_ID = 2
/* RADIOMETRIC DATA ELEMENTS */
BANDWIDTH = 76.0
CENTER_FILTER_WAVELENGTH = 444.0
RADIANCE_OFFSET = 0.797751
RADIANCE_SCALING_FACTOR = 0.00105379
REFLECTANCE_SCALING_FACTOR = 4.66179e-05
MEX:REFLECTANCE_OFFSET = 0.0352912
/* IMAGE OBJECT DEFINITIONS */
OBJECT = IMAGE
  INTERCHANGE_FORMAT = BINARY
  LINES = 15492
  LINE_SAMPLES = 2654
  SAMPLE_TYPE = UNSIGNED_INTEGER
  SAMPLE_BITS = 8
  BANDS = 1
  BAND_STORAGE_TYPE = BAND_SEQUENTIAL
  MAXIMUM = 255
  MEAN = 125.929
  MINIMUM = 1
  STANDARD_DEVIATION = 39.7267
END_OBJECT = IMAGE
/* MAP OBJECT DEFINITIONS */
OBJECT = IMAGE_MAP_PROJECTION
  ^DATA_SET_MAP_PROJECTION_CATALOG= "DSMAP.CAT"
  A_AXIS_RADIUS = 3396.0
  B_AXIS_RADIUS = 3396.0
  C_AXIS_RADIUS = 3396.0
  CENTER_LATITUDE = 0.0
  CENTER_LONGITUDE = 338.0
  COORDINATE_SYSTEM_NAME = PLANETOGRAPHIC
  COORDINATE_SYSTEM_TYPE = "BODY-FIXED ROTATING"
  EASTERNMOST_LONGITUDE = 339.359
  FIRST_STANDARD_PARALLEL = "N/A"
  LINE_FIRST_PIXEL = 1
  LINE_LAST_PIXEL = 15492
  LINE_PROJECTION_OFFSET = 46425.875
  MAP_PROJECTION_ROTATION = 0.0
  MAP_PROJECTION_TYPE = SINUSOIDAL
  MAP_RESOLUTION = 1185.42760773333
  MAP_SCALE = 0.05
  MAXIMUM_LATITUDE = 39.1445
  MINIMUM_LATITUDE = 26.0967
  POSITIVE_LONGITUDE_DIRECTION = EAST
  REFERENCE_LATITUDE = "N/A"
  REFERENCE_LONGITUDE = "N/A"
  SAMPLE_FIRST_PIXEL = 1
  SAMPLE_LAST_PIXEL = 2654
  SAMPLE_PROJECTION_OFFSET = 1227.875
  SECOND_STANDARD_PARALLEL = "N/A"
  WESTERNMOST_LONGITUDE = 336.749
END_OBJECT = IMAGE_MAP_PROJECTION
/* The JPEG2000 image data file associated with this label. */
OBJECT = COMPRESSED_FILE
  FILE_NAME = "HD795_0000_BL3.JP2"
  RECORD_TYPE = UNDEFINED
  FILE_RECORDS = UNK
  ENCODING_TYPE = "JP2"
  INTERCHANGE_FORMAT = BINARY
  UNCOMPRESSED_FILE_NAME = "HD795_0000_BL3.IMG"
  REQUIRED_STORAGE_BYTES = "41137000"
  ^DESCRIPTION = "JP2INFO.TXT"
END_OBJECT = COMPRESSED_FILE
END
