PDS_VERSION_ID = PDS3
/* FILE DATA ELEMENTS */
RECORD_TYPE = STREAM
/* POINTERS TO DATA OBJECTS */
^COMPRESSED_FILE = "HD797_0005_SR3.JP2"
/* IDENTIFICATION DATA ELEMENTS */
DATA_SET_ID = "MEX-M-HRSC-5-REFDR-MAPPROJECTED-V3.0"
DATA_SET_NAME = "MARS EXPRESS HRSC MAP PROJECTED REFDR V3.0"
DETECTOR_ID = MEX_HRSC_SRC
EVENT_TYPE = "MARS-LOCAL-CARTOGRAPHY-Pf-Tc-Ot"
INSTRUMENT_HOST_ID = MEX
INSTRUMENT_HOST_NAME = "MARS EXPRESS"
INSTRUMENT_ID = HRSC
INSTRUMENT_NAME = "HIGH RESOLUTION STEREO CAMERA"
MISSION_NAME = "MARS EXPRESS"
MISSION_PHASE_NAME = ME_Phase_31
PROCESSING_LEVEL_ID = 3
PRODUCT_CREATION_TIME = 2016-10-29T17:34:02.000Z
PRODUCT_ID = "HD797_0005_SR3.JP2"
RELEASE_ID = 0126
REVISION_ID = 0000
/* QUALITY DATA ELEMENTS */
DATA_QUALITY_ID = 1
DATA_QUALITY_DESC = "Data calculated based on original SPICE kernels"
/* TIME DATA ELEMENTS */
SPACECRAFT_CLOCK_START_COUNT = "1/0364037861.07309"
SPACECRAFT_CLOCK_STOP_COUNT = "1/0364038047.65110"
IMAGE_TIME = 2014-11-14T09:39:09.055Z
START_TIME = 2014-11-14T09:39:09.052Z
STOP_TIME = 2014-11-14T09:39:09.057Z
/* ORBITAL DATA ELEMENTS */
ASCENDING_NODE_LONGITUDE = 314.67
MAXIMUM_RESOLUTION = 3.756
FOOTPRINT_POINT_LATITUDE = (47.7363,47.74,47.7437,47.746,47.7482, 47.7509,47.7542,47.7564,47.7585,47.7606 ,47.7633,47.7667,47.7686,47.7709, 47.7734,47.7763,47.778,47.7805,47.7828, 47.7846,47.7873,47.7893,47.7924,47.7945 ,47.7965,47.7985,47.7997,47.7998, 47.7999,47.8,47.8001,47.8002,47.8003, 47.8004,47.8005,47.8006,47.8007,47.8008 ,47.8009,47.801,47.8011,47.8012,47.8013 ,47.8014,47.8015,47.8016,47.8017, 47.8018,47.8019,47.802,47.8021,47.8022, 47.7998,47.7967,47.7924,47.7887,47.7862 ,47.7826,47.7806,47.7782,47.7755, 47.7721,47.7677,47.765,47.7627,47.7606, 47.7588,47.7565,47.7529,47.7497,47.7476 ,47.7452,47.7434,47.7411,47.7382, 47.7381,47.738,47.7379,47.7378,47.7377, 47.7376,47.7375,47.7374,47.7373,47.7372 ,47.7371,47.737,47.7369,47.7368,47.7367 ,47.7366,47.7365,47.7364,47.7363, 47.7362,47.7361,47.736,47.7359,47.7358, 47.7363)
FOOTPRINT_POINT_LONGITUDE = (134.206,134.206,134.206,134.205, 134.205,134.205,134.205,134.205,134.205 ,134.205,134.204,134.204,134.204, 134.204,134.204,134.204,134.204,134.203 ,134.203,134.203,134.203,134.203, 134.203,134.203,134.202,134.202,134.204 ,134.208,134.212,134.216,134.219, 134.223,134.227,134.231,134.235,134.238 ,134.242,134.246,134.25,134.254,134.257 ,134.261,134.265,134.269,134.272, 134.276,134.28,134.284,134.288,134.291, 134.295,134.299,134.299,134.299,134.299 ,134.299,134.3,134.3,134.3,134.3,134.3, 134.3,134.301,134.301,134.301,134.301, 134.301,134.301,134.301,134.302,134.302 ,134.302,134.302,134.302,134.301, 134.297,134.294,134.29,134.286,134.282, 134.279,134.275,134.271,134.267,134.263 ,134.26,134.256,134.252,134.248,134.244 ,134.241,134.237,134.233,134.229, 134.226,134.222,134.218,134.214,134.21, 134.206)
ORBIT_NUMBER = 13797
ORBITAL_ECCENTRICITY = 0.572
ORBITAL_INCLINATION = 86.91
ORBITAL_SEMIMAJOR_AXIS = 8784.82
PERIAPSIS_ALTITUDE = 380.48
PERIAPSIS_ARGUMENT_ANGLE = 120.01
PERIAPSIS_TIME = 2014-11-14T09:35:59.000Z
SPACECRAFT_ORIENTATION = (0.0,-1.0,0.0)
^MEX_ORIENTATION_DESC = "MEX_ORIENTATION_DESC.TXT"
SPACECRAFT_POINTING_MODE = ACROSSTRACK
^MEX_POINTING_DESC = "MEX_POINTING_DESC.TXT"
RIGHT_ASCENSION = -1e+32
DECLINATION = -1e+32
OFFSET_ANGLE = -0.05
SPACECRAFT_SOLAR_DISTANCE = 2.07467e+08
TARGET_NAME = MARS
/* CAMERA DATA ELEMENTS */
BUFFER_MODE_ID = BUFFER_8
EXPOSURE_DURATION = 5.04
INST_CMPRS_NAME = NONE
INST_CMPRS_RATIO = 1.0
INST_CMPRS_QUALITY = -2147483648
INST_CMPRS_QUANTZ_TBL_ID = -2147483648
INSTRUMENT_TEMPERATURE = 7.57236
MISSING_FRAMES = 0
START_BIT = 0
/* RADIOMETRIC DATA ELEMENTS */
BANDWIDTH = 250.0
CENTER_FILTER_WAVELENGTH = 600.0
RADIANCE_OFFSET = -9.99e+31
RADIANCE_SCALING_FACTOR = -9.99e+31
REFLECTANCE_SCALING_FACTOR = -9.99e+31
MEX:REFLECTANCE_OFFSET = -9.99e+31
/* IMAGE OBJECT DEFINITIONS */
OBJECT = IMAGE
  INTERCHANGE_FORMAT = BINARY
  LINES = 850
  LINE_SAMPLES = 861
  SAMPLE_TYPE = UNSIGNED_INTEGER
  SAMPLE_BITS = 8
  BANDS = 1
  BAND_STORAGE_TYPE = BAND_SEQUENTIAL
  MAXIMUM = 240
  MEAN = 135.874
  MINIMUM = 22
  STANDARD_DEVIATION = 18.6885
END_OBJECT = IMAGE
/* MAP OBJECT DEFINITIONS */
OBJECT = IMAGE_MAP_PROJECTION
  ^DATA_SET_MAP_PROJECTION_CATALOG= "DSMAP.CAT"
  A_AXIS_RADIUS = 3396.19
  B_AXIS_RADIUS = 3396.19
  C_AXIS_RADIUS = 3396.19
  CENTER_LATITUDE = 0.0
  CENTER_LONGITUDE = 134.0
  COORDINATE_SYSTEM_NAME = PLANETOGRAPHIC
  COORDINATE_SYSTEM_TYPE = "BODY-FIXED ROTATING"
  EASTERNMOST_LONGITUDE = 134.302
  FIRST_STANDARD_PARALLEL = "N/A"
  LINE_FIRST_PIXEL = 1
  LINE_LAST_PIXEL = 850
  LINE_PROJECTION_OFFSET = 566055.0
  MAP_PROJECTION_ROTATION = 0.0
  MAP_PROJECTION_TYPE = SINUSOIDAL
  MAP_RESOLUTION = 11854.9393024378
  MAP_SCALE = 0.005
  MAXIMUM_LATITUDE = 47.8022
  MINIMUM_LATITUDE = 47.7358
  POSITIVE_LONGITUDE_DIRECTION = EAST
  REFERENCE_LATITUDE = "N/A"
  REFERENCE_LONGITUDE = "N/A"
  SAMPLE_FIRST_PIXEL = 1
  SAMPLE_LAST_PIXEL = 861
  SAMPLE_PROJECTION_OFFSET = -1557.0
  SECOND_STANDARD_PARALLEL = "N/A"
  WESTERNMOST_LONGITUDE = 134.202
END_OBJECT = IMAGE_MAP_PROJECTION
/* The JPEG2000 image data file associated with this label. */
OBJECT = COMPRESSED_FILE
  FILE_NAME = "HD797_0005_SR3.JP2"
  RECORD_TYPE = UNDEFINED
  FILE_RECORDS = UNK
  ENCODING_TYPE = "JP2"
  INTERCHANGE_FORMAT = BINARY
  UNCOMPRESSED_FILE_NAME = "HD797_0005_SR3.IMG"
  REQUIRED_STORAGE_BYTES = "749931"
  ^DESCRIPTION = "JP2INFO.TXT"
END_OBJECT = COMPRESSED_FILE
END
