PDS_VERSION_ID = PDS3
/* FILE DATA ELEMENTS */
RECORD_TYPE = STREAM
/* POINTERS TO DATA OBJECTS */
^COMPRESSED_FILE = "HD797_0007_SR3.JP2"
/* IDENTIFICATION DATA ELEMENTS */
DATA_SET_ID = "MEX-M-HRSC-5-REFDR-MAPPROJECTED-V3.0"
DATA_SET_NAME = "MARS EXPRESS HRSC MAP PROJECTED REFDR V3.0"
DETECTOR_ID = MEX_HRSC_SRC
EVENT_TYPE = "MARS-LOCAL-CARTOGRAPHY-Pf-Tc-Ot"
INSTRUMENT_HOST_ID = MEX
INSTRUMENT_HOST_NAME = "MARS EXPRESS"
INSTRUMENT_ID = HRSC
INSTRUMENT_NAME = "HIGH RESOLUTION STEREO CAMERA"
MISSION_NAME = "MARS EXPRESS"
MISSION_PHASE_NAME = ME_Phase_31
PROCESSING_LEVEL_ID = 3
PRODUCT_CREATION_TIME = 2016-10-29T17:34:02.000Z
PRODUCT_ID = "HD797_0007_SR3.JP2"
RELEASE_ID = 0126
REVISION_ID = 0000
/* QUALITY DATA ELEMENTS */
DATA_QUALITY_ID = 1
DATA_QUALITY_DESC = "Data calculated based on original SPICE kernels"
/* TIME DATA ELEMENTS */
SPACECRAFT_CLOCK_START_COUNT = "1/0364037861.07309"
SPACECRAFT_CLOCK_STOP_COUNT = "1/0364038047.65110"
IMAGE_TIME = 2014-11-14T09:39:10.145Z
START_TIME = 2014-11-14T09:39:10.142Z
STOP_TIME = 2014-11-14T09:39:10.147Z
/* ORBITAL DATA ELEMENTS */
ASCENDING_NODE_LONGITUDE = 314.67
MAXIMUM_RESOLUTION = 3.759
FOOTPRINT_POINT_LATITUDE = (47.6688,47.6722,47.6747,47.6775, 47.6796,47.6827,47.6862,47.6888,47.6907 ,47.6932,47.6961,47.6982,47.7011, 47.7032,47.7059,47.7076,47.7104,47.713, 47.7152,47.7179,47.7211,47.7235,47.7253 ,47.7274,47.7309,47.731,47.7311,47.7312 ,47.7313,47.7314,47.7315,47.7316, 47.7317,47.7318,47.7319,47.732,47.7321, 47.7322,47.7323,47.7324,47.7325,47.7326 ,47.7327,47.7328,47.7329,47.7329,47.733 ,47.7331,47.7332,47.7333,47.7322, 47.7304,47.7284,47.7254,47.7227,47.7206 ,47.7185,47.7157,47.7123,47.7095, 47.7057,47.7022,47.6988,47.6962,47.6944 ,47.6921,47.689,47.6872,47.6853,47.6821 ,47.6795,47.6772,47.6739,47.6711, 47.6693,47.6693,47.6691,47.669,47.6689, 47.6688,47.6687,47.6686,47.6685,47.6684 ,47.6683,47.6682,47.6681,47.668,47.6679 ,47.6678,47.6677,47.6676,47.6675, 47.6674,47.6673,47.6672,47.6671,47.667, 47.6669,47.6688)
FOOTPRINT_POINT_LONGITUDE = (134.21,134.21,134.21,134.209,134.209, 134.209,134.209,134.209,134.209,134.208 ,134.208,134.208,134.208,134.208, 134.208,134.208,134.207,134.207,134.207 ,134.207,134.207,134.207,134.207, 134.206,134.206,134.21,134.214,134.218, 134.222,134.225,134.229,134.233,134.237 ,134.24,134.244,134.248,134.252,134.256 ,134.259,134.263,134.267,134.271, 134.275,134.278,134.282,134.286,134.29, 134.293,134.297,134.3,134.303,134.303, 134.303,134.303,134.303,134.303,134.303 ,134.304,134.304,134.304,134.304, 134.304,134.304,134.305,134.305,134.305 ,134.305,134.305,134.305,134.305, 134.306,134.306,134.306,134.306,134.306 ,134.302,134.297,134.293,134.289, 134.285,134.281,134.278,134.274,134.27, 134.266,134.263,134.259,134.255,134.251 ,134.247,134.244,134.24,134.236,134.232 ,134.229,134.225,134.221,134.217, 134.213,134.21)
ORBIT_NUMBER = 13797
ORBITAL_ECCENTRICITY = 0.572
ORBITAL_INCLINATION = 86.91
ORBITAL_SEMIMAJOR_AXIS = 8784.82
PERIAPSIS_ALTITUDE = 380.48
PERIAPSIS_ARGUMENT_ANGLE = 120.01
PERIAPSIS_TIME = 2014-11-14T09:35:59.000Z
SPACECRAFT_ORIENTATION = (0.0,-1.0,0.0)
^MEX_ORIENTATION_DESC = "MEX_ORIENTATION_DESC.TXT"
SPACECRAFT_POINTING_MODE = ACROSSTRACK
^MEX_POINTING_DESC = "MEX_POINTING_DESC.TXT"
RIGHT_ASCENSION = -1e+32
DECLINATION = -1e+32
OFFSET_ANGLE = -0.05
SPACECRAFT_SOLAR_DISTANCE = 2.07467e+08
TARGET_NAME = MARS
/* CAMERA DATA ELEMENTS */
BUFFER_MODE_ID = BUFFER_8
EXPOSURE_DURATION = 5.04
INST_CMPRS_NAME = NONE
INST_CMPRS_RATIO = 1.0
INST_CMPRS_QUALITY = -2147483648
INST_CMPRS_QUANTZ_TBL_ID = -2147483648
INSTRUMENT_TEMPERATURE = 7.62396
MISSING_FRAMES = 0
START_BIT = 0
/* RADIOMETRIC DATA ELEMENTS */
BANDWIDTH = 250.0
CENTER_FILTER_WAVELENGTH = 600.0
RADIANCE_OFFSET = -9.99e+31
RADIANCE_SCALING_FACTOR = -9.99e+31
REFLECTANCE_SCALING_FACTOR = -9.99e+31
MEX:REFLECTANCE_OFFSET = -9.99e+31
/* IMAGE OBJECT DEFINITIONS */
OBJECT = IMAGE
  INTERCHANGE_FORMAT = BINARY
  LINES = 851
  LINE_SAMPLES = 861
  SAMPLE_TYPE = UNSIGNED_INTEGER
  SAMPLE_BITS = 8
  BANDS = 1
  BAND_STORAGE_TYPE = BAND_SEQUENTIAL
  MAXIMUM = 239
  MEAN = 136.396
  MINIMUM = 29
  STANDARD_DEVIATION = 18.5854
END_OBJECT = IMAGE
/* MAP OBJECT DEFINITIONS */
OBJECT = IMAGE_MAP_PROJECTION
  ^DATA_SET_MAP_PROJECTION_CATALOG= "DSMAP.CAT"
  A_AXIS_RADIUS = 3396.19
  B_AXIS_RADIUS = 3396.19
  C_AXIS_RADIUS = 3396.19
  CENTER_LATITUDE = 0.0
  CENTER_LONGITUDE = 134.0
  COORDINATE_SYSTEM_NAME = PLANETOGRAPHIC
  COORDINATE_SYSTEM_TYPE = "BODY-FIXED ROTATING"
  EASTERNMOST_LONGITUDE = 134.306
  FIRST_STANDARD_PARALLEL = "N/A"
  LINE_FIRST_PIXEL = 1
  LINE_LAST_PIXEL = 851
  LINE_PROJECTION_OFFSET = 565242.0
  MAP_PROJECTION_ROTATION = 0.0
  MAP_PROJECTION_TYPE = SINUSOIDAL
  MAP_RESOLUTION = 11854.9393024378
  MAP_SCALE = 0.005
  MAXIMUM_LATITUDE = 47.7333
  MINIMUM_LATITUDE = 47.6669
  POSITIVE_LONGITUDE_DIRECTION = EAST
  REFERENCE_LATITUDE = "N/A"
  REFERENCE_LONGITUDE = "N/A"
  SAMPLE_FIRST_PIXEL = 1
  SAMPLE_LAST_PIXEL = 861
  SAMPLE_PROJECTION_OFFSET = -1591.0
  SECOND_STANDARD_PARALLEL = "N/A"
  WESTERNMOST_LONGITUDE = 134.206
END_OBJECT = IMAGE_MAP_PROJECTION
/* The JPEG2000 image data file associated with this label. */
OBJECT = COMPRESSED_FILE
  FILE_NAME = "HD797_0007_SR3.JP2"
  RECORD_TYPE = UNDEFINED
  FILE_RECORDS = UNK
  ENCODING_TYPE = "JP2"
  INTERCHANGE_FORMAT = BINARY
  UNCOMPRESSED_FILE_NAME = "HD797_0007_SR3.IMG"
  REQUIRED_STORAGE_BYTES = "750792"
  ^DESCRIPTION = "JP2INFO.TXT"
END_OBJECT = COMPRESSED_FILE
END
