PDS_VERSION_ID = PDS3
/* FILE DATA ELEMENTS */
RECORD_TYPE = STREAM
/* POINTERS TO DATA OBJECTS */
^COMPRESSED_FILE = "HD804_0000_S13.JP2"
/* IDENTIFICATION DATA ELEMENTS */
DATA_SET_ID = "MEX-M-HRSC-5-REFDR-MAPPROJECTED-V3.0"
DATA_SET_NAME = "MARS EXPRESS HRSC MAP PROJECTED REFDR V3.0"
DETECTOR_ID = MEX_HRSC_S1
EVENT_TYPE = "MARS-REGIONAL-MAPPING-Te-Im-Pf"
INSTRUMENT_HOST_ID = MEX
INSTRUMENT_HOST_NAME = "MARS EXPRESS"
INSTRUMENT_ID = HRSC
INSTRUMENT_NAME = "HIGH RESOLUTION STEREO CAMERA"
MISSION_NAME = "MARS EXPRESS"
MISSION_PHASE_NAME = ME_Phase_31
PROCESSING_LEVEL_ID = 3
PRODUCT_CREATION_TIME = 2016-10-29T17:34:02.000Z
PRODUCT_ID = "HD804_0000_S13.JP2"
RELEASE_ID = 0126
REVISION_ID = 0000
/* QUALITY DATA ELEMENTS */
DATA_QUALITY_ID = 1
DATA_QUALITY_DESC = "Data calculated based on original SPICE kernels"
/* TIME DATA ELEMENTS */
SPACECRAFT_CLOCK_START_COUNT = "1/0364214190.09049"
SPACECRAFT_CLOCK_STOP_COUNT = "1/0364214389.64146"
START_TIME = 2014-11-16T10:36:36.064Z
STOP_TIME = 2014-11-16T10:38:12.169Z
/* ORBITAL DATA ELEMENTS */
ASCENDING_NODE_LONGITUDE = 314.54
MAXIMUM_RESOLUTION = 37.3
FOOTPRINT_POINT_LATITUDE = (41.9296,41.9269,41.9222,41.9191, 41.9144,41.9071,41.8986,41.8933,41.692, 41.5167,41.1661,40.8738,40.6945,40.5751 ,40.3957,40.276,40.1564,39.977,39.8573, 39.6781,39.5586,39.4377,39.3152,39.1929 ,39.071,38.8878,38.7655,38.6435,38.4599 ,38.3375,38.1526,38.0275,37.9023, 37.7148,37.5898,37.4654,37.3404,37.2155 ,37.0906,36.9642,36.8365,36.7091, 36.5815,36.3903,36.199,36.0714,35.9441, 35.8143,35.6843,35.6307,35.6341,35.6387 ,35.6413,35.6456,35.6488,35.6505, 35.6525,35.6535,35.7198,35.8504,35.9801 ,36.1078,36.2988,36.4267,36.5542, 36.6824,36.8747,37.0026,37.1294,37.3168 ,37.4421,37.5671,37.6924,37.8177, 38.0056,38.131,38.2562,38.379,38.5014, 38.6848,38.8074,38.9301,39.0529,39.2368 ,39.4208,39.5435,39.6629,39.7834, 39.9037,40.143,40.2625,40.4419,40.562, 40.6819,40.9213,41.1556,41.3314,41.5659 ,41.8001,41.9296)
FOOTPRINT_POINT_LONGITUDE = (139.736,139.503,139.192,139.017, 138.784,138.474,138.164,137.989,137.861 ,137.867,137.877,137.885,137.89,137.894 ,137.898,137.902,137.905,137.909, 137.912,137.916,137.919,137.922,137.924 ,137.927,137.929,137.933,137.936, 137.938,137.941,137.943,137.947,137.949 ,137.951,137.954,137.956,137.957, 137.959,137.961,137.962,137.964,137.966 ,137.967,137.969,137.971,137.973, 137.974,137.975,137.976,137.977,138.14, 138.324,138.507,138.67,138.935,139.18, 139.343,139.628,139.812,140.083,140.08, 140.077,140.075,140.071,140.068,140.065 ,140.062,140.058,140.055,140.052, 140.048,140.045,140.042,140.039,140.036 ,140.032,140.028,140.025,140.022, 140.019,140.015,140.012,140.008,140.005 ,140.0,139.996,139.992,139.989,139.986, 139.982,139.976,139.973,139.968,139.964 ,139.961,139.954,139.947,139.941, 139.934,139.927,139.736)
ORBIT_NUMBER = 13804
ORBITAL_ECCENTRICITY = 0.572
ORBITAL_INCLINATION = 86.91
ORBITAL_SEMIMAJOR_AXIS = 8782.6
PERIAPSIS_ALTITUDE = 381.19
PERIAPSIS_ARGUMENT_ANGLE = 118.8
PERIAPSIS_TIME = 2014-11-16T10:32:13.000Z
SPACECRAFT_ORIENTATION = (0.0,-1.0,0.0)
^MEX_ORIENTATION_DESC = "MEX_ORIENTATION_DESC.TXT"
SPACECRAFT_POINTING_MODE = NADIR
^MEX_POINTING_DESC = "MEX_POINTING_DESC.TXT"
RIGHT_ASCENSION = -1e+32
DECLINATION = -1e+32
OFFSET_ANGLE = -1e+32
SPACECRAFT_SOLAR_DISTANCE = 2.07349e+08
TARGET_NAME = MARS
/* CAMERA DATA ELEMENTS */
DETECTOR_TEMPERATURE = 18.5744
FOCAL_PLANE_TEMPERATURE = 9.6028
INST_CMPRS_NAME = "DISCRETE COSINE TRANSFORMATION (DCT)"
INST_CMPRS_RATIO = 9.59755
INST_CMPRS_QUALITY = 0
INST_CMPRS_QUANTZ_TBL_ID = 0
INSTRUMENT_TEMPERATURE = 12.2535
LENS_TEMPERATURE = 10.2145
MACROPIXEL_SIZE = 2
MISSING_FRAMES = 0
PIXEL_SUBSAMPLING_FLAG = N
SIGNAL_CHAIN_ID = 1
/* RADIOMETRIC DATA ELEMENTS */
BANDWIDTH = 180.0
CENTER_FILTER_WAVELENGTH = 677.0
RADIANCE_OFFSET = 5.64879
RADIANCE_SCALING_FACTOR = 0.0112034
REFLECTANCE_SCALING_FACTOR = 0.000251301
MEX:REFLECTANCE_OFFSET = 0.126707
/* IMAGE OBJECT DEFINITIONS */
OBJECT = IMAGE
  INTERCHANGE_FORMAT = BINARY
  LINES = 14745
  LINE_SAMPLES = 4363
  SAMPLE_TYPE = UNSIGNED_INTEGER
  SAMPLE_BITS = 8
  BANDS = 1
  BAND_STORAGE_TYPE = BAND_SEQUENTIAL
  MAXIMUM = 255
  MEAN = 120.201
  MINIMUM = 1
  STANDARD_DEVIATION = 45.8012
END_OBJECT = IMAGE
/* MAP OBJECT DEFINITIONS */
OBJECT = IMAGE_MAP_PROJECTION
  ^DATA_SET_MAP_PROJECTION_CATALOG= "DSMAP.CAT"
  A_AXIS_RADIUS = 3396.0
  B_AXIS_RADIUS = 3396.0
  C_AXIS_RADIUS = 3396.0
  CENTER_LATITUDE = 0.0
  CENTER_LONGITUDE = 139.0
  COORDINATE_SYSTEM_NAME = PLANETOGRAPHIC
  COORDINATE_SYSTEM_TYPE = "BODY-FIXED ROTATING"
  EASTERNMOST_LONGITUDE = 140.083
  FIRST_STANDARD_PARALLEL = "N/A"
  LINE_FIRST_PIXEL = 1
  LINE_LAST_PIXEL = 14745
  LINE_PROJECTION_OFFSET = 99241.25
  MAP_PROJECTION_ROTATION = 0.0
  MAP_PROJECTION_TYPE = SINUSOIDAL
  MAP_RESOLUTION = 2370.85521546667
  MAP_SCALE = 0.025
  MAXIMUM_LATITUDE = 41.9296
  MINIMUM_LATITUDE = 35.6307
  POSITIVE_LONGITUDE_DIRECTION = EAST
  REFERENCE_LATITUDE = "N/A"
  REFERENCE_LONGITUDE = "N/A"
  SAMPLE_FIRST_PIXEL = 1
  SAMPLE_LAST_PIXEL = 4363
  SAMPLE_PROJECTION_OFFSET = 2148.25
  SECOND_STANDARD_PARALLEL = "N/A"
  WESTERNMOST_LONGITUDE = 137.861
END_OBJECT = IMAGE_MAP_PROJECTION
/* The JPEG2000 image data file associated with this label. */
OBJECT = COMPRESSED_FILE
  FILE_NAME = "HD804_0000_S13.JP2"
  RECORD_TYPE = UNDEFINED
  FILE_RECORDS = UNK
  ENCODING_TYPE = "JP2"
  INTERCHANGE_FORMAT = BINARY
  UNCOMPRESSED_FILE_NAME = "HD804_0000_S13.IMG"
  REQUIRED_STORAGE_BYTES = "64358613"
  ^DESCRIPTION = "JP2INFO.TXT"
END_OBJECT = COMPRESSED_FILE
END
