PDS_VERSION_ID = PDS3
/* FILE DATA ELEMENTS */
RECORD_TYPE = STREAM
/* POINTERS TO DATA OBJECTS */
^COMPRESSED_FILE = "HD809_0000_BL3.JP2"
/* IDENTIFICATION DATA ELEMENTS */
DATA_SET_ID = "MEX-M-HRSC-5-REFDR-MAPPROJECTED-V3.0"
DATA_SET_NAME = "MARS EXPRESS HRSC MAP PROJECTED REFDR V3.0"
DETECTOR_ID = MEX_HRSC_BLUE
EVENT_TYPE = "MARS-REGIONAL-MAPPING-Im-Fl"
INSTRUMENT_HOST_ID = MEX
INSTRUMENT_HOST_NAME = "MARS EXPRESS"
INSTRUMENT_ID = HRSC
INSTRUMENT_NAME = "HIGH RESOLUTION STEREO CAMERA"
MISSION_NAME = "MARS EXPRESS"
MISSION_PHASE_NAME = ME_Phase_31
PROCESSING_LEVEL_ID = 3
PRODUCT_CREATION_TIME = 2016-10-29T17:34:02.000Z
PRODUCT_ID = "HD809_0000_BL3.JP2"
RELEASE_ID = 0126
REVISION_ID = 0000
/* QUALITY DATA ELEMENTS */
DATA_QUALITY_ID = 1
DATA_QUALITY_DESC = "Data calculated based on original SPICE kernels"
/* TIME DATA ELEMENTS */
SPACECRAFT_CLOCK_START_COUNT = "1/0364340245.07310"
SPACECRAFT_CLOCK_STOP_COUNT = "1/0364340514.01702"
START_TIME = 2014-11-17T21:38:39.650Z
STOP_TIME = 2014-11-17T21:40:40.227Z
/* ORBITAL DATA ELEMENTS */
ASCENDING_NODE_LONGITUDE = 314.45
MAXIMUM_RESOLUTION = 99.8
FOOTPRINT_POINT_LATITUDE = (28.7615,28.763,28.7643,28.7655,28.7664 ,28.767,28.7674,28.7677,28.7677,28.7675 ,28.767,28.7657,28.7729,28.5309,28.2872 ,28.0438,27.7354,27.4892,27.1775, 26.9286,26.6764,26.4244,26.1698,25.979, 25.7241,25.5939,25.4651,25.3366,25.1416 ,25.0113,24.8162,24.6849,24.5532, 24.4219,24.2906,24.0912,23.9584,23.8257 ,23.6248,23.4906,23.3571,23.2227, 23.0872,22.9519,22.8164,22.6786,22.5419 ,22.4053,22.2691,22.268,22.2671,22.2657 ,22.2619,22.2595,22.2571,22.2546, 22.2518,22.2491,22.2463,22.2425,22.2398 ,22.2379,22.3764,22.5136,22.651,22.7886 ,22.9248,23.0607,23.197,23.3327,23.4672 ,23.6015,23.7363,23.871,24.0053,24.1391 ,24.2725,24.4043,24.6014,24.7326, 24.8638,24.9947,25.1255,25.3211,25.4502 ,25.5797,25.7094,25.8385,25.9666, 26.0949,26.3506,26.6036,26.9201,27.1703 ,27.4831,27.7921,28.0397,28.4063, 28.6509,28.7615)
FOOTPRINT_POINT_LONGITUDE = (348.718,348.537,348.355,348.151, 347.969,347.787,347.605,347.423,347.241 ,347.059,346.876,346.555,346.344,346.34 ,346.336,346.332,346.326,346.321, 346.315,346.31,346.304,346.298,346.293, 346.288,346.279,346.279,346.275,346.272 ,346.267,346.263,346.258,346.254, 346.251,346.247,346.243,346.237,346.233 ,346.229,346.223,346.218,346.213, 346.208,346.203,346.198,346.194,346.191 ,346.186,346.181,346.176,346.407, 346.562,346.846,347.182,347.414,347.619 ,347.799,348.005,348.184,348.364, 348.594,348.748,348.936,348.934,348.932 ,348.93,348.927,348.926,348.923,348.921 ,348.919,348.917,348.914,348.911, 348.911,348.91,348.908,348.906,348.904, 348.899,348.895,348.893,348.891,348.889 ,348.886,348.883,348.881,348.879, 348.877,348.875,348.873,348.868,348.864 ,348.858,348.853,348.847,348.841, 348.836,348.829,348.824,348.718)
ORBIT_NUMBER = 13809
ORBITAL_ECCENTRICITY = 0.571
ORBITAL_INCLINATION = 86.92
ORBITAL_SEMIMAJOR_AXIS = 8778.58
PERIAPSIS_ALTITUDE = 381.19
PERIAPSIS_ARGUMENT_ANGLE = 117.91
PERIAPSIS_TIME = 2014-11-17T21:29:29.000Z
SPACECRAFT_ORIENTATION = (0.0,-1.0,0.0)
^MEX_ORIENTATION_DESC = "MEX_ORIENTATION_DESC.TXT"
SPACECRAFT_POINTING_MODE = ACROSSTRACK
^MEX_POINTING_DESC = "MEX_POINTING_DESC.TXT"
RIGHT_ASCENSION = -1e+32
DECLINATION = -1e+32
OFFSET_ANGLE = -0.25
SPACECRAFT_SOLAR_DISTANCE = 2.07271e+08
TARGET_NAME = MARS
/* CAMERA DATA ELEMENTS */
DETECTOR_TEMPERATURE = 18.7783
FOCAL_PLANE_TEMPERATURE = 8.7872
INST_CMPRS_NAME = "DISCRETE COSINE TRANSFORMATION (DCT)"
INST_CMPRS_RATIO = 15.9763
INST_CMPRS_QUALITY = 0
INST_CMPRS_QUANTZ_TBL_ID = 0
INSTRUMENT_TEMPERATURE = 11.8457
LENS_TEMPERATURE = 9.195
MACROPIXEL_SIZE = 4
MISSING_FRAMES = 0
PIXEL_SUBSAMPLING_FLAG = N
SIGNAL_CHAIN_ID = 2
/* RADIOMETRIC DATA ELEMENTS */
BANDWIDTH = 76.0
CENTER_FILTER_WAVELENGTH = 444.0
RADIANCE_OFFSET = 0.777589
RADIANCE_SCALING_FACTOR = 0.00118874
REFLECTANCE_SCALING_FACTOR = 5.24708e-05
MEX:REFLECTANCE_OFFSET = 0.0343228
/* IMAGE OBJECT DEFINITIONS */
OBJECT = IMAGE
  INTERCHANGE_FORMAT = BINARY
  LINES = 3876
  LINE_SAMPLES = 1527
  SAMPLE_TYPE = UNSIGNED_INTEGER
  SAMPLE_BITS = 8
  BANDS = 1
  BAND_STORAGE_TYPE = BAND_SEQUENTIAL
  MAXIMUM = 255
  MEAN = 99.1314
  MINIMUM = 1
  STANDARD_DEVIATION = 24.8274
END_OBJECT = IMAGE
/* MAP OBJECT DEFINITIONS */
OBJECT = IMAGE_MAP_PROJECTION
  ^DATA_SET_MAP_PROJECTION_CATALOG= "DSMAP.CAT"
  A_AXIS_RADIUS = 3396.0
  B_AXIS_RADIUS = 3396.0
  C_AXIS_RADIUS = 3396.0
  CENTER_LATITUDE = 0.0
  CENTER_LONGITUDE = 348.0
  COORDINATE_SYSTEM_NAME = PLANETOGRAPHIC
  COORDINATE_SYSTEM_TYPE = "BODY-FIXED ROTATING"
  EASTERNMOST_LONGITUDE = 348.936
  FIRST_STANDARD_PARALLEL = "N/A"
  LINE_FIRST_PIXEL = 1
  LINE_LAST_PIXEL = 3876
  LINE_PROJECTION_OFFSET = 17058.625
  MAP_PROJECTION_ROTATION = 0.0
  MAP_PROJECTION_TYPE = SINUSOIDAL
  MAP_RESOLUTION = 592.713803866667
  MAP_SCALE = 0.1
  MAXIMUM_LATITUDE = 28.7729
  MINIMUM_LATITUDE = 22.2379
  POSITIVE_LONGITUDE_DIRECTION = EAST
  REFERENCE_LATITUDE = "N/A"
  REFERENCE_LONGITUDE = "N/A"
  SAMPLE_FIRST_PIXEL = 1
  SAMPLE_LAST_PIXEL = 1527
  SAMPLE_PROJECTION_OFFSET = 1014.125
  SECOND_STANDARD_PARALLEL = "N/A"
  WESTERNMOST_LONGITUDE = 346.176
END_OBJECT = IMAGE_MAP_PROJECTION
/* The JPEG2000 image data file associated with this label. */
OBJECT = COMPRESSED_FILE
  FILE_NAME = "HD809_0000_BL3.JP2"
  RECORD_TYPE = UNDEFINED
  FILE_RECORDS = UNK
  ENCODING_TYPE = "JP2"
  INTERCHANGE_FORMAT = BINARY
  UNCOMPRESSED_FILE_NAME = "HD809_0000_BL3.IMG"
  REQUIRED_STORAGE_BYTES = "5938503"
  ^DESCRIPTION = "JP2INFO.TXT"
END_OBJECT = COMPRESSED_FILE
END
