PDS_VERSION_ID = PDS3
/* FILE DATA ELEMENTS */
RECORD_TYPE = STREAM
/* POINTERS TO DATA OBJECTS */
^COMPRESSED_FILE = "HD809_0000_ND3.JP2"
/* IDENTIFICATION DATA ELEMENTS */
DATA_SET_ID = "MEX-M-HRSC-5-REFDR-MAPPROJECTED-V3.0"
DATA_SET_NAME = "MARS EXPRESS HRSC MAP PROJECTED REFDR V3.0"
DETECTOR_ID = MEX_HRSC_NADIR
EVENT_TYPE = "MARS-REGIONAL-MAPPING-Im-Fl"
INSTRUMENT_HOST_ID = MEX
INSTRUMENT_HOST_NAME = "MARS EXPRESS"
INSTRUMENT_ID = HRSC
INSTRUMENT_NAME = "HIGH RESOLUTION STEREO CAMERA"
MISSION_NAME = "MARS EXPRESS"
MISSION_PHASE_NAME = ME_Phase_31
PROCESSING_LEVEL_ID = 3
PRODUCT_CREATION_TIME = 2016-10-29T17:34:02.000Z
PRODUCT_ID = "HD809_0000_ND3.JP2"
RELEASE_ID = 0126
REVISION_ID = 0000
/* QUALITY DATA ELEMENTS */
DATA_QUALITY_ID = 1
DATA_QUALITY_DESC = "Data calculated based on original SPICE kernels"
/* TIME DATA ELEMENTS */
SPACECRAFT_CLOCK_START_COUNT = "1/0364340245.07310"
SPACECRAFT_CLOCK_STOP_COUNT = "1/0364340514.01702"
START_TIME = 2014-11-17T21:38:28.681Z
STOP_TIME = 2014-11-17T21:40:26.645Z
/* ORBITAL DATA ELEMENTS */
ASCENDING_NODE_LONGITUDE = 314.45
MAXIMUM_RESOLUTION = 24.6
FOOTPRINT_POINT_LATITUDE = (28.7786,28.78,28.7808,28.7813,28.7815, 28.7815,28.781,28.7803,28.7794,28.7782, 28.7763,28.7753,28.5315,28.2856,28.0401 ,27.7915,27.4186,27.1037,26.8522, 26.5338,26.2794,26.1506,26.0217,25.7643 ,25.5692,25.4389,25.3087,25.1786,25.047 ,24.9151,24.7835,24.652,24.519,24.3858, 24.2527,24.1198,23.9852,23.8506,23.7161 ,23.5136,23.3776,23.2418,23.106,22.9001 ,22.7627,22.6255,22.4175,22.2788, 22.2682,22.2679,22.2673,22.2658,22.2646 ,22.263,22.2611,22.2592,22.2574,22.2544 ,22.2519,22.2484,22.2441,22.4532, 22.5926,22.7304,22.9374,23.0753,23.2117 ,23.3482,23.4849,23.6208,23.7558,23.891 ,24.0264,24.2276,24.3612,24.495,24.6285 ,24.7606,24.8928,25.0251,25.1575, 25.2881,25.4189,25.5498,25.7457,25.8749 ,26.0042,26.1337,26.2631,26.5185, 26.8383,27.0908,27.3437,27.5317,27.7813 ,28.031,28.2775,28.5243,28.7691, 28.7786)
FOOTPRINT_POINT_LONGITUDE = (348.623,348.362,348.172,347.982, 347.791,347.601,347.338,347.148,346.956 ,346.765,346.525,346.347,346.344,346.34 ,346.335,346.331,346.324,346.318, 346.312,346.306,346.3,346.297,346.294, 346.286,346.283,346.28,346.277,346.273, 346.27,346.267,346.263,346.259,346.256, 346.252,346.248,346.244,346.24,346.236, 346.232,346.226,346.222,346.216,346.211 ,346.204,346.201,346.197,346.19,346.185 ,346.346,346.508,346.697,346.993, 347.182,347.397,347.611,347.799,347.96, 348.201,348.388,348.629,348.909,348.906 ,348.904,348.902,348.899,348.897, 348.895,348.893,348.891,348.888,348.885 ,348.886,348.884,348.882,348.88,348.877 ,348.873,348.871,348.869,348.867, 348.865,348.863,348.861,348.859,348.856 ,348.854,348.852,348.85,348.847,348.843 ,348.838,348.833,348.829,348.826, 348.821,348.816,348.811,348.807,348.802 ,348.623)
ORBIT_NUMBER = 13809
ORBITAL_ECCENTRICITY = 0.571
ORBITAL_INCLINATION = 86.92
ORBITAL_SEMIMAJOR_AXIS = 8778.58
PERIAPSIS_ALTITUDE = 381.19
PERIAPSIS_ARGUMENT_ANGLE = 117.91
PERIAPSIS_TIME = 2014-11-17T21:29:29.000Z
SPACECRAFT_ORIENTATION = (0.0,-1.0,0.0)
^MEX_ORIENTATION_DESC = "MEX_ORIENTATION_DESC.TXT"
SPACECRAFT_POINTING_MODE = ACROSSTRACK
^MEX_POINTING_DESC = "MEX_POINTING_DESC.TXT"
RIGHT_ASCENSION = -1e+32
DECLINATION = -1e+32
OFFSET_ANGLE = -0.25
SPACECRAFT_SOLAR_DISTANCE = 2.07271e+08
TARGET_NAME = MARS
/* CAMERA DATA ELEMENTS */
DETECTOR_TEMPERATURE = 18.7783
FOCAL_PLANE_TEMPERATURE = 8.7872
INST_CMPRS_NAME = "DISCRETE COSINE TRANSFORMATION (DCT)"
INST_CMPRS_RATIO = 7.31148
INST_CMPRS_QUALITY = 0
INST_CMPRS_QUANTZ_TBL_ID = 0
INSTRUMENT_TEMPERATURE = 11.8457
LENS_TEMPERATURE = 9.195
MACROPIXEL_SIZE = 1
MISSING_FRAMES = 0
PIXEL_SUBSAMPLING_FLAG = N
SIGNAL_CHAIN_ID = 0
/* RADIOMETRIC DATA ELEMENTS */
BANDWIDTH = 177.0
CENTER_FILTER_WAVELENGTH = 677.5
RADIANCE_OFFSET = 5.07624
RADIANCE_SCALING_FACTOR = 0.0171745
REFLECTANCE_SCALING_FACTOR = 0.000391962
MEX:REFLECTANCE_OFFSET = 0.115852
/* IMAGE OBJECT DEFINITIONS */
OBJECT = IMAGE
  INTERCHANGE_FORMAT = BINARY
  LINES = 15501
  LINE_SAMPLES = 6107
  SAMPLE_TYPE = UNSIGNED_INTEGER
  SAMPLE_BITS = 8
  BANDS = 1
  BAND_STORAGE_TYPE = BAND_SEQUENTIAL
  MAXIMUM = 255
  MEAN = 112.94
  MINIMUM = 1
  STANDARD_DEVIATION = 24.4928
END_OBJECT = IMAGE
/* MAP OBJECT DEFINITIONS */
OBJECT = IMAGE_MAP_PROJECTION
  ^DATA_SET_MAP_PROJECTION_CATALOG= "DSMAP.CAT"
  A_AXIS_RADIUS = 3396.0
  B_AXIS_RADIUS = 3396.0
  C_AXIS_RADIUS = 3396.0
  CENTER_LATITUDE = 0.0
  CENTER_LONGITUDE = 348.0
  COORDINATE_SYSTEM_NAME = PLANETOGRAPHIC
  COORDINATE_SYSTEM_TYPE = "BODY-FIXED ROTATING"
  EASTERNMOST_LONGITUDE = 348.909
  FIRST_STANDARD_PARALLEL = "N/A"
  LINE_FIRST_PIXEL = 1
  LINE_LAST_PIXEL = 15501
  LINE_PROJECTION_OFFSET = 68236.0
  MAP_PROJECTION_ROTATION = 0.0
  MAP_PROJECTION_TYPE = SINUSOIDAL
  MAP_RESOLUTION = 2370.85521546667
  MAP_SCALE = 0.025
  MAXIMUM_LATITUDE = 28.7815
  MINIMUM_LATITUDE = 22.2441
  POSITIVE_LONGITUDE_DIRECTION = EAST
  REFERENCE_LATITUDE = "N/A"
  REFERENCE_LONGITUDE = "N/A"
  SAMPLE_FIRST_PIXEL = 1
  SAMPLE_LAST_PIXEL = 6107
  SAMPLE_PROJECTION_OFFSET = 4058.0
  SECOND_STANDARD_PARALLEL = "N/A"
  WESTERNMOST_LONGITUDE = 346.185
END_OBJECT = IMAGE_MAP_PROJECTION
/* The JPEG2000 image data file associated with this label. */
OBJECT = COMPRESSED_FILE
  FILE_NAME = "HD809_0000_ND3.JP2"
  RECORD_TYPE = UNDEFINED
  FILE_RECORDS = UNK
  ENCODING_TYPE = "JP2"
  INTERCHANGE_FORMAT = BINARY
  UNCOMPRESSED_FILE_NAME = "HD809_0000_ND3.IMG"
  REQUIRED_STORAGE_BYTES = "94695142"
  ^DESCRIPTION = "JP2INFO.TXT"
END_OBJECT = COMPRESSED_FILE
END
