PDS_VERSION_ID = PDS3
/* FILE DATA ELEMENTS */
RECORD_TYPE = STREAM
/* POINTERS TO DATA OBJECTS */
^COMPRESSED_FILE = "HD809_0000_RE3.JP2"
/* IDENTIFICATION DATA ELEMENTS */
DATA_SET_ID = "MEX-M-HRSC-5-REFDR-MAPPROJECTED-V3.0"
DATA_SET_NAME = "MARS EXPRESS HRSC MAP PROJECTED REFDR V3.0"
DETECTOR_ID = MEX_HRSC_RED
EVENT_TYPE = "MARS-REGIONAL-MAPPING-Im-Fl"
INSTRUMENT_HOST_ID = MEX
INSTRUMENT_HOST_NAME = "MARS EXPRESS"
INSTRUMENT_ID = HRSC
INSTRUMENT_NAME = "HIGH RESOLUTION STEREO CAMERA"
MISSION_NAME = "MARS EXPRESS"
MISSION_PHASE_NAME = ME_Phase_31
PROCESSING_LEVEL_ID = 3
PRODUCT_CREATION_TIME = 2016-10-29T17:34:02.000Z
PRODUCT_ID = "HD809_0000_RE3.JP2"
RELEASE_ID = 0126
REVISION_ID = 0000
/* QUALITY DATA ELEMENTS */
DATA_QUALITY_ID = 1
DATA_QUALITY_DESC = "Data calculated based on original SPICE kernels"
/* TIME DATA ELEMENTS */
SPACECRAFT_CLOCK_START_COUNT = "1/0364340245.07310"
SPACECRAFT_CLOCK_STOP_COUNT = "1/0364340514.01702"
START_TIME = 2014-11-17T21:39:26.436Z
STOP_TIME = 2014-11-17T21:41:40.000Z
/* ORBITAL DATA ELEMENTS */
ASCENDING_NODE_LONGITUDE = 314.45
MAXIMUM_RESOLUTION = 111.9
FOOTPRINT_POINT_LATITUDE = (28.723,28.7257,28.7283,28.7308,28.7331 ,28.7354,28.7371,28.7392,28.7418, 28.7437,28.7455,28.7472,28.7488,28.6723 ,28.4282,28.1207,27.8114,27.6251, 27.2501,26.8737,26.6208,26.3659,26.1746 ,25.9882,25.7963,25.5994,25.4663,25.337 ,25.1413,25.0104,24.8143,24.6826, 24.5504,24.419,24.2869,24.1533,24.0199, 23.8862,23.6893,23.557,23.4222,23.2873, 23.086,22.9501,22.8148,22.6747,22.5355, 22.3986,22.2931,22.2899,22.2841,22.2799 ,22.274,22.2693,22.2652,22.2604,22.2564 ,22.2516,22.2463,22.2432,22.2396, 22.2355,22.2307,22.3697,22.507,22.6444, 22.7822,22.9188,23.0554,23.1924,23.3275 ,23.4615,23.5949,23.7347,23.943,24.0793 ,24.213,24.3472,24.4771,24.6686,24.7974 ,24.9327,25.1317,25.3876,25.5189,25.65, 25.8448,25.9755,26.1053,26.36,26.678, 26.996,27.2475,27.4366,27.6241,27.8104, 28.1196,28.4292,28.6742,28.723)
FOOTPRINT_POINT_LONGITUDE = (348.784,348.588,348.392,348.196, 347.999,347.803,347.655,347.459,347.213 ,347.016,346.819,346.621,346.423, 346.242,346.237,346.23,346.223,346.218, 346.209,346.199,346.192,346.185,346.18, 346.171,346.165,346.161,346.158,346.154 ,346.148,346.143,346.137,346.132, 346.128,346.123,346.118,346.114,346.109 ,346.104,346.095,346.089,346.084, 346.079,346.07,346.065,346.059,346.055, 346.05,346.045,346.152,346.323,346.608, 346.891,347.118,347.316,347.514,347.712 ,347.853,348.079,348.305,348.445, 348.586,348.784,349.009,349.072,349.069 ,349.065,349.062,349.059,349.056, 349.053,349.05,349.046,349.043,349.041, 349.039,349.037,349.034,349.031,349.027 ,349.02,349.015,349.014,349.01,349.002, 348.999,348.996,348.992,348.99,348.987, 348.98,348.972,348.965,348.959,348.954, 348.95,348.945,348.937,348.929,348.923, 348.784)
ORBIT_NUMBER = 13809
ORBITAL_ECCENTRICITY = 0.571
ORBITAL_INCLINATION = 86.92
ORBITAL_SEMIMAJOR_AXIS = 8778.58
PERIAPSIS_ALTITUDE = 381.19
PERIAPSIS_ARGUMENT_ANGLE = 117.91
PERIAPSIS_TIME = 2014-11-17T21:29:29.000Z
SPACECRAFT_ORIENTATION = (0.0,-1.0,0.0)
^MEX_ORIENTATION_DESC = "MEX_ORIENTATION_DESC.TXT"
SPACECRAFT_POINTING_MODE = ACROSSTRACK
^MEX_POINTING_DESC = "MEX_POINTING_DESC.TXT"
RIGHT_ASCENSION = -1e+32
DECLINATION = -1e+32
OFFSET_ANGLE = -0.25
SPACECRAFT_SOLAR_DISTANCE = 2.07271e+08
TARGET_NAME = MARS
/* CAMERA DATA ELEMENTS */
DETECTOR_TEMPERATURE = 18.9822
FOCAL_PLANE_TEMPERATURE = 8.7872
INST_CMPRS_NAME = "DISCRETE COSINE TRANSFORMATION (DCT)"
INST_CMPRS_RATIO = 23.1851
INST_CMPRS_QUALITY = 0
INST_CMPRS_QUANTZ_TBL_ID = 0
INSTRUMENT_TEMPERATURE = 11.8457
LENS_TEMPERATURE = 9.195
MACROPIXEL_SIZE = 4
MISSING_FRAMES = 0
PIXEL_SUBSAMPLING_FLAG = N
SIGNAL_CHAIN_ID = 2
/* RADIOMETRIC DATA ELEMENTS */
BANDWIDTH = 48.0
CENTER_FILTER_WAVELENGTH = 748.0
RADIANCE_OFFSET = 1.41891
RADIANCE_SCALING_FACTOR = 0.00562419
REFLECTANCE_SCALING_FACTOR = 0.000551397
MEX:REFLECTANCE_OFFSET = 0.13911
/* IMAGE OBJECT DEFINITIONS */
OBJECT = IMAGE
  INTERCHANGE_FORMAT = BINARY
  LINES = 3876
  LINE_SAMPLES = 1527
  SAMPLE_TYPE = UNSIGNED_INTEGER
  SAMPLE_BITS = 8
  BANDS = 1
  BAND_STORAGE_TYPE = BAND_SEQUENTIAL
  MAXIMUM = 255
  MEAN = 106.25
  MINIMUM = 1
  STANDARD_DEVIATION = 21.13
END_OBJECT = IMAGE
/* MAP OBJECT DEFINITIONS */
OBJECT = IMAGE_MAP_PROJECTION
  ^DATA_SET_MAP_PROJECTION_CATALOG= "DSMAP.CAT"
  A_AXIS_RADIUS = 3396.0
  B_AXIS_RADIUS = 3396.0
  C_AXIS_RADIUS = 3396.0
  CENTER_LATITUDE = 0.0
  CENTER_LONGITUDE = 348.0
  COORDINATE_SYSTEM_NAME = PLANETOGRAPHIC
  COORDINATE_SYSTEM_TYPE = "BODY-FIXED ROTATING"
  EASTERNMOST_LONGITUDE = 349.072
  FIRST_STANDARD_PARALLEL = "N/A"
  LINE_FIRST_PIXEL = 1
  LINE_LAST_PIXEL = 3876
  LINE_PROJECTION_OFFSET = 17058.625
  MAP_PROJECTION_ROTATION = 0.0
  MAP_PROJECTION_TYPE = SINUSOIDAL
  MAP_RESOLUTION = 592.713803866667
  MAP_SCALE = 0.1
  MAXIMUM_LATITUDE = 28.7488
  MINIMUM_LATITUDE = 22.2307
  POSITIVE_LONGITUDE_DIRECTION = EAST
  REFERENCE_LATITUDE = "N/A"
  REFERENCE_LONGITUDE = "N/A"
  SAMPLE_FIRST_PIXEL = 1
  SAMPLE_LAST_PIXEL = 1527
  SAMPLE_PROJECTION_OFFSET = 1014.125
  SECOND_STANDARD_PARALLEL = "N/A"
  WESTERNMOST_LONGITUDE = 346.045
END_OBJECT = IMAGE_MAP_PROJECTION
/* The JPEG2000 image data file associated with this label. */
OBJECT = COMPRESSED_FILE
  FILE_NAME = "HD809_0000_RE3.JP2"
  RECORD_TYPE = UNDEFINED
  FILE_RECORDS = UNK
  ENCODING_TYPE = "JP2"
  INTERCHANGE_FORMAT = BINARY
  UNCOMPRESSED_FILE_NAME = "HD809_0000_RE3.IMG"
  REQUIRED_STORAGE_BYTES = "5938503"
  ^DESCRIPTION = "JP2INFO.TXT"
END_OBJECT = COMPRESSED_FILE
END
