PDS_VERSION_ID = PDS3
/* FILE DATA ELEMENTS */
RECORD_TYPE = STREAM
/* POINTERS TO DATA OBJECTS */
^COMPRESSED_FILE = "HD809_0000_S13.JP2"
/* IDENTIFICATION DATA ELEMENTS */
DATA_SET_ID = "MEX-M-HRSC-5-REFDR-MAPPROJECTED-V3.0"
DATA_SET_NAME = "MARS EXPRESS HRSC MAP PROJECTED REFDR V3.0"
DETECTOR_ID = MEX_HRSC_S1
EVENT_TYPE = "MARS-REGIONAL-MAPPING-Im-Fl"
INSTRUMENT_HOST_ID = MEX
INSTRUMENT_HOST_NAME = "MARS EXPRESS"
INSTRUMENT_ID = HRSC
INSTRUMENT_NAME = "HIGH RESOLUTION STEREO CAMERA"
MISSION_NAME = "MARS EXPRESS"
MISSION_PHASE_NAME = ME_Phase_31
PROCESSING_LEVEL_ID = 3
PRODUCT_CREATION_TIME = 2016-10-29T17:34:02.000Z
PRODUCT_ID = "HD809_0000_S13.JP2"
RELEASE_ID = 0126
REVISION_ID = 0000
/* QUALITY DATA ELEMENTS */
DATA_QUALITY_ID = 1
DATA_QUALITY_DESC = "Data calculated based on original SPICE kernels"
/* TIME DATA ELEMENTS */
SPACECRAFT_CLOCK_START_COUNT = "1/0364340245.07310"
SPACECRAFT_CLOCK_STOP_COUNT = "1/0364340514.01702"
START_TIME = 2014-11-17T21:37:31.014Z
STOP_TIME = 2014-11-17T21:39:16.813Z
/* ORBITAL DATA ELEMENTS */
ASCENDING_NODE_LONGITUDE = 314.45
MAXIMUM_RESOLUTION = 48.4
FOOTPRINT_POINT_LATITUDE = (28.8362,28.8355,28.8345,28.8331, 28.8313,28.8291,28.8258,28.8228,28.8194 ,28.8156,28.8115,28.8069,28.7508, 28.5697,28.2651,28.0213,27.652,27.4043, 27.1574,26.9691,26.6544,26.403,26.2749, 26.1488,25.9575,25.8295,25.7022,25.5726 ,25.443,25.2487,25.055,24.8588,24.7276, 24.596,24.465,24.3338,24.2006,24.0007, 23.868,23.7345,23.6,23.3967,23.26, 23.0556,22.9195,22.7852,22.6481,22.4426 ,22.2369,22.2397,22.2409,22.2432, 22.2495,22.251,22.2524,22.2547,22.2549, 22.2548,22.254,22.2532,22.2525,22.3923, 22.5306,22.6676,22.8047,22.9412,23.0787 ,23.2147,23.3497,23.4853,23.6223, 23.7592,23.8934,24.0875,24.2192,24.3536 ,24.5551,24.6902,24.8208,24.9529, 25.0845,25.2128,25.3423,25.5359,25.6658 ,25.7942,25.922,26.0487,26.2407,26.3701 ,26.4967,26.7482,27.0629,27.3129, 27.6856,27.9344,28.1792,28.4848,28.7281 ,28.8362)
FOOTPRINT_POINT_LONGITUDE = (348.582,348.409,348.235,348.062, 347.888,347.714,347.497,347.323,347.149 ,346.974,346.799,346.624,346.442,346.44 ,346.436,346.433,346.428,346.424, 346.421,346.418,346.413,346.408,346.406 ,346.404,346.401,346.398,346.395, 346.393,346.39,346.386,346.382,346.378, 346.375,346.372,346.369,346.366,346.363 ,346.358,346.355,346.352,346.348, 346.343,346.339,346.332,346.329,346.326 ,346.322,346.316,346.311,346.48,346.77, 346.94,347.207,347.376,347.617,347.906, 348.099,348.267,348.46,348.628,348.805, 348.803,348.802,348.8,348.799,348.798, 348.797,348.795,348.794,348.792,348.791 ,348.789,348.787,348.786,348.785, 348.784,348.781,348.778,348.777,348.775 ,348.774,348.773,348.771,348.769, 348.768,348.766,348.765,348.763,348.761 ,348.759,348.757,348.754,348.75,348.747 ,348.741,348.737,348.734,348.729, 348.726,348.582)
ORBIT_NUMBER = 13809
ORBITAL_ECCENTRICITY = 0.571
ORBITAL_INCLINATION = 86.92
ORBITAL_SEMIMAJOR_AXIS = 8778.58
PERIAPSIS_ALTITUDE = 381.19
PERIAPSIS_ARGUMENT_ANGLE = 117.91
PERIAPSIS_TIME = 2014-11-17T21:29:29.000Z
SPACECRAFT_ORIENTATION = (0.0,-1.0,0.0)
^MEX_ORIENTATION_DESC = "MEX_ORIENTATION_DESC.TXT"
SPACECRAFT_POINTING_MODE = ACROSSTRACK
^MEX_POINTING_DESC = "MEX_POINTING_DESC.TXT"
RIGHT_ASCENSION = -1e+32
DECLINATION = -1e+32
OFFSET_ANGLE = -0.25
SPACECRAFT_SOLAR_DISTANCE = 2.07271e+08
TARGET_NAME = MARS
/* CAMERA DATA ELEMENTS */
DETECTOR_TEMPERATURE = 17.7588
FOCAL_PLANE_TEMPERATURE = 8.7872
INST_CMPRS_NAME = "DISCRETE COSINE TRANSFORMATION (DCT)"
INST_CMPRS_RATIO = 11.7821
INST_CMPRS_QUALITY = 0
INST_CMPRS_QUANTZ_TBL_ID = 0
INSTRUMENT_TEMPERATURE = 11.8457
LENS_TEMPERATURE = 9.195
MACROPIXEL_SIZE = 2
MISSING_FRAMES = 0
PIXEL_SUBSAMPLING_FLAG = N
SIGNAL_CHAIN_ID = 1
/* RADIOMETRIC DATA ELEMENTS */
BANDWIDTH = 180.0
CENTER_FILTER_WAVELENGTH = 677.0
RADIANCE_OFFSET = 6.18732
RADIANCE_SCALING_FACTOR = 0.0153246
REFLECTANCE_SCALING_FACTOR = 0.000343484
MEX:REFLECTANCE_OFFSET = 0.138682
/* IMAGE OBJECT DEFINITIONS */
OBJECT = IMAGE
  INTERCHANGE_FORMAT = BINARY
  LINES = 7751
  LINE_SAMPLES = 3054
  SAMPLE_TYPE = UNSIGNED_INTEGER
  SAMPLE_BITS = 8
  BANDS = 1
  BAND_STORAGE_TYPE = BAND_SEQUENTIAL
  MAXIMUM = 255
  MEAN = 109.903
  MINIMUM = 1
  STANDARD_DEVIATION = 24.2516
END_OBJECT = IMAGE
/* MAP OBJECT DEFINITIONS */
OBJECT = IMAGE_MAP_PROJECTION
  ^DATA_SET_MAP_PROJECTION_CATALOG= "DSMAP.CAT"
  A_AXIS_RADIUS = 3396.0
  B_AXIS_RADIUS = 3396.0
  C_AXIS_RADIUS = 3396.0
  CENTER_LATITUDE = 0.0
  CENTER_LONGITUDE = 348.0
  COORDINATE_SYSTEM_NAME = PLANETOGRAPHIC
  COORDINATE_SYSTEM_TYPE = "BODY-FIXED ROTATING"
  EASTERNMOST_LONGITUDE = 348.805
  FIRST_STANDARD_PARALLEL = "N/A"
  LINE_FIRST_PIXEL = 1
  LINE_LAST_PIXEL = 7751
  LINE_PROJECTION_OFFSET = 34117.75
  MAP_PROJECTION_ROTATION = 0.0
  MAP_PROJECTION_TYPE = SINUSOIDAL
  MAP_RESOLUTION = 1185.42760773333
  MAP_SCALE = 0.05
  MAXIMUM_LATITUDE = 28.8362
  MINIMUM_LATITUDE = 22.2369
  POSITIVE_LONGITUDE_DIRECTION = EAST
  REFERENCE_LATITUDE = "N/A"
  REFERENCE_LONGITUDE = "N/A"
  SAMPLE_FIRST_PIXEL = 1
  SAMPLE_LAST_PIXEL = 3054
  SAMPLE_PROJECTION_OFFSET = 2028.75
  SECOND_STANDARD_PARALLEL = "N/A"
  WESTERNMOST_LONGITUDE = 346.311
END_OBJECT = IMAGE_MAP_PROJECTION
/* The JPEG2000 image data file associated with this label. */
OBJECT = COMPRESSED_FILE
  FILE_NAME = "HD809_0000_S13.JP2"
  RECORD_TYPE = UNDEFINED
  FILE_RECORDS = UNK
  ENCODING_TYPE = "JP2"
  INTERCHANGE_FORMAT = BINARY
  UNCOMPRESSED_FILE_NAME = "HD809_0000_S13.IMG"
  REQUIRED_STORAGE_BYTES = "23695986"
  ^DESCRIPTION = "JP2INFO.TXT"
END_OBJECT = COMPRESSED_FILE
END
