PDS_VERSION_ID = PDS3
/* FILE DATA ELEMENTS */
RECORD_TYPE = STREAM
/* POINTERS TO DATA OBJECTS */
^COMPRESSED_FILE = "HD811_0000_P23.JP2"
/* IDENTIFICATION DATA ELEMENTS */
DATA_SET_ID = "MEX-M-HRSC-5-REFDR-MAPPROJECTED-V3.0"
DATA_SET_NAME = "MARS EXPRESS HRSC MAP PROJECTED REFDR V3.0"
DETECTOR_ID = MEX_HRSC_P2
EVENT_TYPE = "MARS-REGIONAL-MAPPING-Im-Pf"
INSTRUMENT_HOST_ID = MEX
INSTRUMENT_HOST_NAME = "MARS EXPRESS"
INSTRUMENT_ID = HRSC
INSTRUMENT_NAME = "HIGH RESOLUTION STEREO CAMERA"
MISSION_NAME = "MARS EXPRESS"
MISSION_PHASE_NAME = ME_Phase_31
PROCESSING_LEVEL_ID = 3
PRODUCT_CREATION_TIME = 2016-10-29T17:34:02.000Z
PRODUCT_ID = "HD811_0000_P23.JP2"
RELEASE_ID = 0126
REVISION_ID = 0000
/* QUALITY DATA ELEMENTS */
DATA_QUALITY_ID = 1
DATA_QUALITY_DESC = "Data calculated based on original SPICE kernels"
/* TIME DATA ELEMENTS */
SPACECRAFT_CLOCK_START_COUNT = "1/0364390261.07346"
SPACECRAFT_CLOCK_STOP_COUNT = "1/0364390446.30471"
START_TIME = 2014-11-18T11:32:09.536Z
STOP_TIME = 2014-11-18T11:33:54.181Z
/* ORBITAL DATA ELEMENTS */
ASCENDING_NODE_LONGITUDE = 314.41
MAXIMUM_RESOLUTION = 34.9
FOOTPRINT_POINT_LATITUDE = (49.7924,49.782,49.7762,49.7655,49.7556 ,49.742,49.565,49.3245,49.0787,48.8944, 48.7102,48.5265,48.2204,47.8537,47.7311 ,47.5436,47.4187,47.2937,47.1685, 47.0438,46.9193,46.7953,46.6709,46.5467 ,46.4225,46.2969,46.1696,46.0427, 45.8523,45.7252,45.5984,45.4716,45.345, 45.2183,45.0919,44.9632,44.8339,44.7046 ,44.511,44.3822,44.2535,44.0605,43.9317 ,43.7353,43.5027,43.5075,43.5115, 43.5155,43.5191,43.5244,43.53,43.5327, 43.5353,43.5379,43.5408,43.6747,43.8063 ,43.9379,44.0666,44.1955,44.3247, 44.4539,44.5834,44.7131,44.9075,45.037, 45.1655,45.2923,45.4194,45.5464,45.6737 ,45.8645,46.0555,46.183,46.3106,46.4371 ,46.5618,46.6867,46.8115,46.9366, 47.0616,47.1868,47.3119,47.4373,47.6254 ,47.7508,47.8744,48.1198,48.3038, 48.4266,48.5496,48.7342,48.8572,48.9804 ,49.1036,49.227,49.3501,49.591,49.7717, 49.7924)
FOOTPRINT_POINT_LONGITUDE = (143.595,143.122,142.886,142.478, 142.135,141.705,141.665,141.683,141.701 ,141.713,141.726,141.737,141.757, 141.779,141.787,141.798,141.805,141.812 ,141.819,141.826,141.833,141.839, 141.846,141.852,141.858,141.865,141.871 ,141.877,141.886,141.893,141.899, 141.904,141.91,141.916,141.921,141.927, 141.932,141.938,141.946,141.951,141.955 ,141.963,141.968,141.975,141.983, 142.181,142.358,142.535,142.711,142.998 ,143.33,143.506,143.683,143.882,144.103 ,144.261,144.255,144.25,144.244,144.239 ,144.233,144.228,144.223,144.217, 144.209,144.203,144.197,144.192,144.186 ,144.181,144.175,144.166,144.157, 144.152,144.146,144.14,144.134,144.128, 144.122,144.116,144.11,144.104,144.097, 144.091,144.082,144.075,144.069,144.056 ,144.047,144.04,144.034,144.024,144.017 ,144.01,144.003,143.996,143.99,143.976, 143.966,143.595)
ORBIT_NUMBER = 13811
ORBITAL_ECCENTRICITY = 0.572
ORBITAL_INCLINATION = 86.91
ORBITAL_SEMIMAJOR_AXIS = 8780.48
PERIAPSIS_ALTITUDE = 381.88
PERIAPSIS_ARGUMENT_ANGLE = 117.59
PERIAPSIS_TIME = 2014-11-18T11:28:28.000Z
SPACECRAFT_ORIENTATION = (0.0,-1.0,0.0)
^MEX_ORIENTATION_DESC = "MEX_ORIENTATION_DESC.TXT"
SPACECRAFT_POINTING_MODE = NADIR
^MEX_POINTING_DESC = "MEX_POINTING_DESC.TXT"
RIGHT_ASCENSION = -1e+32
DECLINATION = -1e+32
OFFSET_ANGLE = -1e+32
SPACECRAFT_SOLAR_DISTANCE = 2.07241e+08
TARGET_NAME = MARS
/* CAMERA DATA ELEMENTS */
DETECTOR_TEMPERATURE = 19.1861
FOCAL_PLANE_TEMPERATURE = 8.7872
INST_CMPRS_NAME = "DISCRETE COSINE TRANSFORMATION (DCT)"
INST_CMPRS_RATIO = 6.57914
INST_CMPRS_QUALITY = 0
INST_CMPRS_QUANTZ_TBL_ID = 0
INSTRUMENT_TEMPERATURE = 11.6418
LENS_TEMPERATURE = 9.3989
MACROPIXEL_SIZE = 2
MISSING_FRAMES = 0
PIXEL_SUBSAMPLING_FLAG = N
SIGNAL_CHAIN_ID = 3
/* RADIOMETRIC DATA ELEMENTS */
BANDWIDTH = 177.0
CENTER_FILTER_WAVELENGTH = 676.5
RADIANCE_OFFSET = 2.75849
RADIANCE_SCALING_FACTOR = 0.00938586
REFLECTANCE_SCALING_FACTOR = 0.000213738
MEX:REFLECTANCE_OFFSET = 0.0628172
/* IMAGE OBJECT DEFINITIONS */
OBJECT = IMAGE
  INTERCHANGE_FORMAT = BINARY
  LINES = 15067
  LINE_SAMPLES = 4130
  SAMPLE_TYPE = UNSIGNED_INTEGER
  SAMPLE_BITS = 8
  BANDS = 1
  BAND_STORAGE_TYPE = BAND_SEQUENTIAL
  MAXIMUM = 255
  MEAN = 119.434
  MINIMUM = 1
  STANDARD_DEVIATION = 53.3971
END_OBJECT = IMAGE
/* MAP OBJECT DEFINITIONS */
OBJECT = IMAGE_MAP_PROJECTION
  ^DATA_SET_MAP_PROJECTION_CATALOG= "DSMAP.CAT"
  A_AXIS_RADIUS = 3396.0
  B_AXIS_RADIUS = 3396.0
  C_AXIS_RADIUS = 3396.0
  CENTER_LATITUDE = 0.0
  CENTER_LONGITUDE = 143.0
  COORDINATE_SYSTEM_NAME = PLANETOGRAPHIC
  COORDINATE_SYSTEM_TYPE = "BODY-FIXED ROTATING"
  EASTERNMOST_LONGITUDE = 144.261
  FIRST_STANDARD_PARALLEL = "N/A"
  LINE_FIRST_PIXEL = 1
  LINE_LAST_PIXEL = 15067
  LINE_PROJECTION_OFFSET = 118158.25
  MAP_PROJECTION_ROTATION = 0.0
  MAP_PROJECTION_TYPE = SINUSOIDAL
  MAP_RESOLUTION = 2370.85521546667
  MAP_SCALE = 0.025
  MAXIMUM_LATITUDE = 49.7924
  MINIMUM_LATITUDE = 43.5027
  POSITIVE_LONGITUDE_DIRECTION = EAST
  REFERENCE_LATITUDE = "N/A"
  REFERENCE_LONGITUDE = "N/A"
  SAMPLE_FIRST_PIXEL = 1
  SAMPLE_LAST_PIXEL = 4130
  SAMPLE_PROJECTION_OFFSET = 2035.75
  SECOND_STANDARD_PARALLEL = "N/A"
  WESTERNMOST_LONGITUDE = 141.665
END_OBJECT = IMAGE_MAP_PROJECTION
/* The JPEG2000 image data file associated with this label. */
OBJECT = COMPRESSED_FILE
  FILE_NAME = "HD811_0000_P23.JP2"
  RECORD_TYPE = UNDEFINED
  FILE_RECORDS = UNK
  ENCODING_TYPE = "JP2"
  INTERCHANGE_FORMAT = BINARY
  UNCOMPRESSED_FILE_NAME = "HD811_0000_P23.IMG"
  REQUIRED_STORAGE_BYTES = "62251490"
  ^DESCRIPTION = "JP2INFO.TXT"
END_OBJECT = COMPRESSED_FILE
END
