PDS_VERSION_ID = PDS3
/* FILE DATA ELEMENTS */
RECORD_TYPE = STREAM
/* POINTERS TO DATA OBJECTS */
^COMPRESSED_FILE = "HD812_0000_ND3.JP2"
/* IDENTIFICATION DATA ELEMENTS */
DATA_SET_ID = "MEX-M-HRSC-5-REFDR-MAPPROJECTED-V3.0"
DATA_SET_NAME = "MARS EXPRESS HRSC MAP PROJECTED REFDR V3.0"
DETECTOR_ID = MEX_HRSC_NADIR
EVENT_TYPE = "MARS-REGIONAL-MAPPING-Te-Im-Pf"
INSTRUMENT_HOST_ID = MEX
INSTRUMENT_HOST_NAME = "MARS EXPRESS"
INSTRUMENT_ID = HRSC
INSTRUMENT_NAME = "HIGH RESOLUTION STEREO CAMERA"
MISSION_NAME = "MARS EXPRESS"
MISSION_PHASE_NAME = ME_Phase_31
PROCESSING_LEVEL_ID = 3
PRODUCT_CREATION_TIME = 2016-10-29T17:34:02.000Z
PRODUCT_ID = "HD812_0000_ND3.JP2"
RELEASE_ID = 0126
REVISION_ID = 0000
/* QUALITY DATA ELEMENTS */
DATA_QUALITY_ID = 1
DATA_QUALITY_DESC = "Data calculated based on original SPICE kernels"
/* TIME DATA ELEMENTS */
SPACECRAFT_CLOCK_START_COUNT = "1/0364415357.07335"
SPACECRAFT_CLOCK_STOP_COUNT = "1/0364415562.63792"
START_TIME = 2014-11-18T18:29:58.405Z
STOP_TIME = 2014-11-18T18:32:04.404Z
/* ORBITAL DATA ELEMENTS */
ASCENDING_NODE_LONGITUDE = 314.38
MAXIMUM_RESOLUTION = 15.8
FOOTPRINT_POINT_LATITUDE = (54.5761,54.562,54.5516,54.537,54.5165, 54.3489,54.1914,54.034,53.8766,53.7193, 53.562,53.4047,53.2475,53.0903,52.9332, 52.7761,52.6191,52.4621,52.3052,52.1483 ,51.9915,51.8347,51.678,51.5213,51.2081 ,50.8951,50.5824,50.2699,49.9577, 49.6457,49.486,49.326,49.166,49.0062, 48.8463,48.6866,48.5269,48.3673,48.2078 ,48.0484,47.889,47.6456,47.4822,47.319, 47.1558,46.9927,46.8297,46.6668,46.5807 ,46.5909,46.6009,46.6077,46.6162, 46.7825,46.9459,47.1095,47.2731,47.4368 ,47.6006,47.7644,47.9271,48.0869, 48.2468,48.4068,48.5669,48.7271,48.8873 ,49.0476,49.208,49.3685,49.529,49.6896, 50.0026,50.3158,50.4725,50.7078,50.8646 ,51.0215,51.1785,51.3356,51.4927, 51.6499,51.8071,51.9644,52.1218,52.2792 ,52.4366,52.5942,52.7517,52.9093,53.067 ,53.2247,53.3825,53.5404,53.7773,54.014 ,54.172,54.3301,54.4882,54.5761)
FOOTPRINT_POINT_LONGITUDE = (41.1006,40.5832,40.2459,39.8193, 39.2801,39.011,39.0292,39.0471,39.0648, 39.0821,39.0992,39.1161,39.1327,39.149, 39.1652,39.1812,39.1971,39.2125,39.2281 ,39.2429,39.2575,39.2721,39.2865, 39.3006,39.3279,39.3547,39.381,39.406, 39.4304,39.4554,39.4662,39.4777,39.4891 ,39.5002,39.5122,39.5222,39.5329, 39.5434,39.5536,39.5638,39.5737,39.5885 ,39.5983,39.6079,39.6173,39.6266, 39.6358,39.6448,40.0854,40.4538,40.8656 ,41.1906,41.669,41.8466,41.8391,41.8312 ,41.8238,41.816,41.8079,41.7999,41.7918 ,41.7836,41.7757,41.7675,41.7596, 41.7514,41.7428,41.7343,41.7253,41.7168 ,41.7082,41.6994,41.6816,41.6638, 41.6545,41.6414,41.6309,41.6219,41.6125 ,41.6029,41.5932,41.5834,41.5734, 41.5633,41.5531,41.5427,41.5322,41.5216 ,41.511,41.5001,41.4891,41.4781,41.4666 ,41.4572,41.4415,41.4208,41.4092, 41.3973,41.3854,41.1006)
ORBIT_NUMBER = 13812
ORBITAL_ECCENTRICITY = 0.572
ORBITAL_INCLINATION = 86.91
ORBITAL_SEMIMAJOR_AXIS = 8781.8
PERIAPSIS_ALTITUDE = 381.47
PERIAPSIS_ARGUMENT_ANGLE = 117.42
PERIAPSIS_TIME = 2014-11-18T18:27:55.000Z
SPACECRAFT_ORIENTATION = (0.0,-1.0,0.0)
^MEX_ORIENTATION_DESC = "MEX_ORIENTATION_DESC.TXT"
SPACECRAFT_POINTING_MODE = NADIR
^MEX_POINTING_DESC = "MEX_POINTING_DESC.TXT"
RIGHT_ASCENSION = -1e+32
DECLINATION = -1e+32
OFFSET_ANGLE = -1e+32
SPACECRAFT_SOLAR_DISTANCE = 2.07226e+08
TARGET_NAME = MARS
/* CAMERA DATA ELEMENTS */
DETECTOR_TEMPERATURE = 18.5744
FOCAL_PLANE_TEMPERATURE = 9.3989
INST_CMPRS_NAME = "DISCRETE COSINE TRANSFORMATION (DCT)"
INST_CMPRS_RATIO = 6.52643
INST_CMPRS_QUALITY = 0
INST_CMPRS_QUANTZ_TBL_ID = 0
INSTRUMENT_TEMPERATURE = 11.8457
LENS_TEMPERATURE = 8.1755
MACROPIXEL_SIZE = 1
MISSING_FRAMES = 0
PIXEL_SUBSAMPLING_FLAG = N
SIGNAL_CHAIN_ID = 0
/* RADIOMETRIC DATA ELEMENTS */
BANDWIDTH = 177.0
CENTER_FILTER_WAVELENGTH = 677.5
RADIANCE_OFFSET = 1.53046
RADIANCE_SCALING_FACTOR = 0.012521
REFLECTANCE_SCALING_FACTOR = 0.000285635
MEX:REFLECTANCE_OFFSET = 0.0349136
/* IMAGE OBJECT DEFINITIONS */
OBJECT = IMAGE
  INTERCHANGE_FORMAT = BINARY
  LINES = 38004
  LINE_SAMPLES = 8338
  SAMPLE_TYPE = UNSIGNED_INTEGER
  SAMPLE_BITS = 8
  BANDS = 1
  BAND_STORAGE_TYPE = BAND_SEQUENTIAL
  MAXIMUM = 255
  MEAN = 104.255
  MINIMUM = 1
  STANDARD_DEVIATION = 38.9406
END_OBJECT = IMAGE
/* MAP OBJECT DEFINITIONS */
OBJECT = IMAGE_MAP_PROJECTION
  ^DATA_SET_MAP_PROJECTION_CATALOG= "DSMAP.CAT"
  A_AXIS_RADIUS = 3396.0
  B_AXIS_RADIUS = 3396.0
  C_AXIS_RADIUS = 3396.0
  CENTER_LATITUDE = 0.0
  CENTER_LONGITUDE = 41.0
  COORDINATE_SYSTEM_NAME = PLANETOGRAPHIC
  COORDINATE_SYSTEM_TYPE = "BODY-FIXED ROTATING"
  EASTERNMOST_LONGITUDE = 41.8466
  FIRST_STANDARD_PARALLEL = "N/A"
  LINE_FIRST_PIXEL = 1
  LINE_LAST_PIXEL = 38004
  LINE_PROJECTION_OFFSET = 258810.0
  MAP_PROJECTION_ROTATION = 0.0
  MAP_PROJECTION_TYPE = SINUSOIDAL
  MAP_RESOLUTION = 4741.71043093333
  MAP_SCALE = 0.0125
  MAXIMUM_LATITUDE = 54.5761
  MINIMUM_LATITUDE = 46.5807
  POSITIVE_LONGITUDE_DIRECTION = EAST
  REFERENCE_LATITUDE = "N/A"
  REFERENCE_LONGITUDE = "N/A"
  SAMPLE_FIRST_PIXEL = 1
  SAMPLE_LAST_PIXEL = 8338
  SAMPLE_PROJECTION_OFFSET = 5562.0
  SECOND_STANDARD_PARALLEL = "N/A"
  WESTERNMOST_LONGITUDE = 39.011
END_OBJECT = IMAGE_MAP_PROJECTION
/* The JPEG2000 image data file associated with this label. */
OBJECT = COMPRESSED_FILE
  FILE_NAME = "HD812_0000_ND3.JP2"
  RECORD_TYPE = UNDEFINED
  FILE_RECORDS = UNK
  ENCODING_TYPE = "JP2"
  INTERCHANGE_FORMAT = BINARY
  UNCOMPRESSED_FILE_NAME = "HD812_0000_ND3.IMG"
  REQUIRED_STORAGE_BYTES = "316910704"
  ^DESCRIPTION = "JP2INFO.TXT"
END_OBJECT = COMPRESSED_FILE
END
